{"text_format":"1","workbook":"xlsx","n_sheets":4,"sheets":["Congreso","Senado","MAPAS","Hoja3"],"not_rendered":{"charts":2,"images":1,"macros":1,"external_links":0,"defined_names":0,"comments":0,"pivot_tables":0},"unopened":[],"bounds":{"document_bytes":16777216,"sheet_cells":100000,"rows_first":2000,"rows_last":500,"rows_between":2000,"halvings":0,"cell_chars":16384,"cell_head_chars":4096},"cells_cut":0,"cells_raw":0,"read":"whole","date_system":"1900"}

{"sheet":"Congreso","index":0,"n_rows":608,"n_cols":35,"rows_kept":608,"cut":false,"hidden":false,"merged":[[4,23,6,23],[4,27,4,32],[4,18,6,18],[5,13,5,14],[4,3,4,15],[4,21,6,21],[4,19,6,19],[4,22,6,22],[4,20,6,20],[5,3,5,4],[5,5,5,6],[5,7,5,8],[5,9,5,10],[5,11,5,12],[4,24,6,24]]}
[]
[null,null,"v3.0",null,null,null,null,null,null,null,null,null,null,"Calculadora de circunscripciones electorales españolas",null,null,null,null,null,null,null,null,"CONGRESO"]
[null,null,null,null,null,null,null,null,null,null,"www.Electomania.es",null,null,null,null,"Hecho por Lutxana "]
[null,null,null,null,null,null,null,null,null,null,null,null,null,null,null,"Mejorado por Johnniezq"]
[null,null,null,"Extrapolación por circunscripciones",null,null,null,null,null,null,null,null,null,null,null,null,null,null,"PARTIDO","20D %","20D escaños","Previsión %","Cociente","Previsión escaños","Dif.",null,null,"20D"]
[null,"ESC.","CIRCUNSCRIPCIÓN","PP",null,"PSOE",null,"UP",null,"C's",null,"Terr1",null,"Terr2",null,null,null,null,null,null,null,null,null,null,null,null,null,"PP","PSOE","UP","C's","Terr1","Terr2"]
[null,8,"A Coruña",{"$f":"AB7*W$8","v":0.35465285515320327},{"$f":"D71","v":3},{"$f":"AC7*W$9","v":0.20142253521126763},{"$f":"F71","v":2},{"$f":"AD7*W10","v":0.25951573355128726},{"$f":"H71","v":2},{"$f":"AE7*W$14","v":0.10528930366116293},{"$f":"J71","v":1},{"$f":"AF7*W$19","v":4.5499999999999999E-2},{"$f":"L71","v":0},null,null,"NÓS",null,null,null,null,null,null,null,null,null,null,null,0.35489999999999999,0.20430000000000001,0.26350000000000001,9.9099999999999994E-2,4.5499999999999999E-2,null,"NÓS"]
[null,4,"Albacete",0.36824338440111415,{"$f":"D79","v":2},0.27763380281690142,{"$f":"F79","v":1},{"$f":"AD8*W$10","v":0.17658888434818143},{"$f":"H79","v":1},0.15479971284996408,{"$f":"J79","v":0},null,null,null,null,null,null,null,"PP",0.28720000000000001,123,0.28699999999999998,{"$f":"V8/T8","v":0.99930362116991633},{"$f":"E59","v":115},{"$f":"X8-U8","v":-8},null,null,0.36849999999999999,0.28160000000000002,0.17929999999999999,0.1457]
[null,12,"Alicante / Alacant",0.32827123955431753,{"$f":"D95","v":4},0.20566197183098592,{"$f":"F95","v":3},0.25537923988557415,{"$f":"H95","v":3},0.18114860014357501,{"$f":"J95","v":2},null,null,null,null,null,null,null,"PSOE",0.22009999999999999,90,0.217,{"$f":"V9/T9","v":0.9859154929577465},{"$f":"G59","v":84},{"$f":"X9-U9","v":-6},null,null,0.32850000000000001,0.20860000000000001,0.25929999999999997,0.17050000000000001]
[null,6,"Almería",0.3801350974930362,{"$f":"D105","v":2},0.2843380281690141,{"$f":"F105","v":2},0.1603383735185942,{"$f":"H105","v":1},0.15256855707106962,{"$f":"J105","v":1},null,null,null,null,null,null,null,"UP",0.2447,44,0.24099999999999999,{"$f":"V10/T10","v":0.98487944421740903},{"$f":"SUM(Z10:Z13)","v":86},{"$f":"X10-U10-U11-U12-U13","v":15},{"$f":"I59-Z11-Z12-Z13","v":59},null,0.38040000000000002,0.28839999999999999,0.1628,0.14360000000000001]
[null,4,"Araba - Álava",0.18786908077994427,{"$f":"D113","v":1},0.13950704225352112,{"$f":"F113","v":0},0.303342868818962,{"$f":"H113","v":2},6.2259870782483837E-2,{"$f":"J113","v":0},{"$f":"AF11*W$16","v":0.15472932330827069},{"$f":"L113","v":1},{"$f":"AG11*W$17","v":0.12258620689655172},{"$f":"N113","v":0},"PNV","BILDU",null,"En Comú Podem",null,12,null,null,null,{"$f":"Z11-U11","v":0},{"$f":"I15+I27+I37+I52","v":12},null,0.188,0.14149999999999999,0.308,5.8599999999999999E-2,0.1583,0.11849999999999999,"PNV","BILDU"]
[null,8,"Asturias",0.30129004178272978,{"$f":"D125","v":3},0.2294225352112676,{"$f":"F125","v":2},0.29329709848794444,{"$f":"H125","v":2},0.14406891600861446,{"$f":"J125","v":1},null,null,null,null,null,null,null,"A la Valenciana",null,9,null,null,null,{"$f":"Z12-U12","v":0},{"$f":"I9+I21+I55","v":9},null,0.30149999999999999,0.23269999999999999,0.29780000000000001,0.1356]
[null,3,"Ávila",0.4620779944289693,{"$f":"D132","v":2},0.19540845070422536,{"$f":"F132","v":1},0.15265631385369841,{"$f":"H132","v":0},0.16627422828427851,{"$f":"J132","v":0},null,null,null,null,null,null,null,"En Marea",null,6,null,null,null,{"$f":"Z13-U13","v":0},{"$f":"I7+I38+I44+I46","v":6},null,0.46239999999999998,0.19819999999999999,0.155,0.1565]
[null,6,"Badajoz",0.3446598189415041,{"$f":"D142","v":2},0.36685915492957744,{"$f":"F142","v":3},0.14694401307723742,{"$f":"H142","v":1},0.12058865757358218,{"$f":"J142","v":0},null,null,null,null,null,null,null,"C´s",0.13930000000000001,40,0.14799999999999999,{"$f":"V14/T14","v":1.0624551328068914},{"$f":"K59","v":39},-1,null,null,0.34489999999999998,0.37209999999999999,0.1492,0.1135]
[null,31,"Barcelona",0.11262151810584957,{"$f":"D177","v":3},0.16040845070422535,{"$f":"F177","v":5},0.26503105843890479,{"$f":"H177","v":9},0.14396267049533379,{"$f":"J177","v":5},{"$f":"AF15*W$15","v":0.14722222222222223},{"$f":"L177","v":5},{"$f":"AG15*W$18","v":0.13934728033472804},{"$f":"N177","v":4},"DiL","ERC",null,"DiL",2.2499999999999999E-2,8,2.5000000000000001E-2,1.1111111111111112,{"$f":"M15+M27+M37+M52","v":10},2,null,null,0.11269999999999999,0.16270000000000001,0.26910000000000001,0.13550000000000001,0.13250000000000001,0.14480000000000001,"DiL","ERC"]
[null,8,"Bizkaia",0.11372075208913647,{"$f":"D189","v":1},0.12787323943661974,{"$f":"F189","v":1},0.28482713526767472,{"$f":"H189","v":3},4.0692031586503939E-2,{"$f":"J189","v":0},{"$f":"AF16*W$16","v":0.27300000000000002},{"$f":"L189","v":2},{"$f":"AG16*W$17","v":0.12931034482758622},{"$f":"N189","v":1},"PNV","BILDU",null,"PNV",1.3299999999999999E-2,6,1.2999999999999999E-2,0.97744360902255645,{"$f":"M11+M26+M16","v":5},-1,null,null,0.1138,0.12970000000000001,0.28920000000000001,3.8300000000000001E-2,0.27929999999999999,0.125,"PNV","BILDU"]
[null,4,"Burgos",0.38053481894150415,{"$f":"D197","v":2},0.20418309859154932,{"$f":"F197","v":1},0.21421127911728646,{"$f":"H197","v":1},0.16510552763819095,{"$f":"J197","v":0},null,null,null,null,null,null,null,"BILDU",8.6999999999999994E-3,2,8.9999999999999993E-3,1.0344827586206897,{"$f":"O16+O26+O11+O43","v":2},0,null,null,0.38080000000000003,0.20710000000000001,0.2175,0.15540000000000001]
[null,4,"Cáceres",0.35325383008356542,{"$f":"D205","v":2},0.33580281690140845,{"$f":"F205","v":2},0.16575521046178995,{"$f":"H205","v":0},0.12111988513998563,{"$f":"J205","v":0},null,null,null,null,null,null,null,"ERC",2.3900000000000001E-2,9,2.3E-2,0.96234309623430958,{"$f":"O15+O27+O9+O21+O32+O55+O37+O52","v":8},-1,null,null,0.35349999999999998,0.34060000000000001,0.16830000000000001,0.114]
[null,9,"Cádiz",0.27730675487465178,{"$f":"D218","v":3},0.27605633802816903,{"$f":"F218","v":3},0.25793992644053942,{"$f":"H218","v":2},0.15596841349605167,{"$f":"J218","v":1},null,null,null,null,null,null,null,"NÓS",2.8E-3,0,2.8E-3,1,{"$f":"M7+M38+M44+M46","v":0},0,null,null,0.27750000000000002,0.28000000000000003,0.26190000000000002,0.14680000000000001]
[null,5,"Cantabria",0.36914275766016708,{"$f":"D227","v":2},0.22104225352112677,{"$f":"F227","v":1},0.21923416428279524,{"$f":"H227","v":1},0.16202440775305094,{"$f":"J227","v":1},null,null,null,null,null,null,null,"CC",3.3E-3,1,4.0000000000000001E-3,1.2121212121212122,{"$f":"M35+M48","v":1},0,null,null,0.36940000000000001,0.22420000000000001,0.22259999999999999,0.1525]
[null,5,"Castellón / Castelló",0.31827820334261836,{"$f":"D236","v":2},0.21216901408450706,{"$f":"F236","v":1},0.26808418471597872,{"$f":"H236","v":1},0.16595549174443644,{"$f":"J236","v":1},null,null,null,null,null,null,null,"G.Bai",1.1999999999999999E-3,0,1.1999999999999999E-3,1,{"$f":"M43","v":0},0,null,null,0.31850000000000001,0.2152,0.2722,0.15620000000000001]
[null,1,"Ceuta",0.44858739554317545,1,0.2274507042253521,0,0.15127748263179402,0,0.14120028715003585,0,null,null,null,null,null,null,null,"TOTAL",{"$f":"SUM(T8:T21)","v":0.96699999999999997},{"$f":"SUM(U8:U21)","v":350},{"$f":"SUM(V8:V21)","v":0.97100000000000009},{"$f":"PRODUCT(W8:W21)","v":1.3510744149164375},{"$f":"SUM(X8:X21)","v":350},null,null,null,0.44890000000000002,0.23069999999999999,0.15359999999999999,0.13289999999999999]
[null,5,"Ciudad Real",0.38393245125348185,{"$f":"D245","v":2},0.30691549295774651,{"$f":"F245","v":2},0.15531548835308542,{"$f":"H245","v":1},0.13100071787508971,{"$f":"J245","v":0},null,null,null,null,null,null,null,"VER MAPAS AQUÍ",null,"Consultar datos del 20D -------------------------------->",null,null,null,null,null,null,0.38419999999999999,0.31130000000000002,0.15770000000000001,0.12330000000000001]
[null,6,"Cordoba",0.30388823119777153,{"$f":"D255","v":2},0.31608450704225355,{"$f":"F255","v":2},0.22376460972619536,{"$f":"H255","v":1},0.12675089734386216,{"$f":"J255","v":1},null,null,null,null,null,null,null,null,null,null,null,null,null,null,null,null,0.30409999999999998,0.3206,0.22720000000000001,0.1193]
[null,3,"Cuenca",0.41900800835654595,{"$f":"D262","v":2},0.30149295774647888,{"$f":"F262","v":1},0.1439893747445852,{"$f":"H262","v":0},0.11442641780330221,{"$f":"J262","v":0},null,null,null,null,null,null,null,null,null,null,"SENADO",null,null,null,null,null,0.41930000000000001,0.30580000000000002,0.1462,0.1077]
[null,6,"Gipuzkoa",8.6839484679665735E-2,{"$f":"D272","v":0},0.13122535211267605,{"$f":"F272","v":1},0.27596322026971803,{"$f":"H272","v":2},3.9523330940416358E-2,{"$f":"J272","v":0},{"$f":"AF26*W$16","v":0.22979699248120303},{"$f":"L272","v":2},{"$f":"AG26*W$17","v":0.21610344827586209},{"$f":"N272","v":1},"PNV","BILDU",null,null,null,null,null,null,null,null,null,null,8.6900000000000005E-2,0.1331,0.2802,3.7199999999999997E-2,0.2351,0.2089,"PNV","BILDU"]
[null,6,"Girona",8.524059888579387E-2,{"$f":"D282","v":0},0.1248169014084507,{"$f":"F282","v":1},0.16014139762975071,{"$f":"H282","v":1},0.10465183058147881,{"$f":"J282","v":0},{"$f":"AF27*W$15","v":0.27811111111111114},{"$f":"L282","v":2},{"$f":"AG27*W$18","v":0.22557322175732217},{"$f":"N282","v":2},"DiL","ERC",null,null,"20D","Electos",null,null,null,null,null,null,8.5300000000000001E-2,0.12659999999999999,0.16259999999999999,9.8500000000000004E-2,0.25030000000000002,0.2344,"DiL","ERC"]
[null,7,"Granada",0.31118314763231197,{"$f":"D293","v":2},0.30563380281690139,{"$f":"F293","v":2},0.21105966489579076,{"$f":"H293","v":2},0.14757501794687722,{"$f":"J293","v":1},null,null,null,null,null,null,null,null,null,"Electos","Designados","Total",null,null,null,null,0.31140000000000001,0.31,0.21429999999999999,0.1389]
[null,3,"Guadalajara",0.34765772980501386,{"$f":"D300","v":1},0.22212676056338029,{"$f":"F300","v":1},0.21253698406211685,{"$f":"H300","v":1},0.19187939698492459,{"$f":"J300","v":0},null,null,null,null,null,null,null,"PP",124,{"$f":"Senado!Y8","v":117},21,{"$f":"U29+V29","v":138},null,null,null,null,0.34789999999999999,0.2253,0.21579999999999999,0.18060000000000001]
[null,5,"Huelva",0.28759958217270193,{"$f":"D309","v":2},0.36419718309859156,{"$f":"F309","v":2},0.19372578667756438,{"$f":"H309","v":1},0.12611342426417801,{"$f":"J309","v":0},null,null,null,null,null,null,null,"PSOE",47,{"$f":"Senado!Y9","v":41},20,61,null,null,null,null,0.2878,0.36940000000000001,0.19670000000000001,0.1187]
[null,3,"Huesca",0.32577298050139275,{"$f":"D316","v":1},0.24361971830985915,{"$f":"F316","v":1},0.22809807928075193,{"$f":"H316","v":1},0.1722239770279971,{"$f":"J316","v":0},null,null,null,null,null,null,null,"Podemos",17,{"$f":"Senado!Y10","v":37},7,44,null,null,null,null,0.32600000000000001,0.24709999999999999,0.2316,0.16209999999999999]
[null,8,"Illes Balears",0.29049756267409471,{"$f":"D328","v":3},0.18052112676056339,{"$f":"F328","v":1},0.31949489170412754,{"$f":"H328","v":3},0.15703086862885854,{"$f":"J328","v":1},null,null,null,null,null,null,null,"C´s",0,{"$f":"Senado!Y11","v":0},3,3,null,null,null,null,0.29070000000000001,0.18310000000000001,0.32440000000000002,0.14779999999999999]
[null,5,"Jaén",0.31478064066852363,{"$f":"D337","v":2},0.37819718309859157,{"$f":"F337","v":2},0.16565672251736818,{"$f":"H337","v":1},0.11347020818377601,{"$f":"J337","v":0},null,null,null,null,null,null,null,"DiL",6,{"$f":"Senado!Y12","v":7},2,9,null,null,null,null,0.315,0.3836,0.16819999999999999,0.10680000000000001]
[null,4,"La Rioja",0.38323293871866293,{"$f":"D345","v":2},0.2337605633802817,{"$f":"F345","v":1},0.19707437678790354,{"$f":"H345","v":1},0.16074946159368267,{"$f":"J345","v":0},null,null,null,null,null,null,null,"PNV",6,{"$f":"Senado!Y13","v":2},1,3,null,null,null,null,0.38350000000000001,0.23710000000000001,0.2001,0.15129999999999999]
[null,8,"Las Palmas",0.28160376044568242,{"$f":"D357","v":2},0.22084507042253523,{"$f":"F357","v":2},0.28955455659991824,{"$f":"H357","v":3},0.13036324479540559,{"$f":"J357","v":1},null,null,null,null,null,null,null,"Bildu",0,{"$f":"Senado!Y14","v":0},1,1,null,null,null,null,0.28179999999999999,0.224,0.29399999999999998,0.1227]
[null,4,"León",0.3559519498607242,{"$f":"D366","v":2},0.25012676056338029,{"$f":"F366","v":1},0.22012055578259093,{"$f":"H366","v":1},0.13780043072505382,{"$f":"J366","v":0},null,null,null,null,null,null,null,"ERC",6,{"$f":"Senado!Y15","v":2},2,4,null,null,null,null,0.35620000000000002,0.25369999999999998,0.2235,0.12970000000000001]
[null,4,"Lleida",0.11252158774373258,{"$f":"D374","v":0},0.122943661971831,{"$f":"F374","v":0},0.15108050674295057,{"$f":"H374","v":1},9.5514716439339536E-2,{"$f":"J374","v":0},{"$f":"AF37*W$15","v":0.26977777777777778},{"$f":"L374","v":2},{"$f":"AG37*W$18","v":0.2142175732217573},{"$f":"N374","v":1},"DiL","ERC",null,"CC",1,{"$f":"Senado!Y16","v":1},1,2,null,null,null,null,0.11260000000000001,0.12470000000000001,0.15340000000000001,8.9899999999999994E-2,0.24279999999999999,0.22259999999999999,"DiL","ERC"]
[null,4,"Lugo",0.4248039693593314,{"$f":"D382","v":2},0.23642253521126763,{"$f":"F382","v":1},0.18968778095627298,{"$f":"H382","v":1},8.0746590093323745E-2,{"$f":"J382","v":0},{"$f":"AF38*W$19","v":3.5700000000000003E-2},{"$f":"L382","v":0},null,null,"NÓS",null,null,"ASG",1,{"$f":"1","v":1},0,1,null,null,null,null,0.42509999999999998,0.23980000000000001,0.19259999999999999,7.5999999999999998E-2,3.5700000000000003E-2,null,"NÓS"]
[null,36,"Madrid",{"$f":"AB39*W$8","v":0.33436699164345401},{"$f":"D422","v":13},{"$f":"AC39*W$9","v":0.17618309859154929},{"$f":"F422","v":6},0.25725051082958722,{"$f":"H422","v":10},{"$f":"AE39*W$14","v":0.19974156496769557},{"$f":"J422","v":7},null,null,null,null,null,null,null,null,{"$f":"SUM(T29:T38)","v":208},{"$f":"SUM(U29:U38)","v":208},null,{"$f":"SUM(W29:W38)","v":266},null,null,null,null,0.33460000000000001,0.1787,0.26119999999999999,0.188]
[null,11,"Málaga",0.28949825905292476,{"$f":"D437","v":3},0.26540845070422536,{"$f":"F437","v":3},{"$f":"AD40*W$10","v":0.23528769922353901},{"$f":"H437","v":3},0.18136109117013635,{"$f":"J437","v":2},null,null,null,null,null,null,null,null,null,"Senadores",266,null,null,null,null,null,0.28970000000000001,0.26919999999999999,0.2389,0.17069999999999999]
[null,1,"Melilla",0.43899408077994428,1,0.24243661971830988,0,0.12537515324887616,0,0.16521177315147162,0,null,null,null,null,null,null,null,null,null,null,null,null,null,null,null,null,0.43930000000000002,0.24590000000000001,0.1273,0.1555]
[null,10,"Murcia",0.40411838440111414,{"$f":"D451","v":4},0.20033802816901408,{"$f":"F451","v":2},0.18013445034736411,{"$f":"H451","v":2},0.18773582196697772,{"$f":"J451","v":2},null,null,null,null,null,null,null,null,null,null,null,null,null,null,null,null,0.40439999999999998,0.20319999999999999,0.18290000000000001,0.1767]
[null,5,"Navarra",0.28909853760445681,{"$f":"D460","v":2},0.15311267605633802,{"$f":"F460","v":1},0.26690232938291786,{"$f":"H460","v":2},7.490308686288584E-2,{"$f":"J460","v":0},{"$f":"AF43*W$21","v":8.6800000000000002E-2},{"$f":"L460","v":0},{"$f":"AG43*W$17","v":0.10241379310344828},{"$f":"N460","v":0},"G.Bai","BILDU",null,null,null,null,null,null,null,null,null,null,0.2893,0.15529999999999999,0.27100000000000002,7.0499999999999993E-2,8.6800000000000002E-2,9.9000000000000005E-2,"G.Bai","BILDU"]
[null,4,"Ourense",0.44878725626740945,{"$f":"D468","v":2},0.22873239436619719,{"$f":"F468","v":1},0.17570249284838577,{"$f":"H468","v":1},8.3615218951902354E-2,{"$f":"J468","v":0},{"$f":"AF44*W$19","v":3.3399999999999999E-2},{"$f":"L468","v":0},null,null,"NÓS",null,null,null,null,null,null,null,null,null,null,null,0.4491,0.23200000000000001,0.1784,7.8700000000000006E-2,3.3399999999999999E-2,null,"NÓS"]
[null,3,"Palencia",0.40311908077994424,{"$f":"D475","v":2},0.24214084507042255,{"$f":"F475","v":1},0.1762934205149162,{"$f":"H475","v":0},0.15044364680545583,{"$f":"J475","v":0},null,null,null,null,null,null,null,null,null,null,null,null,null,null,null,null,0.40339999999999998,0.24560000000000001,0.17899999999999999,0.1416]
[null,7,"Pontevedra",0.34436002785515318,{"$f":"D486","v":3},0.20526760563380281,{"$f":"F486","v":2},0.27527380465876583,{"$f":"H486","v":2},9.5620961952620223E-2,{"$f":"J486","v":0},{"$f":"AF46*W$19","v":4.65E-2},{"$f":"L486","v":0},null,null,"NÓS",null,null,"PARTIDO","Senado","Congreso",null,null,null,null,null,null,0.34460000000000002,0.2082,0.27950000000000003,0.09,4.65E-2,null,"NÓS"]
[null,4,"Salamanca",0.42710236768802223,{"$f":"D494","v":2},0.21443661971830985,{"$f":"F494","v":1},0.15354270535349407,{"$f":"H494","v":0},0.17902368987796122,{"$f":"J494","v":1},null,null,null,null,null,null,null,"BILDU",{"$f":"W35","v":1},{"$f":"X17","v":2},null,null,null,null,null,null,0.4274,0.2175,0.15590000000000001,0.16850000000000001]
[null,7,"Santa Cruz de Tenerife",0.28909853760445681,{"$f":"D505","v":2},0.2123661971830986,{"$f":"F505","v":1},0.22799959133633019,{"$f":"H505","v":2},0.11166403445800428,{"$f":"J505","v":1},{"$f":"AF48*W$20","v":0.15236363636363637},{"$f":"L505","v":1},null,null,"CC",null,null,"UP",{"$f":"W31","v":44},{"$f":"Z10","v":59},null,null,null,null,null,null,0.2893,0.21540000000000001,0.23150000000000001,0.1051,0.12570000000000001,null,"CC"]
[null,3,"Segovia",0.39412534818941497,{"$f":"D512","v":2},0.21226760563380281,{"$f":"F512","v":1},0.18052840212505106,{"$f":"H512","v":0},0.18125484565685568,{"$f":"J512","v":0},null,null,null,null,null,null,null,"En Comú Podem",0,{"$f":"Z11","v":12},null,null,null,null,null,null,0.39439999999999997,0.21529999999999999,0.18329999999999999,0.1706]
[null,12,"Sevilla",0.25172458217270194,{"$f":"D528","v":3},0.33481690140845072,{"$f":"F528","v":4},0.24336371066612175,{"$f":"H528","v":3},0.13833165829145727,{"$f":"J528","v":2},null,null,null,null,null,null,null,"A la Valenciana",0,{"$f":"Z12","v":9},null,null,null,null,null,null,0.25190000000000001,0.33960000000000001,0.24709999999999999,0.13020000000000001]
[null,2,"Soria",0.38633077994428966,{"$f":"D534","v":1},0.23484507042253522,{"$f":"F534","v":1},0.19283939517776869,{"$f":"H534","v":0},0.16117444364680542,{"$f":"J534","v":0},null,null,null,null,null,null,null,"En Marea",0,{"$f":"Z13","v":6},null,null,null,null,null,null,0.3866,0.2382,0.1958,0.1517]
[null,6,"Tarragona",0.12211490250696377,{"$f":"D544","v":1},0.15577464788732395,{"$f":"F544","v":1},0.20337760523089496,{"$f":"H544","v":1},0.15118736539842065,{"$f":"J544","v":1},{"$f":"AF52*W$15","v":0.17011111111111113},{"$f":"L544","v":1},{"$f":"AG52*W$18","v":0.16821757322175732},{"$f":"N544","v":1},"DiL","ERC",null,"ERC",{"$f":"W36","v":4},{"$f":"X18","v":8},null,null,null,null,null,null,0.1222,0.158,0.20649999999999999,0.14230000000000001,0.15310000000000001,0.17480000000000001,"DiL","ERC"]
[null,3,"Teruel",0.36434610027855147,{"$f":"D551","v":1},0.25278873239436622,{"$f":"F551","v":1},0.19943808745402533,{"$f":"H551","v":1},0.15639339554917442,{"$f":"J551","v":0},null,null,null,null,null,null,null,"PSOE",{"$f":"W30","v":61},{"$f":"X9","v":84},null,null,null,null,null,null,0.36459999999999998,0.25640000000000002,0.20250000000000001,0.1472]
[null,6,"Toledo",0.38762987465181059,{"$f":"D561","v":2},0.27369014084507043,{"$f":"F561","v":2},0.16880833673886392,{"$f":"H561","v":1},0.14661880832735102,{"$f":"J561","v":1},null,null,null,null,null,null,null,"NÓS",0,0,null,null,null,null,null,null,0.38790000000000002,0.27760000000000001,0.1714,0.13800000000000001]
[null,16,"Valencia / València",0.30198955431754876,{"$f":"D581","v":5},0.1858450704225352,{"$f":"F581","v":3},0.31279771148344909,{"$f":"H581","v":5},0.16074946159368267,{"$f":"J581","v":3},null,null,null,null,null,null,null,"ASG",1,0,null,null,null,null,null,null,0.30220000000000002,0.1885,0.31759999999999999,0.15129999999999999]
[null,5,"Valladolid",0.36934261838440108,{"$f":"D590","v":2},0.21285915492957747,{"$f":"F590","v":1},0.20367306906416019,{"$f":"H590","v":1},0.18178607322325913,{"$f":"J590","v":1},null,null,null,null,null,null,null,"C´s",{"$f":"W32","v":3},{"$f":"X14","v":39},null,null,null,null,null,null,0.36959999999999998,0.21590000000000001,0.20680000000000001,0.1711]
[null,3,"Zamora",0.42550348189415038,{"$f":"D597","v":2},0.22656338028169015,{"$f":"F597","v":1},0.18584675112382509,{"$f":"H597","v":0},0.13726920315865038,{"$f":"J597","v":0},null,null,null,null,null,null,null,"CC",{"$f":"W37","v":2},{"$f":"X20","v":1},null,null,null,null,null,null,0.42580000000000001,0.2298,0.18870000000000001,0.12920000000000001]
[null,7,"Zaragoza",0.30288892757660163,{"$f":"D608","v":2},0.21985915492957747,{"$f":"F608","v":2},0.25340948099713934,{"$f":"H608","v":2},0.18922325915290736,{"$f":"J608","v":1},null,null,null,null,null,null,null,"DiL",{"$f":"W33","v":9},{"$f":"X15","v":10},null,null,null,null,null,null,0.30309999999999998,0.223,0.25729999999999997,0.17810000000000001]
[null,{"$f":"SUM(B7:B58)","v":350},"Total Estatal",0.28699999999999998,{"$f":"SUM(E7:E58)","v":115},0.217,{"$f":"SUM(G7:G58)","v":84},0.24099999999999999,{"$f":"SUM(I7:I58)","v":86},0.14799999999999999,{"$f":"SUM(K7:K58)","v":39},null,null,null,null,null,null,null,"PNV",{"$f":"W34","v":3},{"$f":"X16","v":5},null,null,null,null,null,null,0.28720000000000001,0.22009999999999999,0.2447,0.13930000000000001]
[null,null,null,null,null,null,null,null,null,null,null,null,null,null,null,null,null,null,"PP",{"$f":"W29","v":138},{"$f":"X8","v":115}]
[null,null,{"$f":"C7","v":"A Coruña"},"PP",null,"PSOE",null,"En Marea",null,"C's",null,"NÓS",null,null,null,null,null,null,"TOTAL",{"$f":"SUM(T47:T60)","v":266},{"$f":"SUM(U47:U60)","v":350}]
[null,null,{"$f":"LARGE(D63:L70,8)","v":10.071126760563381},{"$f":"$D7","v":0.35465285515320327},null,{"$f":"$F7","v":0.20142253521126763},null,{"$f":"$H7","v":0.25951573355128726},null,{"$f":"$J7","v":0.10528930366116293},null,{"$f":"$L7","v":4.5499999999999999E-2}]
[null,null,1,{"$f":"D62*100","v":35.465285515320325},null,{"$f":"F62*100","v":20.142253521126761},null,{"$f":"H62*100","v":25.951573355128726},null,{"$f":"J62*100","v":10.528930366116294},null,{"$f":"L62*100","v":4.55}]
[null,null,2,{"$f":"D$63/$C64","v":17.732642757660162},null,{"$f":"F$63/$C64","v":10.071126760563381},null,{"$f":"H$63/$C64","v":12.975786677564363},null,{"$f":"J$63/$C64","v":5.2644651830581468},null,{"$f":"L$63/$C64","v":2.2749999999999999}]
[null,null,3,11.821761838440109,null,6.7140845070422541,null,8.6505244517095754,null,3.5096434553720979,null,1.5166666666666666]
[null,null,4,8.8663213788300812,null,5.0355633802816904,null,6.4878933387821816,null,2.6322325915290734,null,1.1375]
[null,null,5,7.0930571030640648,null,4.0284507042253521,null,5.1903146710257451,null,2.1057860732232587,null,0.90999999999999992]
[null,null,6,5.9108809192200544,null,3.3570422535211271,null,4.3252622258547877,null,1.7548217276860489,null,0.7583333333333333]
[null,null,7,5.0664693593314754,null,2.8774647887323943,null,3.7073676221612466,null,1.5041329094451847,null,0.65]
[null,null,8,4.4331606894150406,null,2.5177816901408452,null,3.2439466693910908,null,1.3161162957645367,null,0.56874999999999998]
[null,null,null,{"$f":"COUNTIF(D63:D70,\">=\"&$C62)","v":3},3,{"$f":"COUNTIF(F63:F70,\">=\"&$C62)","v":2},2,{"$f":"COUNTIF(H63:H70,\">=\"&$C62)","v":2},2,{"$f":"COUNTIF(J63:J70,\">=\"&$C62)","v":1},1,{"$f":"COUNTIF(L63:L70,\">=\"&$C62)","v":0},0]
[]
[null,null,{"$f":"C8","v":"Albacete"},"PP",null,"PSOE",null,"UP",null,"C's"]
[null,null,{"$f":"LARGE(D75:K78,4)","v":17.658888434818142},{"$f":"$D8","v":0.36824338440111415},null,{"$f":"$F8","v":0.27763380281690142},null,{"$f":"$H8","v":0.17658888434818143},null,{"$f":"$J8","v":0.15479971284996408}]
[null,null,1,{"$f":"D74*100","v":36.824338440111418},null,{"$f":"F74*100","v":27.763380281690143},null,{"$f":"H74*100","v":17.658888434818142},null,{"$f":"J74*100","v":15.479971284996408}]
[null,null,2,{"$f":"D$75/$C76","v":18.412169220055709},null,{"$f":"F$75/$C76","v":13.881690140845071},null,{"$f":"H$75/$C76","v":8.8294442174090708},null,{"$f":"J$75/$C76","v":7.7399856424982039}]
[null,null,3,{"$f":"D$75/$C77","v":12.274779480037139},null,{"$f":"F$75/$C77","v":9.2544600938967143},null,{"$f":"H$75/$C77","v":5.8862961449393802},null,{"$f":"J$75/$C77","v":5.1599904283321356}]
[null,null,4,{"$f":"D$75/$C78","v":9.2060846100278546},null,{"$f":"F$75/$C78","v":6.9408450704225357},null,{"$f":"H$75/$C78","v":4.4147221087045354},null,{"$f":"J$75/$C78","v":3.8699928212491019}]
[null,null,null,{"$f":"COUNTIF(D75:D78,\">=\"&$C74)","v":2},2,{"$f":"COUNTIF(F75:F78,\">=\"&$C74)","v":1},1,{"$f":"COUNTIF(H75:H78,\">=\"&$C74)","v":1},0,{"$f":"COUNTIF(J75:J78,\">=\"&$C74)","v":0},1]
[]
[null,null,"Alicante / Alacant","PP",null,"PSOE",null,"A la Valenciana",null,"C's"]
[null,null,{"$f":"LARGE(D83:J94,12)","v":6.8553990610328635},{"$f":"D9","v":0.32827123955431753},null,{"$f":"F9","v":0.20566197183098592},null,{"$f":"H9","v":0.25537923988557415},null,{"$f":"J9","v":0.18114860014357501}]
[null,null,1,{"$f":"D82*100","v":32.827123955431752},null,{"$f":"F82*100","v":20.566197183098591},null,{"$f":"H82*100","v":25.537923988557417},null,{"$f":"J82*100","v":18.1148600143575}]
[null,null,2,{"$f":"D$83/$C84","v":16.413561977715876},null,{"$f":"F$83/$C84","v":10.283098591549296},null,{"$f":"H$83/$C84","v":12.768961994278708},null,{"$f":"J$83/$C84","v":9.0574300071787501}]
[null,null,3,10.942374651810583,null,6.8553990610328635,null,8.5126413295191394,null,6.0382866714525001]
[null,null,4,8.2067809888579379,null,5.1415492957746478,null,6.3844809971393541,null,4.5287150035893751]
[null,null,5,6.5654247910863504,null,4.1132394366197182,null,5.1075847977114837,null,3.6229720028715002]
[null,null,6,5.4711873259052917,null,3.4276995305164317,null,4.2563206647595697,null,3.01914333572625]
[null,null,7,4.68958913649025,null,2.9380281690140846,null,3.6482748555082023,null,2.5878371449082143]
[null,null,8,4.103390494428969,null,2.5707746478873239,null,3.1922404985696771,null,2.2643575017946875]
[null,null,9,3.6474582172701946,null,2.2851330203442881,null,2.8375471098397131,null,2.0127622238175]
[null,null,10,3.2827123955431752,null,2.0566197183098591,null,2.5537923988557418,null,1.8114860014357501]
[null,null,11,2.9842839959483412,null,1.8696542893725991,null,2.3216294535052198,null,1.6468054558506819]
[null,null,12,2.7355936629526458,null,1.7138497652582159,null,2.1281603323797849,null,1.509571667863125]
[null,null,null,{"$f":"COUNTIF(D83:D94,\">=\"&$C82)","v":4},4,{"$f":"COUNTIF(F83:F94,\">=\"&$C82)","v":3},3,{"$f":"COUNTIF(H83:H94,\">=\"&$C82)","v":3},3,{"$f":"COUNTIF(J83:J94,\">=\"&$C82)","v":2},2]
[]
[null,null,"Almería","PP",null,"PSOE",null,"UP",null,"C's"]
[null,null,{"$f":"LARGE(D99:J104,6)","v":14.216901408450704},{"$f":"D10","v":0.3801350974930362},null,{"$f":"F10","v":0.2843380281690141},null,{"$f":"H10","v":0.1603383735185942},null,{"$f":"J10","v":0.15256855707106962}]
[null,null,1,{"$f":"D98*100","v":38.013509749303623},null,{"$f":"F98*100","v":28.433802816901409},null,{"$f":"H98*100","v":16.033837351859422},null,{"$f":"J98*100","v":15.256855707106961}]
[null,null,2,{"$f":"D$99/$C100","v":19.006754874651811},null,{"$f":"F$99/$C100","v":14.216901408450704},null,{"$f":"H$99/$C100","v":8.0169186759297109},null,{"$f":"J$99/$C100","v":7.6284278535534806}]
[null,null,3,{"$f":"D$99/$C101","v":12.671169916434541},null,{"$f":"F$99/$C101","v":9.4779342723004696},null,{"$f":"H$99/$C101","v":5.3446124506198069},null,{"$f":"J$99/$C101","v":5.0856185690356535}]
[null,null,4,{"$f":"D$99/$C102","v":9.5033774373259057},null,{"$f":"F$99/$C102","v":7.1084507042253522},null,{"$f":"H$99/$C102","v":4.0084593379648554},null,{"$f":"J$99/$C102","v":3.8142139267767403}]
[null,null,5,{"$f":"D$99/$C103","v":7.6027019498607249},null,{"$f":"F$99/$C103","v":5.6867605633802816},null,{"$f":"H$99/$C103","v":3.2067674703718843},null,{"$f":"J$99/$C103","v":3.0513711414213924}]
[null,null,6,{"$f":"D$99/$C104","v":6.3355849582172707},null,{"$f":"F$99/$C104","v":4.7389671361502348},null,{"$f":"H$99/$C104","v":2.6723062253099035},null,{"$f":"J$99/$C104","v":2.5428092845178267}]
[null,null,null,{"$f":"COUNTIF(D99:D104,\">=\"&$C98)","v":2},2,{"$f":"COUNTIF(F99:F104,\">=\"&$C98)","v":2},2,{"$f":"COUNTIF(H99:H104,\">=\"&$C98)","v":1},1,{"$f":"COUNTIF(J99:J104,\">=\"&$C98)","v":1},1]
[]
[null,null,"Araba - Álava","PP",null,"PSOE",null,"UP",null,"C's",null,"PNV",null,"BILDU"]
[null,null,{"$f":"LARGE(D109:N112,4)","v":15.167143440948101},{"$f":"D11","v":0.18786908077994427},null,{"$f":"F11","v":0.13950704225352112},null,{"$f":"H11","v":0.303342868818962},null,{"$f":"J11","v":6.2259870782483837E-2},null,{"$f":"L11","v":0.15472932330827069},null,{"$f":"N11","v":0.12258620689655172}]
[null,null,1,{"$f":"D108*100","v":18.786908077994426},null,{"$f":"F108*100","v":13.950704225352112},null,{"$f":"H108*100","v":30.334286881896201},null,{"$f":"J108*100","v":6.2259870782483837},null,{"$f":"L108*100","v":15.472932330827069},null,{"$f":"N108*100","v":12.258620689655173}]
[null,null,2,{"$f":"D$109/$C110","v":9.3934540389972128},null,{"$f":"F$109/$C110","v":6.975352112676056},null,{"$f":"H$109/$C110","v":15.167143440948101},null,{"$f":"J$109/$C110","v":3.1129935391241919},null,{"$f":"L$109/$C110","v":7.7364661654135345},null,{"$f":"N$109/$C110","v":6.1293103448275863}]
[null,null,3,{"$f":"D$109/$C111","v":6.2623026926648082},null,{"$f":"F$109/$C111","v":4.6502347417840371},null,{"$f":"H$109/$C111","v":10.111428960632066},null,{"$f":"J$109/$C111","v":2.0753290260827946},null,{"$f":"L$109/$C111","v":5.1576441102756894},null,{"$f":"N$109/$C111","v":4.0862068965517242}]
[null,null,4,{"$f":"D$109/$C112","v":4.6967270194986064},null,{"$f":"F$109/$C112","v":3.487676056338028},null,{"$f":"H$109/$C112","v":7.5835717204740503},null,{"$f":"J$109/$C112","v":1.5564967695620959},null,{"$f":"L$109/$C112","v":3.8682330827067672},null,{"$f":"N$109/$C112","v":3.0646551724137931}]
[null,null,null,{"$f":"COUNTIF(D109:D112,\">=\"&$C108)","v":1},1,{"$f":"COUNTIF(F109:F112,\">=\"&$C108)","v":0},1,{"$f":"COUNTIF(H109:H112,\">=\"&$C108)","v":2},1,{"$f":"COUNTIF(J109:J112,\">=\"&$C108)","v":0},0,{"$f":"COUNTIF(L109:L112,\">=\"&$C108)","v":1},1,{"$f":"COUNTIF(N109:N112,\">=\"&$C108)","v":0},0]
[]
[null,null,"Asturias","PP",null,"PSOE",null,"UP",null,"C's"]
[null,null,{"$f":"LARGE(D117:J124,8)","v":10.04300139275766},{"$f":"D12","v":0.30129004178272978},null,{"$f":"F12","v":0.2294225352112676},null,{"$f":"H12","v":0.29329709848794444},null,{"$f":"J12","v":0.14406891600861446}]
[null,null,1,{"$f":"D116*100","v":30.129004178272979},null,{"$f":"F116*100","v":22.942253521126759},null,{"$f":"H116*100","v":29.329709848794444},null,{"$f":"J116*100","v":14.406891600861446}]
[null,null,2,{"$f":"D$117/$C118","v":15.064502089136489},null,{"$f":"F$117/$C118","v":11.471126760563379},null,{"$f":"H$117/$C118","v":14.664854924397222},null,{"$f":"J$117/$C118","v":7.2034458004307229}]
[null,null,3,10.04300139275766,null,7.6474178403755859,null,9.776569949598148,null,4.8022972002871489]
[null,null,4,7.5322510445682447,null,5.7355633802816897,null,7.332427462198611,null,3.6017229002153615]
[null,null,5,6.0258008356545956,null,4.5884507042253517,null,5.8659419697588886,null,2.8813783201722893]
[null,null,6,5.0215006963788298,null,3.823708920187793,null,4.888284974799074,null,2.4011486001435745]
[null,null,7,4.3041434540389973,null,3.2774647887323942,null,4.1899585498277778,null,2.0581273715516351]
[null,null,8,3.7661255222841223,null,2.8677816901408448,null,3.6662137310993055,null,1.8008614501076807]
[null,null,null,{"$f":"COUNTIF(D117:D124,\">=\"&$C116)","v":3},2,{"$f":"COUNTIF(F117:F124,\">=\"&$C116)","v":2},2,{"$f":"COUNTIF(H117:H124,\">=\"&$C116)","v":2},2,{"$f":"COUNTIF(J117:J124,\">=\"&$C116)","v":1},1]
[]
[null,null,"Ávila","PP",null,"PSOE",null,"UP",null,"C's"]
[null,null,{"$f":"LARGE(D129:J131,3)","v":19.540845070422534},{"$f":"D13","v":0.4620779944289693},null,{"$f":"F13","v":0.19540845070422536},null,{"$f":"H13","v":0.15265631385369841},null,{"$f":"J13","v":0.16627422828427851}]
[null,null,1,{"$f":"D128*100","v":46.207799442896928},null,{"$f":"F128*100","v":19.540845070422534},null,{"$f":"H128*100","v":15.26563138536984},null,{"$f":"J128*100","v":16.62742282842785}]
[null,null,2,{"$f":"D129/$C130","v":23.103899721448464},null,{"$f":"F$129/$C130","v":9.7704225352112672},null,{"$f":"H$129/$C130","v":7.63281569268492},null,{"$f":"J$129/$C130","v":8.313711414213925}]
[null,null,3,{"$f":"D$129/$C131","v":15.402599814298975},null,{"$f":"F$129/$C131","v":6.5136150234741779},null,{"$f":"H$129/$C131","v":5.0885437951232797},null,{"$f":"J$129/$C131","v":5.5424742761426167}]
[null,null,null,{"$f":"COUNTIF(D129:D131,\">=\"&$C128)","v":2},2,{"$f":"COUNTIF(F129:F131,\">=\"&$C128)","v":1},1,{"$f":"COUNTIF(H129:H131,\">=\"&$C128)","v":0},0,{"$f":"COUNTIF(J129:J131,\">=\"&$C128)","v":0},0]
[]
[null,null,"Badajoz","PP",null,"PSOE",null,"UP",null,"C's"]
[null,null,{"$f":"LARGE(D136:J141,6)","v":12.228638497652582},{"$f":"D14","v":0.3446598189415041},null,{"$f":"F14","v":0.36685915492957744},null,{"$f":"H14","v":0.14694401307723742},null,{"$f":"J14","v":0.12058865757358218}]
[null,null,1,{"$f":"D135*100","v":34.46598189415041},null,{"$f":"F135*100","v":36.685915492957747},null,{"$f":"H135*100","v":14.694401307723743},null,{"$f":"J135*100","v":12.058865757358218}]
[null,null,2,{"$f":"D136/$C137","v":17.232990947075205},null,{"$f":"F$136/$C137","v":18.342957746478874},null,{"$f":"H$136/$C137","v":7.3472006538618713},null,{"$f":"J$136/$C137","v":6.0294328786791089}]
[null,null,3,{"$f":"D$136/$C138","v":11.488660631383469},null,{"$f":"F$136/$C138","v":12.228638497652582},null,{"$f":"H$136/$C138","v":4.8981337692412472},null,{"$f":"J$136/$C138","v":4.0196219191194063}]
[null,null,4,{"$f":"D$136/$C139","v":8.6164954735376025},null,{"$f":"F$136/$C139","v":9.1714788732394368},null,{"$f":"H$136/$C139","v":3.6736003269309356},null,{"$f":"J$136/$C139","v":3.0147164393395545}]
[null,null,5,{"$f":"D$136/$C140","v":6.8931963788300816},null,{"$f":"F$136/$C140","v":7.3371830985915496},null,{"$f":"H$136/$C140","v":2.9388802615447487},null,{"$f":"J$136/$C140","v":2.4117731514716434}]
[null,null,6,{"$f":"D$136/$C141","v":5.7443303156917347},null,{"$f":"F$136/$C141","v":6.1143192488262912},null,{"$f":"H$136/$C141","v":2.4490668846206236},null,{"$f":"J$136/$C141","v":2.0098109595597031}]
[null,null,null,{"$f":"COUNTIF(D136:D141,\">=\"&$C135)","v":2},2,{"$f":"COUNTIF(F136:F141,\">=\"&$C135)","v":3},3,{"$f":"COUNTIF(H136:H141,\">=\"&$C135)","v":1},1,{"$f":"COUNTIF(J136:J141,\">=\"&$C135)","v":0},0]
[]
[null,null,"Barcelona","PP",null,"PSOE",null,"En Comú Podem",null,"C's",null,"DiL",null,"ERC"]
[null,null,{"$f":"LARGE(D146:N176,31)","v":2.8792534099066756},{"$f":"D15","v":0.11262151810584957},null,{"$f":"F15","v":0.16040845070422535},null,{"$f":"H15","v":0.26503105843890479},null,{"$f":"J15","v":0.14396267049533379},null,{"$f":"L15","v":0.14722222222222223},null,{"$f":"N15","v":0.13934728033472804}]
[null,null,1,{"$f":"D145*100","v":11.262151810584957},null,{"$f":"F145*100","v":16.040845070422534},null,{"$f":"H145*100","v":26.503105843890477},null,{"$f":"J145*100","v":14.396267049533378},null,{"$f":"L145*100","v":14.722222222222223},null,{"$f":"N145*100","v":13.934728033472805}]
[null,null,2,{"$f":"D$146/$C147","v":5.6310759052924784},null,{"$f":"F$146/$C147","v":8.0204225352112672},null,{"$f":"H$146/$C147","v":13.251552921945239},null,{"$f":"J$146/$C147","v":7.1981335247666891},null,{"$f":"L$146/$C147","v":7.3611111111111116},null,{"$f":"N$146/$C147","v":6.9673640167364024}]
[null,null,3,3.7540506035283188,null,5.3469483568075118,null,8.8343686146301597,null,4.7987556831777924,null,4.9074074074074074,null,4.6449093444909346]
[null,null,4,2.8155379526462392,null,4.0102112676056336,null,6.6257764609726193,null,3.5990667623833446,null,3.6805555555555558,null,3.4836820083682012]
[null,null,5,2.2524303621169914,null,3.2081690140845067,null,5.3006211687780951,null,2.8792534099066756,null,2.9444444444444446,null,2.786945606694561]
[null,null,6,1.8770253017641594,null,2.6734741784037559,null,4.4171843073150798,null,2.3993778415888962,null,2.4537037037037037,null,2.3224546722454673]
[null,null,7,1.6088788300835652,null,2.2915492957746477,null,3.7861579776986396,null,2.0566095785047684,null,2.1031746031746033,null,1.9906754333532579]
[null,null,8,1.4077689763231196,null,2.0051056338028168,null,3.3128882304863096,null,1.7995333811916723,null,1.8402777777777779,null,1.7418410041841006]
[null,null,9,1.2513502011761064,null,1.7823161189358372,null,2.9447895382100531,null,1.5995852277259308,null,1.6358024691358026,null,1.5483031148303117]
[null,null,10,1.1262151810584957,null,1.6040845070422534,null,2.6503105843890475,null,1.4396267049533378,null,1.4722222222222223,null,1.3934728033472805]
[null,null,11,1.0238319827804505,null,1.458258642765685,null,2.4093732585354979,null,1.3087515499575799,null,1.3383838383838385,null,1.2667934575884368]
[null,null,12,0.93851265088207969,null,1.3367370892018779,null,2.2085921536575399,null,1.1996889207944481,null,1.2268518518518519,null,1.1612273361227337]
[null,null,13,0.86631937004499671,null,1.2339111592632719,null,2.0387004495300367,null,1.1074051576564137,null,1.1324786324786325,null,1.071902156420985]
[null,null,14,0.80443941504178262,null,1.1457746478873239,null,1.8930789888493198,null,1.0283047892523842,null,1.0515873015873016,null,0.99533771667662896]
[null,null,15,0.75081012070566377,null,1.0693896713615023,null,1.7668737229260318,null,0.95975113663555855,null,0.98148148148148151,null,0.92898186889818701]
[null,null,16,0.7038844881615598,null,1.0025528169014084,null,1.6564441152431548,null,0.89976669059583614,null,0.92013888888888895,null,0.8709205020920503]
[null,null,17,0.6624795182697033,null,0.94357912178956083,null,1.5590062261112045,null,0.84683923820784579,null,0.86601307189542487,null,0.81968988432192968]
[null,null,18,0.6256751005880532,null,0.8911580594679186,null,1.4723947691050265,null,0.79979261386296541,null,0.81790123456790131,null,0.77415155741515584]
[null,null,19,0.59274483213605034,null,0.84425500370644924,null,1.394900307573183,null,0.75769826576491461,null,0.77485380116959068,null,0.73340673860383188]
[null,null,20,0.56310759052924786,null,0.80204225352112668,null,1.3251552921945238,null,0.71981335247666889,null,0.73611111111111116,null,0.69673640167364026]
[null,null,21,0.53629294336118838,null,0.76384976525821591,null,1.2620526592328798,null,0.68553652616825611,null,0.70105820105820116,null,0.66355847778441923]
[null,null,22,0.51191599139022526,null,0.72912932138284248,null,1.2046866292677489,null,0.65437577497878996,null,0.66919191919191923,null,0.63339672879421838]
[null,null,23,0.489658774373259,null,0.69742804654011015,null,1.1523089497343686,null,0.62592465432753819,null,0.64009661835748799,null,0.60585774058577413]
[null,null,24,0.46925632544103985,null,0.66836854460093897,null,1.10429607682877,null,0.59984446039722406,null,0.61342592592592593,null,0.58061366806136683]
[null,null,25,0.45048607242339828,null,0.64163380281690141,null,1.0601242337556191,null,0.57585068198133516,null,0.58888888888888891,null,0.55738912133891216]
[null,null,26,0.43315968502249835,null,0.61695557963163594,null,1.0193502247650184,null,0.55370257882820684,null,0.56623931623931623,null,0.53595107821049248]
[null,null,27,0.41711673372536878,null,0.59410537297861243,null,0.98159651273668436,null,0.53319507590864368,null,0.54526748971193417,null,0.51610103827677056]
[null,null,28,0.40221970752089131,null,0.57288732394366193,null,0.9465394944246599,null,0.51415239462619211,null,0.52579365079365081,null,0.49766885833831448]
[null,null,29,0.38835006243396403,null,0.55313258863525983,null,0.91390020151346474,null,0.49642300170804754,null,0.50766283524904221,null,0.48050786322320016]
[null,null,30,0.37540506035283189,null,0.53469483568075116,null,0.88343686146301592,null,0.47987556831777928,null,0.49074074074074076,null,0.46449093444909351]
[null,null,31,0.36329521969628892,null,0.51744661517492052,null,0.85493889819001534,null,0.46439571127527024,null,0.47491039426523302,null,0.44950735591847757]
[null,null,null,{"$f":"COUNTIF(D146:D176,\">=\"&$C145)","v":3},4,{"$f":"COUNTIF(F146:F176,\">=\"&$C145)","v":5},5,{"$f":"COUNTIF(H146:H176,\">=\"&$C145)","v":9},9,{"$f":"COUNTIF(J146:J176,\">=\"&$C145)","v":5},4,{"$f":"COUNTIF(L146:L176,\">=\"&$C145)","v":5},4,{"$f":"COUNTIF(N146:N176,\">=\"&$C145)","v":4},5]
[]
[null,null,"Bizkaia","PP",null,"PSOE",null,"UP",null,"C's",null,"PNV",null,"BILDU"]
[null,null,{"$f":"LARGE(D180:N188,8)","v":9.4942378422558242},{"$f":"D16","v":0.11372075208913647},null,{"$f":"F16","v":0.12787323943661974},null,{"$f":"H16","v":0.28482713526767472},null,{"$f":"J16","v":4.0692031586503939E-2},null,{"$f":"L16","v":0.27300000000000002},null,{"$f":"N16","v":0.12931034482758622}]
[null,null,1,{"$f":"D180*100","v":11.372075208913648},null,{"$f":"F180*100","v":12.787323943661974},null,{"$f":"H180*100","v":28.482713526767473},null,{"$f":"J180*100","v":4.0692031586503941},null,{"$f":"L180*100","v":27.3},null,{"$f":"N180*100","v":12.931034482758621}]
[null,null,2,{"$f":"D181/$C182","v":5.6860376044568239},null,{"$f":"F$181/$C182","v":6.3936619718309871},null,{"$f":"H$181/$C182","v":14.241356763383736},null,{"$f":"J$181/$C182","v":2.034601579325197},null,{"$f":"L$181/$C182","v":13.65},null,{"$f":"N$181/$C182","v":6.4655172413793105}]
[null,null,3,{"$f":"D$181/$C183","v":3.7906917363045491},null,4.2624413145539917,null,9.4942378422558242,null,1.3564010528834647,null,9.1,null,4.3103448275862073]
[null,null,4,2.843018802228412,null,3.1968309859154935,null,7.1206783816918682,null,1.0173007896625985,null,6.8250000000000002,null,3.2327586206896552]
[null,null,5,2.2744150417827296,null,2.5574647887323949,null,5.6965427053534947,null,0.81384063173007881,null,5.46,null,2.5862068965517242]
[null,null,6,1.8953458681522746,null,2.1312206572769958,null,4.7471189211279121,null,0.67820052644173234,null,4.55,null,2.1551724137931036]
[null,null,7,1.6245821727019496,null,1.8267605633802819,null,4.0689590752524962,null,0.58131473695005631,null,3.9,null,1.8472906403940887]
[null,null,8,1.421509401114206,null,1.5984154929577468,null,3.5603391908459341,null,0.50865039483129926,null,3.4125000000000001,null,1.6163793103448276]
[null,null,null,{"$f":"COUNTIF(D181:D188,\">=\"&$C180)","v":1},1,{"$f":"COUNTIF(F181:F188,\">=\"&$C180)","v":1},1,{"$f":"COUNTIF(H181:H188,\">=\"&$C180)","v":3},2,{"$f":"COUNTIF(J181:J188,\">=\"&$C180)","v":0},0,{"$f":"COUNTIF(L181:L188,\">=\"&$C180)","v":2},3,{"$f":"COUNTIF(N181:N188,\">=\"&$C180)","v":1},1]
[]
[null,null,"Burgos","PP",null,"PSOE",null,"UP",null,"C's"]
[null,null,{"$f":"LARGE(D192:J196,4)","v":19.026740947075208},{"$f":"D17","v":0.38053481894150415},null,{"$f":"F17","v":0.20418309859154932},null,{"$f":"H17","v":0.21421127911728646},null,{"$f":"J17","v":0.16510552763819095}]
[null,null,1,{"$f":"D192*100","v":38.053481894150416},null,{"$f":"F192*100","v":20.418309859154931},null,{"$f":"H192*100","v":21.421127911728647},null,{"$f":"J192*100","v":16.510552763819096}]
[null,null,2,{"$f":"D193/$C194","v":19.026740947075208},null,{"$f":"F$193/$C194","v":10.209154929577466},null,{"$f":"H$193/$C194","v":10.710563955864323},null,{"$f":"J$193/$C194","v":8.2552763819095478}]
[null,null,3,{"$f":"D$193/$C195","v":12.684493964716806},null,{"$f":"F$193/$C195","v":6.8061032863849773},null,{"$f":"H$193/$C195","v":7.1403759705762155},null,{"$f":"J$193/$C195","v":5.5035175879396983}]
[null,null,4,{"$f":"D$193/$C196","v":9.5133704735376039},null,{"$f":"F$193/$C196","v":5.1045774647887328},null,{"$f":"H$193/$C196","v":5.3552819779321617},null,{"$f":"J$193/$C196","v":4.1276381909547739}]
[null,null,null,{"$f":"COUNTIF(D193:D196,\">=\"&$C192)","v":2},2,{"$f":"COUNTIF(F193:F196,\">=\"&$C192)","v":1},1,{"$f":"COUNTIF(H193:H196,\">=\"&$C192)","v":1},1,{"$f":"COUNTIF(J193:J196,\">=\"&$C192)","v":0},0]
[]
[null,null,"Cáceres","PP",null,"PSOE",null,"UP",null,"C's"]
[null,null,{"$f":"LARGE(D200:J204,4)","v":16.790140845070422},{"$f":"D18","v":0.35325383008356542},null,{"$f":"F18","v":0.33580281690140845},null,{"$f":"H18","v":0.16575521046178995},null,{"$f":"J18","v":0.12111988513998563}]
[null,null,1,{"$f":"D$200*100","v":35.325383008356539},null,{"$f":"F$200*100","v":33.580281690140843},null,{"$f":"H$200*100","v":16.575521046178995},null,{"$f":"J$200*100","v":12.111988513998563}]
[null,null,2,{"$f":"D201/$C202","v":17.662691504178269},null,{"$f":"F$201/$C202","v":16.790140845070422},null,{"$f":"H$201/$C202","v":8.2877605230894975},null,{"$f":"J$201/$C202","v":6.0559942569992815}]
[null,null,3,{"$f":"D$201/$C203","v":11.77512766945218},null,{"$f":"F$201/$C203","v":11.193427230046948},null,{"$f":"H$201/$C203","v":5.5251736820596653},null,{"$f":"J$201/$C203","v":4.0373295046661877}]
[null,null,4,{"$f":"D$201/$C204","v":8.8313457520891347},null,{"$f":"F$201/$C204","v":8.3950704225352109},null,{"$f":"H$201/$C204","v":4.1438802615447488},null,{"$f":"J$201/$C204","v":3.0279971284996408}]
[null,null,null,{"$f":"COUNTIF(D201:D204,\">=\"&$C200)","v":2},2,{"$f":"COUNTIF(F201:F204,\">=\"&$C200)","v":2},2,{"$f":"COUNTIF(H201:H204,\">=\"&$C200)","v":0},0,{"$f":"COUNTIF(J201:J204,\">=\"&$C200)","v":0},0]
[]
[null,null,"Cádiz","PP",null,"PSOE",null,"UP",null,"C's"]
[null,null,{"$f":"LARGE(D208:J217,9)","v":9.2018779342723018},{"$f":"D19","v":0.27730675487465178},null,{"$f":"F19","v":0.27605633802816903},null,{"$f":"H19","v":0.25793992644053942},null,{"$f":"J19","v":0.15596841349605167}]
[null,null,1,{"$f":"D208*100","v":27.730675487465177},null,{"$f":"F208*100","v":27.605633802816904},null,25.793992644053944,null,15.596841349605167]
[null,null,2,{"$f":"D$209/$C210","v":13.865337743732589},null,{"$f":"F$209/$C210","v":13.802816901408452},null,{"$f":"H$209/$C210","v":12.896996322026972},null,{"$f":"J$209/$C210","v":7.7984206748025837}]
[null,null,3,9.2435584958217252,null,9.2018779342723018,null,8.5979975480179807,null,5.1989471165350558]
[null,null,4,6.9326688718662943,null,6.9014084507042259,null,6.4484981610134859,null,3.8992103374012919]
[null,null,5,5.5461350974930355,null,5.5211267605633809,null,5.1587985288107889,null,3.1193682699210337]
[null,null,6,4.6217792479108626,null,4.6009389671361509,null,4.2989987740089903,null,2.5994735582675279]
[null,null,7,3.9615250696378825,null,3.9436619718309864,null,3.6848560920077063,null,2.2281201928007381]
[null,null,8,3.4663344359331472,null,3.450704225352113,null,3.224249080506743,null,1.9496051687006459]
[null,null,9,3.0811861652739085,null,3.0672926447574338,null,2.8659991826726605,null,1.7329823721783519]
[null,null,null,{"$f":"COUNTIF(D209:D217,\">=\"&$C208)","v":3},3,{"$f":"COUNTIF(F209:F217,\">=\"&$C208)","v":3},3,{"$f":"COUNTIF(H209:H217,\">=\"&$C208)","v":2},2,{"$f":"COUNTIF(J209:J217,\">=\"&$C208)","v":1},1]
[]
[null,null,"Cantabria","PP",null,"PSOE",null,"UP",null,"C's"]
[null,null,{"$f":"LARGE(D221:J226,5)","v":16.202440775305092},{"$f":"D20","v":0.36914275766016708},null,{"$f":"F20","v":0.22104225352112677},null,{"$f":"H20","v":0.21923416428279524},null,{"$f":"J20","v":0.16202440775305094}]
[null,null,1,{"$f":"D221*100","v":36.914275766016708},null,{"$f":"F221*100","v":22.104225352112678},null,{"$f":"H221*100","v":21.923416428279523},null,{"$f":"J221*100","v":16.202440775305092}]
[null,null,2,{"$f":"D222/$C223","v":18.457137883008354},null,{"$f":"F$222/$C223","v":11.052112676056339},null,{"$f":"H$222/$C223","v":10.961708214139762},null,{"$f":"J$222/$C223","v":8.1012203876525462}]
[null,null,3,{"$f":"D$222/$C224","v":12.304758588672236},null,{"$f":"F$222/$C224","v":7.3680751173708927},null,{"$f":"H$222/$C224","v":7.3078054760931748},null,{"$f":"J$222/$C224","v":5.4008135917683644}]
[null,null,4,{"$f":"D$222/$C225","v":9.2285689415041769},null,{"$f":"F$222/$C225","v":5.5260563380281695},null,{"$f":"H$222/$C225","v":5.4808541070698809},null,{"$f":"J$222/$C225","v":4.0506101938262731}]
[null,null,5,{"$f":"D$222/$C226","v":7.3828551532033417},null,{"$f":"F$222/$C226","v":4.4208450704225353},null,{"$f":"H$222/$C226","v":4.384683285655905},null,{"$f":"J$222/$C226","v":3.2404881550610183}]
[null,null,null,{"$f":"COUNTIF(D222:D226,\">=\"&$C221)","v":2},2,{"$f":"COUNTIF(F222:F226,\">=\"&$C221)","v":1},1,{"$f":"COUNTIF(H222:H226,\">=\"&$C221)","v":1},1,{"$f":"COUNTIF(J222:J226,\">=\"&$C221)","v":1},1]
[]
[null,null,"Castellón","PP",null,"PSOE",null,"A la Valenciana",null,"C's"]
[null,null,{"$f":"LARGE(D230:J235,5)","v":15.913910167130918},{"$f":"D21","v":0.31827820334261836},null,{"$f":"F21","v":0.21216901408450706},null,{"$f":"H21","v":0.26808418471597872},null,{"$f":"J21","v":0.16595549174443644}]
[null,null,1,{"$f":"D230*100","v":31.827820334261837},null,{"$f":"F230*100","v":21.216901408450706},null,{"$f":"H230*100","v":26.808418471597872},null,{"$f":"J230*100","v":16.595549174443644}]
[null,null,2,{"$f":"D231/$C232","v":15.913910167130918},null,{"$f":"F$231/$C232","v":10.608450704225353},null,{"$f":"H$231/$C232","v":13.404209235798936},null,{"$f":"J$231/$C232","v":8.2977745872218218}]
[null,null,3,{"$f":"D$231/$C233","v":10.609273444753946},null,{"$f":"F$231/$C233","v":7.0723004694835687},null,{"$f":"H$231/$C233","v":8.9361394905326232},null,{"$f":"J$231/$C233","v":5.5318497248145482}]
[null,null,4,{"$f":"D$231/$C234","v":7.9569550835654592},null,{"$f":"F$231/$C234","v":5.3042253521126765},null,{"$f":"H$231/$C234","v":6.7021046178994679},null,{"$f":"J$231/$C234","v":4.1488872936109109}]
[null,null,5,{"$f":"D$231/$C235","v":6.3655640668523672},null,{"$f":"F$231/$C235","v":4.2433802816901416},null,{"$f":"H$231/$C235","v":5.3616836943195745},null,{"$f":"J$231/$C235","v":3.3191098348887289}]
[null,null,null,{"$f":"COUNTIF(D231:D235,\">=\"&$C230)","v":2},2,{"$f":"COUNTIF(F231:F235,\">=\"&$C230)","v":1},1,{"$f":"COUNTIF(H231:H235,\">=\"&$C230)","v":1},1,{"$f":"COUNTIF(J231:J235,\">=\"&$C230)","v":1},1]
[]
[null,null,"Ciudad Real","PP",null,"PSOE",null,"UP",null,"C's"]
[null,null,{"$f":"LARGE(D239:J244,5)","v":15.345774647887325},{"$f":"D23","v":0.38393245125348185},null,{"$f":"F23","v":0.30691549295774651},null,{"$f":"H23","v":0.15531548835308542},null,{"$f":"J23","v":0.13100071787508971}]
[null,null,1,{"$f":"D239*100","v":38.393245125348187},null,{"$f":"F239*100","v":30.691549295774649},null,{"$f":"H239*100","v":15.531548835308543},null,{"$f":"J239*100","v":13.100071787508972}]
[null,null,2,{"$f":"D240/$C241","v":19.196622562674094},null,{"$f":"F$240/$C241","v":15.345774647887325},null,{"$f":"H$240/$C241","v":7.7657744176542716},null,{"$f":"J$240/$C241","v":6.5500358937544858}]
[null,null,3,{"$f":"D$240/$C242","v":12.797748375116063},null,{"$f":"F$240/$C242","v":10.230516431924883},null,{"$f":"H$240/$C242","v":5.1771829451028477},null,{"$f":"J$240/$C242","v":4.3666905958363236}]
[null,null,4,{"$f":"D$240/$C243","v":9.5983112813370468},null,{"$f":"F$240/$C243","v":7.6728873239436624},null,{"$f":"H$240/$C243","v":3.8828872088271358},null,{"$f":"J$240/$C243","v":3.2750179468772429}]
[null,null,5,{"$f":"D$240/$C244","v":7.6786490250696371},null,{"$f":"F$240/$C244","v":6.1383098591549299},null,{"$f":"H$240/$C244","v":3.1063097670617088},null,{"$f":"J$240/$C244","v":2.6200143575017942}]
[null,null,null,{"$f":"COUNTIF(D240:D244,\">=\"&$C239)","v":2},3,{"$f":"COUNTIF(F240:F244,\">=\"&$C239)","v":2},2,{"$f":"COUNTIF(H240:H244,\">=\"&$C239)","v":1},0,{"$f":"COUNTIF(J240:J244,\">=\"&$C239)","v":0},0]
[]
[null,null,"Córdoba","PP",null,"PSOE",null,"UP",null,"C's"]
[null,null,{"$f":"LARGE(D248:J254,6)","v":12.675089734386216},{"$f":"D24","v":0.30388823119777153},null,{"$f":"F24","v":0.31608450704225355},null,{"$f":"H24","v":0.22376460972619536},null,{"$f":"J24","v":0.12675089734386216}]
[null,null,1,{"$f":"D248*100","v":30.388823119777154},null,{"$f":"F248*100","v":31.608450704225355},null,{"$f":"H248*100","v":22.376460972619537},null,{"$f":"J248*100","v":12.675089734386216}]
[null,null,2,{"$f":"D$249/$C250","v":15.194411559888577},null,{"$f":"F$249/$C250","v":15.804225352112677},null,{"$f":"H$249/$C250","v":11.188230486309768},null,{"$f":"J$249/$C250","v":6.3375448671931078}]
[null,null,3,{"$f":"D$249/$C251","v":10.129607706592385},null,{"$f":"F$249/$C251","v":10.536150234741784},null,{"$f":"H$249/$C251","v":7.4588203242065125},null,{"$f":"J$249/$C251","v":4.2250299114620722}]
[null,null,4,{"$f":"D$249/$C252","v":7.5972057799442885},null,{"$f":"F$249/$C252","v":7.9021126760563387},null,{"$f":"H$249/$C252","v":5.5941152431548842},null,{"$f":"J$249/$C252","v":3.1687724335965539}]
[null,null,5,{"$f":"D$249/$C253","v":6.0777646239554306},null,{"$f":"F$249/$C253","v":6.321690140845071},null,{"$f":"H$249/$C253","v":4.4752921945239077},null,{"$f":"J$249/$C253","v":2.5350179468772431}]
[null,null,6,{"$f":"D$249/$C254","v":5.0648038532961923},null,{"$f":"F$249/$C254","v":5.2680751173708922},null,{"$f":"H$249/$C254","v":3.7294101621032563},null,{"$f":"J$249/$C254","v":2.1125149557310361}]
[null,null,null,{"$f":"COUNTIF(D249:D254,\">=\"&$C248)","v":2},2,{"$f":"COUNTIF(F249:F254,\">=\"&$C248)","v":2},2,{"$f":"COUNTIF(H249:H254,\">=\"&$C248)","v":1},1,{"$f":"COUNTIF(J249:J254,\">=\"&$C248)","v":1},1]
[]
[null,null,"Cuenca","PP",null,"PSOE",null,"UP",null,"C's"]
[null,null,{"$f":"LARGE(D258:J261,3)","v":20.950400417827296},{"$f":"D25","v":0.41900800835654595},null,{"$f":"F25","v":0.30149295774647888},null,{"$f":"H25","v":0.1439893747445852},null,{"$f":"J25","v":0.11442641780330221}]
[null,null,1,{"$f":"D258*100","v":41.900800835654593},null,{"$f":"F258*100","v":30.149295774647889},null,{"$f":"H258*100","v":14.398937474458521},null,{"$f":"J258*100","v":11.44264178033022}]
[null,null,2,{"$f":"D$259/$C260","v":20.950400417827296},null,{"$f":"F$259/$C260","v":15.074647887323945},null,{"$f":"H$259/$C260","v":7.1994687372292603},null,{"$f":"J$259/$C260","v":5.72132089016511}]
[null,null,3,{"$f":"D$259/$C261","v":13.966933611884864},null,{"$f":"F$259/$C261","v":10.049765258215963},null,{"$f":"H$259/$C261","v":4.7996458248195069},null,{"$f":"J$259/$C261","v":3.8142139267767399}]
[null,null,null,{"$f":"COUNTIF(D259:D261,\">=\"&$C258)","v":2},2,{"$f":"COUNTIF(F259:F261,\">=\"&$C258)","v":1},1,{"$f":"COUNTIF(H259:H261,\">=\"&$C258)","v":0},0,{"$f":"COUNTIF(J259:J261,\">=\"&$C258)","v":0},0]
[]
[null,null,"Gipuzkoa","PP",null,"PSOE",null,"UP",null,"C's",null,"PNV",null,"BILDU"]
[null,null,{"$f":"LARGE(D265:N271,6)","v":11.489849624060151},{"$f":"D26","v":8.6839484679665735E-2},null,{"$f":"F26","v":0.13122535211267605},null,{"$f":"H26","v":0.27596322026971803},null,{"$f":"J26","v":3.9523330940416358E-2},null,{"$f":"L26","v":0.22979699248120303},null,{"$f":"N26","v":0.21610344827586209}]
[null,null,1,{"$f":"D265*100","v":8.683948467966573},null,{"$f":"F265*100","v":13.122535211267605},null,{"$f":"H265*100","v":27.596322026971805},null,{"$f":"J265*100","v":3.9523330940416357},null,{"$f":"L265*100","v":22.979699248120301},null,{"$f":"N265*100","v":21.610344827586207}]
[null,null,2,{"$f":"D266/$C267","v":4.3419742339832865},null,{"$f":"F$266/$C267","v":6.5612676056338026},null,{"$f":"H$266/$C267","v":13.798161013485903},null,{"$f":"J$266/$C267","v":1.9761665470208178},null,{"$f":"L$266/$C267","v":11.489849624060151},null,{"$f":"N$266/$C267","v":10.805172413793104}]
[null,null,3,{"$f":"D$266/$C268","v":2.894649489322191},null,{"$f":"F$266/$C268","v":4.3741784037558684},null,{"$f":"H$266/$C268","v":9.1987740089906023},null,{"$f":"J$266/$C268","v":1.3174443646805452},null,{"$f":"L$266/$C268","v":7.6598997493734338},null,{"$f":"N$266/$C268","v":7.203448275862069}]
[null,null,4,{"$f":"D$266/$C269","v":2.1709871169916433},null,{"$f":"F$266/$C269","v":3.2806338028169013},null,{"$f":"H$266/$C269","v":6.8990805067429513},null,{"$f":"J$266/$C269","v":0.98808327351040892},null,{"$f":"L$266/$C269","v":5.7449248120300753},null,{"$f":"N$266/$C269","v":5.4025862068965518}]
[null,null,5,{"$f":"D$266/$C270","v":1.7367896935933147},null,{"$f":"F$266/$C270","v":2.624507042253521},null,{"$f":"H$266/$C270","v":5.5192644053943614},null,{"$f":"J$266/$C270","v":0.79046661880832714},null,{"$f":"L$266/$C270","v":4.5959398496240604},null,{"$f":"N$266/$C270","v":4.3220689655172411}]
[null,null,6,{"$f":"D$266/$C271","v":1.4473247446610955},null,{"$f":"F$266/$C271","v":2.1870892018779342},null,{"$f":"H$266/$C271","v":4.5993870044953011},null,{"$f":"J$266/$C271","v":0.65872218234027258},null,{"$f":"L$266/$C271","v":3.8299498746867169},null,{"$f":"N$266/$C271","v":3.6017241379310345}]
[null,null,null,{"$f":"COUNTIF(D266:D271,\">=\"&$C265)","v":0},0,{"$f":"COUNTIF(F266:F271,\">=\"&$C265)","v":1},1,{"$f":"COUNTIF(H266:H271,\">=\"&$C265)","v":2},2,{"$f":"COUNTIF(J266:J271,\">=\"&$C265)","v":0},0,{"$f":"COUNTIF(L266:L271,\">=\"&$C265)","v":2},2,{"$f":"COUNTIF(N266:N271,\">=\"&$C265)","v":1},1]
[]
[null,null,"Girona","PP",null,"PSOE",null,"UP",null,"C's",null,"DiL",null,"ERC"]
[null,null,{"$f":"LARGE(D275:N281,6)","v":11.278661087866109},{"$f":"D27","v":8.524059888579387E-2},null,{"$f":"F27","v":0.1248169014084507},null,{"$f":"H27","v":0.16014139762975071},null,{"$f":"J27","v":0.10465183058147881},null,{"$f":"L27","v":0.27811111111111114},null,{"$f":"N27","v":0.22557322175732217}]
[null,null,1,{"$f":"D275*100","v":8.5240598885793872},null,{"$f":"F275*100","v":12.481690140845069},null,{"$f":"H275*100","v":16.01413976297507},null,{"$f":"J275*100","v":10.465183058147881},null,{"$f":"L275*100","v":27.811111111111114},null,{"$f":"N275*100","v":22.557322175732217}]
[null,null,2,{"$f":"D276/$C277","v":4.2620299442896936},null,{"$f":"F$276/$C277","v":6.2408450704225347},null,{"$f":"H$276/$C277","v":8.007069881487535},null,{"$f":"J$276/$C277","v":5.2325915290739404},null,{"$f":"L$276/$C277","v":13.905555555555557},null,{"$f":"N$276/$C277","v":11.278661087866109}]
[null,null,3,{"$f":"D$276/$C278","v":2.8413532961931289},null,{"$f":"F$276/$C278","v":4.1605633802816895},null,{"$f":"H$276/$C278","v":5.3380465876583569},null,{"$f":"J$276/$C278","v":3.4883943527159604},null,{"$f":"L$276/$C278","v":9.2703703703703706},null,{"$f":"N$276/$C278","v":7.5191073919107394}]
[null,null,4,{"$f":"D$276/$C279","v":2.1310149721448468},null,{"$f":"F$276/$C279","v":3.1204225352112673},null,{"$f":"H$276/$C279","v":4.0035349407437675},null,{"$f":"J$276/$C279","v":2.6162957645369702},null,{"$f":"L$276/$C279","v":6.9527777777777784},null,{"$f":"N$276/$C279","v":5.6393305439330543}]
[null,null,5,{"$f":"D$276/$C280","v":1.7048119777158774},null,{"$f":"F$276/$C280","v":2.496338028169014},null,{"$f":"H$276/$C280","v":3.2028279525950141},null,{"$f":"J$276/$C280","v":2.093036611629576},null,{"$f":"L$276/$C280","v":5.5622222222222231},null,{"$f":"N$276/$C280","v":4.5114644351464435}]
[null,null,6,{"$f":"D$276/$C281","v":1.4206766480965645},null,{"$f":"F$276/$C281","v":2.0802816901408447},null,{"$f":"H$276/$C281","v":2.6690232938291785},null,{"$f":"J$276/$C281","v":1.7441971763579802},null,{"$f":"L$276/$C281","v":4.6351851851851853},null,{"$f":"N$276/$C281","v":3.7595536959553697}]
[null,null,null,{"$f":"COUNTIF(D276:D281,\">=\"&$C275)","v":0},0,{"$f":"COUNTIF(F276:F281,\">=\"&$C275)","v":1},1,{"$f":"COUNTIF(H276:H281,\">=\"&$C275)","v":1},1,{"$f":"COUNTIF(J276:J281,\">=\"&$C275)","v":0},0,{"$f":"COUNTIF(L276:L281,\">=\"&$C275)","v":2},2,{"$f":"COUNTIF(N276:N281,\">=\"&$C275)","v":2},2]
[]
[null,null,"Granada","PP",null,"PSOE",null,"UP",null,"C's"]
[null,null,{"$f":"LARGE(D285:J292,7)","v":10.552983244789537},{"$f":"D28","v":0.31118314763231197},null,{"$f":"F28","v":0.30563380281690139},null,{"$f":"H28","v":0.21105966489579076},null,{"$f":"J28","v":0.14757501794687722}]
[null,null,1,{"$f":"D285*100","v":31.118314763231197},null,{"$f":"F285*100","v":30.56338028169014},null,{"$f":"H285*100","v":21.105966489579075},null,{"$f":"J285*100","v":14.757501794687721}]
[null,null,2,{"$f":"D286/$C287","v":15.559157381615599},null,{"$f":"F$286/$C287","v":15.28169014084507},null,{"$f":"H$286/$C287","v":10.552983244789537},null,{"$f":"J$286/$C287","v":7.3787508973438607}]
[null,null,3,{"$f":"D$286/$C288","v":10.372771587743733},null,10.187793427230046,null,7.0353221631930252,null,4.9191672648959068]
[null,null,4,{"$f":"D$286/$C289","v":7.7795786908077993},null,7.640845070422535,null,5.2764916223947687,null,3.6893754486719303]
[null,null,5,{"$f":"D$286/$C290","v":6.2236629526462393},null,6.112676056338028,null,4.2211932979158151,null,2.9515003589375444]
[null,null,6,{"$f":"D$286/$C291","v":5.1863857938718665},null,5.0938967136150231,null,3.5176610815965126,null,2.4595836324479534]
[null,null,7,{"$f":"D$286/$C292","v":4.4454735376044567},null,4.3661971830985911,null,3.015138069939868,null,2.1082145420982461]
[null,null,null,{"$f":"COUNTIF(D286:D292,\">=\"&$C285)","v":2},3,{"$f":"COUNTIF(F286:F292,\">=\"&$C285)","v":2},2,{"$f":"COUNTIF(H286:H292,\">=\"&$C285)","v":2},1,{"$f":"COUNTIF(J286:J292,\">=\"&$C285)","v":1},1]
[]
[null,null,"Guadalajara","PP",null,"PSOE",null,"UP",null,"C's"]
[null,null,{"$f":"LARGE(D296:J299,3)","v":21.253698406211686},{"$f":"D29","v":0.34765772980501386},null,{"$f":"F29","v":0.22212676056338029},null,{"$f":"H29","v":0.21253698406211685},null,{"$f":"J29","v":0.19187939698492459}]
[null,null,1,{"$f":"D296*100","v":34.765772980501389},null,{"$f":"F296*100","v":22.212676056338029},null,{"$f":"H296*100","v":21.253698406211686},null,{"$f":"J296*100","v":19.18793969849246}]
[null,null,2,{"$f":"D297/$C298","v":17.382886490250694},null,{"$f":"F$297/$C298","v":11.106338028169015},null,{"$f":"H$297/$C298","v":10.626849203105843},null,{"$f":"J$297/$C298","v":9.5939698492462302}]
[null,null,3,{"$f":"D$297/$C299","v":11.588590993500462},null,{"$f":"F$297/$C299","v":7.4042253521126762},null,{"$f":"H$297/$C299","v":7.0845661354038958},null,{"$f":"J$297/$C299","v":6.3959798994974868}]
[null,null,null,{"$f":"COUNTIF(D297:D299,\">=\"&$C296)","v":1},1,{"$f":"COUNTIF(F297:F299,\">=\"&$C296)","v":1},1,{"$f":"COUNTIF(H297:H299,\">=\"&$C296)","v":1},0,{"$f":"COUNTIF(J297:J299,\">=\"&$C296)","v":0},1]
[]
[null,null,"Huelva","PP",null,"PSOE",null,"UP",null,"C's"]
[null,null,{"$f":"LARGE(D303:J308,5)","v":14.379979108635096},{"$f":"D30","v":0.28759958217270193},null,{"$f":"F30","v":0.36419718309859156},null,{"$f":"H30","v":0.19372578667756438},null,{"$f":"J30","v":0.12611342426417801}]
[null,null,1,{"$f":"D303*100","v":28.759958217270192},null,{"$f":"F303*100","v":36.419718309859157},null,{"$f":"H303*100","v":19.372578667756439},null,{"$f":"J303*100","v":12.611342426417801}]
[null,null,2,{"$f":"D$304/$C305","v":14.379979108635096},null,{"$f":"F$304/$C305","v":18.209859154929578},null,{"$f":"H$304/$C305","v":9.6862893338782197},null,{"$f":"J$304/$C305","v":6.3056712132089006}]
[null,null,3,{"$f":"D$304/$C306","v":9.5866527390900647},null,{"$f":"F$304/$C306","v":12.139906103286386},null,{"$f":"H$304/$C306","v":6.4575262225854795},null,{"$f":"J$304/$C306","v":4.2037808088059334}]
[null,null,4,{"$f":"D$304/$C307","v":7.189989554317548},null,{"$f":"F$304/$C307","v":9.1049295774647891},null,{"$f":"H$304/$C307","v":4.8431446669391098},null,{"$f":"J$304/$C307","v":3.1528356066044503}]
[null,null,5,{"$f":"D$304/$C308","v":5.7519916434540388},null,{"$f":"F$304/$C308","v":7.283943661971831},null,{"$f":"H$304/$C308","v":3.8745157335512879},null,{"$f":"J$304/$C308","v":2.5222684852835604}]
[null,null,null,{"$f":"COUNTIF(D304:D308,\">=\"&$C303)","v":2},2,{"$f":"COUNTIF(F304:F308,\">=\"&$C303)","v":2},2,{"$f":"COUNTIF(H304:H308,\">=\"&$C303)","v":1},1,{"$f":"COUNTIF(J304:J308,\">=\"&$C303)","v":0},0]
[]
[null,null,"Huesca","PP",null,"PSOE",null,"UP",null,"C's"]
[null,null,{"$f":"LARGE(D312:J315,3)","v":22.809807928075195},{"$f":"D31","v":0.32577298050139275},null,{"$f":"F31","v":0.24361971830985915},null,{"$f":"H31","v":0.22809807928075193},null,{"$f":"J31","v":0.1722239770279971}]
[null,null,1,{"$f":"D312*100","v":32.577298050139277},null,{"$f":"F312*100","v":24.361971830985915},null,{"$f":"H312*100","v":22.809807928075195},null,{"$f":"J312*100","v":17.222397702799711}]
[null,null,2,{"$f":"D$313/$C314","v":16.288649025069638},null,{"$f":"F$313/$C314","v":12.180985915492958},null,{"$f":"H$313/$C314","v":11.404903964037597},null,{"$f":"J$313/$C314","v":8.6111988513998554}]
[null,null,3,{"$f":"D$313/$C315","v":10.859099350046426},null,{"$f":"F$313/$C315","v":8.1206572769953045},null,{"$f":"H$313/$C315","v":7.6032693093583985},null,{"$f":"J$313/$C315","v":5.7407992342665706}]
[null,null,null,{"$f":"COUNTIF(D313:D315,\">=\"&$C312)","v":1},1,{"$f":"COUNTIF(F313:F315,\">=\"&$C312)","v":1},1,{"$f":"COUNTIF(H313:H315,\">=\"&$C312)","v":1},1,{"$f":"COUNTIF(J313:J315,\">=\"&$C312)","v":0},0]
[]
[null,null,"Illes Balears","PP",null,"PSOE",null,"UP",null,"C's"]
[null,null,{"$f":"LARGE(D319:J327,8)","v":9.6832520891364897},{"$f":"D32","v":0.29049756267409471},null,{"$f":"F32","v":0.18052112676056339},null,{"$f":"H32","v":0.31949489170412754},null,{"$f":"J32","v":0.15703086862885854}]
[null,null,1,{"$f":"D319*100","v":29.049756267409471},null,{"$f":"F319*100","v":18.052112676056339},null,{"$f":"H319*100","v":31.949489170412754},null,{"$f":"J319*100","v":15.703086862885854}]
[null,null,2,{"$f":"D$320/$C321","v":14.524878133704735},null,{"$f":"F$320/$C321","v":9.0260563380281695},null,{"$f":"H$320/$C321","v":15.974744585206377},null,{"$f":"J$320/$C321","v":7.8515434314429271}]
[null,null,3,9.6832520891364897,null,6.0173708920187794,null,10.649829723470917,null,5.2343622876286178]
[null,null,4,7.2624390668523677,null,4.5130281690140848,null,7.9873722926031885,null,3.9257717157214636]
[null,null,5,5.809951253481894,null,3.610422535211268,null,6.389897834082551,null,3.1406173725771707]
[null,null,6,4.8416260445682449,null,3.0086854460093897,null,5.3249148617354587,null,2.6171811438143089]
[null,null,7,4.1499651810584961,null,2.5788732394366201,null,4.5642127386303937,null,2.2432981232694078]
[null,null,8,3.6312195334261839,null,2.2565140845070424,null,3.9936861463015942,null,1.9628858578607318]
[null,null,null,{"$f":"COUNTIF(D320:D327,\">=\"&$C319)","v":3},3,{"$f":"COUNTIF(F320:F327,\">=\"&$C319)","v":1},2,{"$f":"COUNTIF(H320:H327,\">=\"&$C319)","v":3},2,{"$f":"COUNTIF(J320:J327,\">=\"&$C319)","v":1},1]
[]
[null,null,"Jaén","PP",null,"PSOE",null,"UP",null,"C's"]
[null,null,{"$f":"LARGE(D331:J336,5)","v":15.739032033426181},{"$f":"D33","v":0.31478064066852363},null,{"$f":"F33","v":0.37819718309859157},null,{"$f":"H33","v":0.16565672251736818},null,{"$f":"J33","v":0.11347020818377601}]
[null,null,1,{"$f":"D331*100","v":31.478064066852362},null,{"$f":"F331*100","v":37.819718309859155},null,{"$f":"H331*100","v":16.565672251736817},null,{"$f":"J331*100","v":11.347020818377601}]
[null,null,2,{"$f":"D$332/$C333","v":15.739032033426181},null,{"$f":"F$332/$C333","v":18.909859154929578},null,{"$f":"H$332/$C333","v":8.2828361258684087},null,{"$f":"J$332/$C333","v":5.6735104091888005}]
[null,null,3,{"$f":"D$332/$C334","v":10.492688022284121},null,{"$f":"F$332/$C334","v":12.606572769953052},null,{"$f":"H$332/$C334","v":5.5218907505789394},null,{"$f":"J$332/$C334","v":3.7823402727925335}]
[null,null,4,{"$f":"D$332/$C335","v":7.8695160167130904},null,{"$f":"F$332/$C335","v":9.4549295774647888},null,{"$f":"H$332/$C335","v":4.1414180629342043},null,{"$f":"J$332/$C335","v":2.8367552045944002}]
[null,null,5,{"$f":"D$332/$C336","v":6.2956128133704725},null,{"$f":"F$332/$C336","v":7.5639436619718312},null,{"$f":"H$332/$C336","v":3.3131344503473636},null,{"$f":"J$332/$C336","v":2.26940416367552}]
[null,null,null,{"$f":"COUNTIF(D332:D336,\">=\"&$C331)","v":2},2,{"$f":"COUNTIF(F332:F336,\">=\"&$C331)","v":2},3,{"$f":"COUNTIF(H332:H336,\">=\"&$C331)","v":1},0,{"$f":"COUNTIF(J332:J336,\">=\"&$C331)","v":0},0]
[]
[null,null,"La Rioja","PP",null,"PSOE",null,"UP",null,"C's"]
[null,null,{"$f":"LARGE(D340:J344,4)","v":19.161646935933145},{"$f":"D34","v":0.38323293871866293},null,{"$f":"F34","v":0.2337605633802817},null,{"$f":"H34","v":0.19707437678790354},null,{"$f":"J34","v":0.16074946159368267}]
[null,null,1,{"$f":"D340*100","v":38.323293871866291},null,{"$f":"F340*100","v":23.376056338028171},null,{"$f":"H340*100","v":19.707437678790356},null,{"$f":"J340*100","v":16.074946159368267}]
[null,null,2,{"$f":"D$341/$C342","v":19.161646935933145},null,{"$f":"F$341/$C342","v":11.688028169014085},null,{"$f":"H$341/$C342","v":9.853718839395178},null,{"$f":"J$341/$C342","v":8.0374730796841334}]
[null,null,3,{"$f":"D$341/$C343","v":12.774431290622097},null,{"$f":"F$341/$C343","v":7.7920187793427234},null,{"$f":"H$341/$C343","v":6.569145892930119},null,{"$f":"J$341/$C343","v":5.3583153864560886}]
[null,null,4,{"$f":"D$341/$C344","v":9.5808234679665727},null,{"$f":"F$341/$C344","v":5.8440140845070427},null,{"$f":"H$341/$C344","v":4.926859419697589},null,{"$f":"J$341/$C344","v":4.0187365398420667}]
[null,null,null,{"$f":"COUNTIF(D341:D344,\">=\"&$C340)","v":2},2,{"$f":"COUNTIF(F341:F344,\">=\"&$C340)","v":1},1,{"$f":"COUNTIF(H341:H344,\">=\"&$C340)","v":1},1,{"$f":"COUNTIF(J341:J344,\">=\"&$C340)","v":0},0]
[]
[null,null,"Las Palmas","PP",null,"PSOE",null,"UP",null,"C's"]
[null,null,{"$f":"LARGE(D348:J356,8)","v":9.6518185533306085},{"$f":"D35","v":0.28160376044568242},null,{"$f":"F35","v":0.22084507042253523},null,{"$f":"H35","v":0.28955455659991824},null,{"$f":"J35","v":0.13036324479540559}]
[null,null,1,{"$f":"D348*100","v":28.160376044568242},null,{"$f":"F348*100","v":22.084507042253524},null,{"$f":"H348*100","v":28.955455659991824},null,{"$f":"J348*100","v":13.036324479540559}]
[null,null,2,{"$f":"D$349/$C350","v":14.080188022284121},null,{"$f":"F$349/$C350","v":11.042253521126762},null,{"$f":"H$349/$C350","v":14.477727829995912},null,{"$f":"J$349/$C350","v":6.5181622397702794}]
[null,null,3,9.3867920148560806,null,7.3615023474178409,null,9.6518185533306085,null,4.3454414931801866]
[null,null,4,7.0400940111420605,null,5.5211267605633809,null,7.2388639149979559,null,3.2590811198851397]
[null,null,5,5.6320752089136485,null,4.4169014084507046,null,5.7910911319983649,null,2.6072648959081119]
[null,null,6,4.6933960074280403,null,3.6807511737089205,null,4.8259092766653042,null,2.1727207465900933]
[null,null,7,4.0229108635097486,null,3.154929577464789,null,4.1364936657131173,null,1.862332068505794]
[null,null,8,3.5200470055710302,null,2.7605633802816905,null,3.6194319574989779,null,1.6295405599425699]
[null,null,null,{"$f":"COUNTIF(D349:D356,\">=\"&$C348)","v":2},3,{"$f":"COUNTIF(F349:F356,\">=\"&$C348)","v":2},2,{"$f":"COUNTIF(H349:H356,\">=\"&$C348)","v":3},2,{"$f":"COUNTIF(J349:J356,\">=\"&$C348)","v":1},1]
[]
[null,null,"León","PP",null,"PSOE",null,"UP",null,"C's"]
[null,null,{"$f":"LARGE(D360:J365,4)","v":17.797597493036211},{"$f":"D36","v":0.3559519498607242},null,{"$f":"F36","v":0.25012676056338029},null,{"$f":"H36","v":0.22012055578259093},null,{"$f":"J36","v":0.13780043072505382}]
[null,null,1,{"$f":"D360*100","v":35.595194986072421},null,{"$f":"F360*100","v":25.01267605633803},null,{"$f":"H360*100","v":22.012055578259094},null,{"$f":"J360*100","v":13.780043072505382}]
[null,null,2,{"$f":"D361/$C362","v":17.797597493036211},null,{"$f":"F$361/$C362","v":12.506338028169015},null,{"$f":"H$361/$C362","v":11.006027789129547},null,{"$f":"J$361/$C362","v":6.8900215362526911}]
[null,null,3,{"$f":"D$361/$C363","v":11.865064995357473},null,{"$f":"F$361/$C363","v":8.3375586854460106},null,{"$f":"H$361/$C363","v":7.337351859419698},null,{"$f":"J$361/$C363","v":4.5933476908351274}]
[null,null,4,{"$f":"D$361/$C364","v":8.8987987465181053},null,{"$f":"F$361/$C364","v":6.2531690140845075},null,{"$f":"H$361/$C364","v":5.5030138945647735},null,{"$f":"J$361/$C364","v":3.4450107681263455}]
[null,null,5,{"$f":"D$361/$C365","v":7.1190389972144841},null,{"$f":"F$361/$C365","v":5.002535211267606},null,{"$f":"H$361/$C365","v":4.4024111156518186},null,{"$f":"J$361/$C365","v":2.7560086145010763}]
[null,null,null,{"$f":"COUNTIF(D361:D365,\">=\"&$C360)","v":2},2,{"$f":"COUNTIF(F361:F365,\">=\"&$C360)","v":1},1,{"$f":"COUNTIF(H361:H365,\">=\"&$C360)","v":1},1,{"$f":"COUNTIF(J361:J365,\">=\"&$C360)","v":0},1]
[]
[null,null,"Lleida","PP",null,"PSOE",null,"En Comú Podem",null,"C's",null,"DiL",null,"ERC"]
[null,null,{"$f":"LARGE(D369:N373,4)","v":13.488888888888889},{"$f":"D37","v":0.11252158774373258},null,{"$f":"F37","v":0.122943661971831},null,{"$f":"H37","v":0.15108050674295057},null,{"$f":"J37","v":9.5514716439339536E-2},null,{"$f":"L37","v":0.26977777777777778},null,{"$f":"N37","v":0.2142175732217573}]
[null,null,1,{"$f":"D369*100","v":11.252158774373259},null,{"$f":"F369*100","v":12.2943661971831},null,{"$f":"H369*100","v":15.108050674295056},null,{"$f":"J369*100","v":9.5514716439339544},null,{"$f":"L369*100","v":26.977777777777778},null,{"$f":"N369*100","v":21.421757322175729}]
[null,null,2,{"$f":"D$370/$C371","v":5.6260793871866293},null,{"$f":"F$370/$C371","v":6.1471830985915501},null,{"$f":"H$370/$C371","v":7.5540253371475279},null,{"$f":"J$370/$C371","v":4.7757358219669772},null,{"$f":"L$370/$C371","v":13.488888888888889},null,{"$f":"N$370/$C371","v":10.710878661087865}]
[null,null,3,{"$f":"D$370/$C372","v":3.7507195914577527},null,{"$f":"F$370/$C372","v":4.0981220657276998},null,{"$f":"H$370/$C372","v":5.036016891431685},null,{"$f":"J$370/$C372","v":3.183823881311318},null,{"$f":"L$370/$C372","v":8.992592592592592},null,{"$f":"N$370/$C372","v":7.1405857740585761}]
[null,null,4,{"$f":"D$370/$C373","v":2.8130396935933146},null,{"$f":"F$370/$C373","v":3.073591549295775},null,{"$f":"H$370/$C373","v":3.7770126685737639},null,{"$f":"J$370/$C373","v":2.3878679109834886},null,{"$f":"L$370/$C373","v":6.7444444444444445},null,{"$f":"N$370/$C373","v":5.3554393305439323}]
[null,null,null,{"$f":"COUNTIF(D370:D373,\">=\"&$C369)","v":0},0,{"$f":"COUNTIF(F370:F373,\">=\"&$C369)","v":0},1,{"$f":"COUNTIF(H370:H373,\">=\"&$C369)","v":1},1,{"$f":"COUNTIF(J370:J373,\">=\"&$C369)","v":0},0,{"$f":"COUNTIF(L370:L373,\">=\"&$C369)","v":2},1,{"$f":"COUNTIF(N370:N373,\">=\"&$C369)","v":1},1]
[]
[null,null,"Lugo","PP",null,"PSOE",null,"En Marea",null,"C's",null,"NÓS"]
[null,null,{"$f":"LARGE(D377:L381,4)","v":18.968778095627297},{"$f":"D38","v":0.4248039693593314},null,{"$f":"F38","v":0.23642253521126763},null,{"$f":"H38","v":0.18968778095627298},null,{"$f":"J38","v":8.0746590093323745E-2},null,{"$f":"L38","v":3.5700000000000003E-2}]
[null,null,1,{"$f":"D377*100","v":42.480396935933143},null,{"$f":"F377*100","v":23.642253521126761},null,{"$f":"H377*100","v":18.968778095627297},null,{"$f":"J377*100","v":8.0746590093323753},null,{"$f":"L377*100","v":3.5700000000000003}]
[null,null,2,{"$f":"D$378/$C379","v":21.240198467966572},null,{"$f":"F$378/$C379","v":11.821126760563381},null,{"$f":"H$378/$C379","v":9.4843890478136483},null,{"$f":"J$378/$C379","v":4.0373295046661877},null,{"$f":"L$378/$C379","v":1.7850000000000001}]
[null,null,3,{"$f":"D$378/$C380","v":14.160132311977714},null,{"$f":"F$378/$C380","v":7.8807511737089202},null,{"$f":"H$378/$C380","v":6.3229260318757659},null,{"$f":"J$378/$C380","v":2.6915530031107919},null,{"$f":"L$378/$C380","v":1.1900000000000002}]
[null,null,4,{"$f":"D$378/$C381","v":10.620099233983286},null,{"$f":"F$378/$C381","v":5.9105633802816904},null,{"$f":"H$378/$C381","v":4.7421945239068242},null,{"$f":"J$378/$C381","v":2.0186647523330938},null,{"$f":"L$378/$C381","v":0.89250000000000007}]
[null,null,null,{"$f":"COUNTIF(D378:D381,\">=\"&$C377)","v":2},2,{"$f":"COUNTIF(F378:F381,\">=\"&$C377)","v":1},1,{"$f":"COUNTIF(H378:H381,\">=\"&$C377)","v":1},1,{"$f":"COUNTIF(J378:J381,\">=\"&$C377)","v":0},0,{"$f":"COUNTIF(L378:L381,\">=\"&$C377)","v":0},0]
[]
[null,null,"Madrid","PP",null,"PSOE",null,"UP",null,"C's"]
[null,null,{"$f":"LARGE(D385:J421,36)","v":2.5720537818727229},{"$f":"D39","v":0.33436699164345401},null,{"$f":"F39","v":0.17618309859154929},null,{"$f":"H39","v":0.25725051082958722},null,{"$f":"J39","v":0.19974156496769557}]
[null,null,1,{"$f":"D385*100","v":33.436699164345399},null,{"$f":"F385*100","v":17.61830985915493},null,25.725051082958721,null,19.974156496769556]
[null,null,2,{"$f":"D$386/$C387","v":16.718349582172699},null,{"$f":"F$386/$C387","v":8.8091549295774652},null,{"$f":"H$386/$C387","v":12.862525541479361},null,{"$f":"J$386/$C387","v":9.987078248384778}]
[null,null,3,11.145566388115133,null,5.8727699530516437,null,8.5750170276529065,null,6.6580521655898517]
[null,null,4,8.3591747910863496,null,4.4045774647887326,null,6.4312627707396803,null,4.993539124192389]
[null,null,5,6.6873398328690801,null,3.5236619718309861,null,5.1450102165917446,null,3.994831299353911]
[null,null,6,5.5727831940575667,null,2.9363849765258219,null,4.2875085138264533,null,3.3290260827949258]
[null,null,7,4.7766713091922002,null,2.5169014084507042,null,3.6750072975655317,null,2.8534509281099365]
[null,null,8,4.1795873955431748,null,2.2022887323943663,null,3.2156313853698402,null,2.4967695620961945]
[null,null,9,3.7151887960383778,null,1.9575899843505478,null,2.8583390092176355,null,2.2193507218632842]
[null,null,10,3.34366991643454,null,1.761830985915493,null,2.5725051082958723,null,1.9974156496769555]
[null,null,11,3.0396999240314,null,1.6016645326504482,null,2.3386410075417019,null,1.8158324087972324]
[null,null,12,2.7863915970287834,null,1.4681924882629109,null,2.1437542569132266,null,1.6645130413974629]
[null,null,13,2.5720537818727229,null,1.3552546045503793,null,1.9788500833045171,null,1.5364735766745812]
[null,null,14,2.3883356545961001,null,1.2584507042253521,null,1.8375036487827658,null,1.4267254640549683]
[null,null,15,2.2291132776230267,null,1.1745539906103286,null,1.7150034055305814,null,1.3316104331179703]
[null,null,16,2.0897936977715874,null,1.1011443661971831,null,1.6078156926849201,null,1.2483847810480972]
[null,null,17,1.9668646567261998,null,1.0363711681855841,null,1.5132382989975719,null,1.174950382162915]
[null,null,18,1.8575943980191889,null,0.97879499217527388,null,1.4291695046088178,null,1.1096753609316421]
[null,null,19,1.7598262718076525,null,0.92727946627131208,null,1.3539500569978273,null,1.0512713945668188]
[null,null,20,1.67183495821727,null,0.88091549295774652,null,1.2862525541479362,null,0.99870782483847775]
[null,null,21,1.5922237697307333,null,0.83896713615023477,null,1.2250024325218438,null,0.95115030936997891]
[null,null,22,1.5198499620157,null,0.80083226632522408,null,1.1693205037708509,null,0.9079162043986162]
[null,null,23,1.4537695288845824,null,0.76601347213717086,null,1.1184804818677705,null,0.86844158681606765]
[null,null,24,1.3931957985143917,null,0.73409624413145547,null,1.0718771284566133,null,0.83225652069873146]
[null,null,25,1.3374679665738158,null,0.70473239436619717,null,1.0290020433183489,null,0.79896625987078229]
[null,null,26,1.2860268909363615,null,0.67762730227518964,null,0.98942504165225853,null,0.76823678833729059]
[null,null,27,1.2383962653461258,null,0.65252999478351592,null,0.95277966973921191,null,0.73978357395442795]
[null,null,28,1.19416782729805,null,0.62922535211267605,null,0.91875182439138292,null,0.71336273202748413]
[null,null,29,1.1529896263567379,null,0.60752792617775619,null,0.88707072699857659,null,0.6887640171299847]
[null,null,30,1.1145566388115133,null,0.58727699530516431,null,0.8575017027652907,null,0.66580521655898517]
[null,null,31,1.0786031988498517,null,0.5683325761017719,null,0.82984035751479746,null,0.64432762892805018]
[null,null,32,1.0448968488857937,null,0.55057218309859157,null,0.80390784634246004,null,0.62419239052404862]
[null,null,33,1.0132333080104665,null,0.53388817755014939,null,0.77954700251390063,null,0.60527746959907747]
[null,null,34,0.98343232836309991,null,0.51818558409279203,null,0.75661914949878595,null,0.58747519108145752]
[null,null,35,0.95533426183843995,null,0.50338028169014082,null,0.73500145951310636,null,0.57069018562198737]
[null,null,36,0.92879719900959445,null,0.48939749608763694,null,0.71458475230440888,null,0.55483768046582105]
[null,null,null,{"$f":"COUNTIF(D386:D421,\">=\"&$C385)","v":13},13,{"$f":"COUNTIF(F386:F421,\">=\"&$C385)","v":6},6,{"$f":"COUNTIF(H386:H421,\">=\"&$C385)","v":10},10,{"$f":"COUNTIF(J386:J421,\">=\"&$C385)","v":7},7]
[]
[null,null,"Málaga","PP",null,"PSOE",null,"UP",null,"C's"]
[null,null,{"$f":"LARGE(D425:J436,11)","v":7.8429233074513007},{"$f":"D40","v":0.28949825905292476},null,{"$f":"F40","v":0.26540845070422536},null,{"$f":"H40","v":0.23528769922353901},null,{"$f":"J40","v":0.18136109117013635}]
[null,null,1,{"$f":"D425*100","v":28.949825905292474},null,{"$f":"F425*100","v":26.540845070422534},null,{"$f":"H425*100","v":23.528769922353902},null,{"$f":"J425*100","v":18.136109117013635}]
[null,null,2,{"$f":"D$426/$C427","v":14.474912952646237},null,{"$f":"F$426/$C427","v":13.270422535211267},null,{"$f":"H$426/$C427","v":11.764384961176951},null,{"$f":"J$426/$C427","v":9.0680545585068177}]
[null,null,3,9.6499419684308254,null,8.8469483568075109,null,7.8429233074513007,null,6.0453697056712121]
[null,null,4,7.2374564763231186,null,6.6352112676056336,null,5.8821924805884755,null,4.5340272792534089]
[null,null,5,5.7899651810584949,null,5.3081690140845073,null,4.7057539844707801,null,3.6272218234027269]
[null,null,6,4.8249709842154127,null,4.4234741784037555,null,3.9214616537256504,null,3.0226848528356061]
[null,null,7,4.1356894150417824,null,3.7915492957746477,null,3.3612528460505575,null,2.5908727310019479]
[null,null,8,3.6187282381615593,null,3.3176056338028168,null,2.9410962402942378,null,2.2670136396267044]
[null,null,9,3.216647322810275,null,2.9489827856025039,null,2.6143077691504337,null,2.0151232352237374]
[null,null,10,2.8949825905292474,null,2.6540845070422536,null,2.35287699223539,null,1.8136109117013635]
[null,null,11,2.6318023550265885,null,2.4128040973111395,null,2.1389790838503546,null,1.648737192455785]
[null,null,null,{"$f":"COUNTIF(D426:D436,\">=\"&$C425)","v":3},4,{"$f":"COUNTIF(F426:F436,\">=\"&$C425)","v":3},3,{"$f":"COUNTIF(H426:H436,\">=\"&$C425)","v":3},2,{"$f":"COUNTIF(J426:J436,\">=\"&$C425)","v":2},2]
[]
[null,null,"Murcia","PP",null,"PSOE",null,"UP",null,"C's"]
[null,null,{"$f":"LARGE(D440:J450,10)","v":9.0067225173682051},{"$f":"D42","v":0.40411838440111414},null,{"$f":"F42","v":0.20033802816901408},null,{"$f":"H42","v":0.18013445034736411},null,{"$f":"J42","v":0.18773582196697772}]
[null,null,1,{"$f":"D440*100","v":40.411838440111417},null,{"$f":"F440*100","v":20.033802816901407},null,{"$f":"H440*100","v":18.01344503473641},null,{"$f":"J440*100","v":18.77358219669777}]
[null,null,2,{"$f":"D$441/$C442","v":20.205919220055709},null,{"$f":"F$441/$C442","v":10.016901408450703},null,{"$f":"H$441/$C442","v":9.0067225173682051},null,{"$f":"J$441/$C442","v":9.3867910983488851}]
[null,null,3,13.470612813370472,null,6.6779342723004689,null,6.0044816782454697,null,6.2578607322325901]
[null,null,4,10.102959610027854,null,5.0084507042253517,null,4.5033612586841025,null,4.6933955491744426]
[null,null,5,8.0823676880222841,null,4.006760563380281,null,3.6026890069472821,null,3.7547164393395542]
[null,null,6,6.7353064066852362,null,3.3389671361502344,null,3.0022408391227349,null,3.128930366116295]
[null,null,7,5.7731197771587741,null,2.8619718309859152,null,2.5733492906766302,null,2.6819403138139672]
[null,null,8,5.0514798050139271,null,2.5042253521126758,null,2.2516806293420513,null,2.3466977745872213]
[null,null,9,4.4902042711234911,null,2.225978090766823,null,2.0014938927484902,null,2.0859535774108635]
[null,null,10,4.0411838440111421,null,2.0033802816901405,null,1.8013445034736411,null,1.8773582196697771]
[null,null,null,{"$f":"COUNTIF(D441:D450,\">=\"&$C440)","v":4},5,{"$f":"COUNTIF(F441:F450,\">=\"&$C440)","v":2},2,{"$f":"COUNTIF(H441:H450,\">=\"&$C440)","v":2},1,{"$f":"COUNTIF(J441:J450,\">=\"&$C440)","v":2},2]
[]
[null,null,"Navarra","PP",null,"PSOE",null,"UP",null,"C's",null,"G.Bai",null,"BILDU"]
[null,null,{"$f":"LARGE(D454:N459,5)","v":13.345116469145893},{"$f":"D43","v":0.28909853760445681},null,{"$f":"F43","v":0.15311267605633802},null,{"$f":"H43","v":0.26690232938291786},null,{"$f":"J43","v":7.490308686288584E-2},null,{"$f":"L43","v":8.6800000000000002E-2},null,{"$f":"N43","v":0.10241379310344828}]
[null,null,1,{"$f":"D454*100","v":28.909853760445682},null,{"$f":"F454*100","v":15.311267605633802},null,{"$f":"H454*100","v":26.690232938291786},null,{"$f":"J454*100","v":7.4903086862885839},null,{"$f":"L454*100","v":8.68},null,{"$f":"N454*100","v":10.241379310344827}]
[null,null,2,{"$f":"D$455/$C456","v":14.454926880222841},null,{"$f":"F$455/$C456","v":7.6556338028169009},null,{"$f":"H$455/$C456","v":13.345116469145893},null,{"$f":"J$455/$C456","v":3.745154343144292},null,{"$f":"L$455/$C456","v":4.34},null,{"$f":"N$455/$C456","v":5.1206896551724137}]
[null,null,3,{"$f":"D$455/$C457","v":9.6366179201485611},null,{"$f":"F$455/$C457","v":5.1037558685446003},null,{"$f":"H$455/$C457","v":8.8967443127639285},null,{"$f":"J$455/$C457","v":2.4967695620961945},null,{"$f":"L$455/$C457","v":2.8933333333333331},null,{"$f":"N$455/$C457","v":3.4137931034482758}]
[null,null,4,{"$f":"D$455/$C458","v":7.2274634401114204},null,{"$f":"F$455/$C458","v":3.8278169014084504},null,{"$f":"H$455/$C458","v":6.6725582345729464},null,{"$f":"J$455/$C458","v":1.872577171572146},null,{"$f":"L$455/$C458","v":2.17},null,{"$f":"N$455/$C458","v":2.5603448275862069}]
[null,null,5,{"$f":"D$455/$C459","v":5.7819707520891361},null,{"$f":"F$455/$C459","v":3.0622535211267605},null,{"$f":"H$455/$C459","v":5.3380465876583569},null,{"$f":"J$455/$C459","v":1.4980617372577167},null,{"$f":"L$455/$C459","v":1.736},null,{"$f":"N$455/$C459","v":2.0482758620689654}]
[null,null,null,{"$f":"COUNTIF(D455:D459,\">=\"&$C454)","v":2},2,{"$f":"COUNTIF(F455:F459,\">=\"&$C454)","v":1},1,{"$f":"COUNTIF(H455:H459,\">=\"&$C454)","v":2},2,{"$f":"COUNTIF(J455:J459,\">=\"&$C454)","v":0},0,{"$f":"COUNTIF(L455:L459,\">=\"&$C454)","v":0},0,{"$f":"COUNTIF(N455:N459,\">=\"&$C454)","v":0},0]
[]
[null,null,"Ourense","PP",null,"PSOE",null,"En Marea",null,"C's",null,"NÓS"]
[null,null,{"$f":"LARGE(D463:L467,4)","v":17.570249284838578},{"$f":"D44","v":0.44878725626740945},null,{"$f":"F44","v":0.22873239436619719},null,{"$f":"H44","v":0.17570249284838577},null,{"$f":"J44","v":8.3615218951902354E-2},null,{"$f":"L44","v":3.3399999999999999E-2}]
[null,null,1,{"$f":"D463*100","v":44.878725626740945},null,{"$f":"F463*100","v":22.87323943661972},null,{"$f":"H463*100","v":17.570249284838578},null,{"$f":"J463*100","v":8.3615218951902346},null,{"$f":"L463*100","v":3.34}]
[null,null,2,{"$f":"D464/$C465","v":22.439362813370472},null,{"$f":"F$464/$C465","v":11.43661971830986},null,{"$f":"H$464/$C465","v":8.785124642419289},null,{"$f":"J$464/$C465","v":4.1807609475951173},null,{"$f":"L$464/$C465","v":1.67}]
[null,null,3,{"$f":"D$464/$C466","v":14.959575208913648},null,{"$f":"F$464/$C466","v":7.6244131455399069},null,{"$f":"H$464/$C466","v":5.8567497616128597},null,{"$f":"J$464/$C466","v":2.7871739650634115},null,{"$f":"L$464/$C466","v":1.1133333333333333}]
[null,null,4,{"$f":"D$464/$C467","v":11.219681406685236},null,{"$f":"F$464/$C467","v":5.71830985915493},null,{"$f":"H$464/$C467","v":4.3925623212096445},null,{"$f":"J$464/$C467","v":2.0903804737975586},null,{"$f":"L$464/$C467","v":0.83499999999999996}]
[null,null,null,{"$f":"COUNTIF(D464:D467,\">=\"&$C463)","v":2},2,{"$f":"COUNTIF(F464:F467,\">=\"&$C463)","v":1},1,{"$f":"COUNTIF(H464:H467,\">=\"&$C463)","v":1},1,{"$f":"COUNTIF(J464:J467,\">=\"&$C463)","v":0},0,{"$f":"COUNTIF(L464:L467,\">=\"&$C463)","v":0},0]
[]
[null,null,"Palencia","PP",null,"PSOE",null,"UP",null,"C's"]
[null,null,{"$f":"LARGE(D471:J474,3)","v":20.155954038997212},{"$f":"D45","v":0.40311908077994424},null,{"$f":"F45","v":0.24214084507042255},null,{"$f":"H45","v":0.1762934205149162},null,{"$f":"J45","v":0.15044364680545583}]
[null,null,1,{"$f":"D471*100","v":40.311908077994424},null,{"$f":"F471*100","v":24.214084507042255},null,{"$f":"H471*100","v":17.629342051491619},null,{"$f":"J471*100","v":15.044364680545582}]
[null,null,2,{"$f":"D$472/$C473","v":20.155954038997212},null,{"$f":"F$472/$C473","v":12.107042253521128},null,{"$f":"H$472/$C473","v":8.8146710257458096},null,{"$f":"J$472/$C473","v":7.5221823402727912}]
[null,null,3,{"$f":"D$472/$C474","v":13.437302692664808},null,{"$f":"F$472/$C474","v":8.0713615023474183},null,{"$f":"H$472/$C474","v":5.8764473504972061},null,{"$f":"J$472/$C474","v":5.0147882268485278}]
[null,null,null,{"$f":"COUNTIF(D472:D474,\">=\"&$C471)","v":2},2,{"$f":"COUNTIF(F472:F474,\">=\"&$C471)","v":1},1,{"$f":"COUNTIF(H472:H474,\">=\"&$C471)","v":0},0,{"$f":"COUNTIF(J472:J474,\">=\"&$C471)","v":0},0]
[]
[null,null,"Pontevedra","PP",null,"PSOE",null,"En Marea",null,"C's",null,"NÓS"]
[null,null,{"$f":"LARGE(D478:L485,7)","v":10.263380281690141},{"$f":"D46","v":0.34436002785515318},null,{"$f":"F46","v":0.20526760563380281},null,{"$f":"H46","v":0.27527380465876583},null,{"$f":"J46","v":9.5620961952620223E-2},null,{"$f":"L46","v":4.65E-2}]
[null,null,1,{"$f":"D478*100","v":34.436002785515321},null,{"$f":"F478*100","v":20.526760563380282},null,{"$f":"H478*100","v":27.527380465876583},null,{"$f":"J478*100","v":9.562096195262022},null,{"$f":"L478*100","v":4.6500000000000004}]
[null,null,2,{"$f":"D$479/$C480","v":17.21800139275766},null,{"$f":"F$479/$C480","v":10.263380281690141},null,{"$f":"H$479/$C480","v":13.763690232938291},null,{"$f":"J$479/$C480","v":4.781048097631011},null,{"$f":"L$479/$C480","v":2.3250000000000002}]
[null,null,3,11.478667595171773,null,6.8422535211267608,null,9.1757934886255281,null,3.187365398420674,null,1.55]
[null,null,4,8.6090006963788301,null,5.1316901408450706,null,6.8818451164691457,null,2.3905240488155055,null,1.1625000000000001]
[null,null,5,6.8872005571030641,null,4.1053521126760568,null,5.5054760931753162,null,1.9124192390524044,null,0.93]
[null,null,6,5.7393337975858865,null,3.4211267605633804,null,4.5878967443127641,null,1.593682699210337,null,0.77500000000000002]
[null,null,7,4.9194289693593314,null,2.9323943661971832,null,3.9324829236966545,null,1.3660137421802889,null,0.66428571428571437]
[null,null,null,{"$f":"COUNTIF(D479:D485,\">=\"&$C478)","v":3},3,{"$f":"COUNTIF(F479:F485,\">=\"&$C478)","v":2},2,{"$f":"COUNTIF(H479:H485,\">=\"&$C478)","v":2},2,{"$f":"COUNTIF(J479:J485,\">=\"&$C478)","v":0},0,{"$f":"COUNTIF(L479:L485,\">=\"&$C478)","v":0},0]
[]
[null,null,"Salamanca","PP",null,"PSOE",null,"UP",null,"C's"]
[null,null,{"$f":"LARGE(D489:J493,4)","v":17.902368987796123},{"$f":"D47","v":0.42710236768802223},null,{"$f":"F47","v":0.21443661971830985},null,{"$f":"H47","v":0.15354270535349407},null,{"$f":"J47","v":0.17902368987796122}]
[null,null,1,{"$f":"D489*100","v":42.710236768802226},null,{"$f":"F489*100","v":21.443661971830984},null,{"$f":"H489*100","v":15.354270535349407},null,{"$f":"J489*100","v":17.902368987796123}]
[null,null,2,{"$f":"D$490/$C491","v":21.355118384401113},null,{"$f":"F$490/$C491","v":10.721830985915492},null,{"$f":"H$490/$C491","v":7.6771352676747036},null,{"$f":"J$490/$C491","v":8.9511844938980616}]
[null,null,3,{"$f":"D$490/$C492","v":14.236745589600742},null,{"$f":"F$490/$C492","v":7.1478873239436611},null,{"$f":"H$490/$C492","v":5.1180901784498021},null,{"$f":"J$490/$C492","v":5.9674563292653744}]
[null,null,4,{"$f":"D$490/$C493","v":10.677559192200556},null,{"$f":"F$490/$C493","v":5.3609154929577461},null,{"$f":"H$490/$C493","v":3.8385676338373518},null,{"$f":"J$490/$C493","v":4.4755922469490308}]
[null,null,null,{"$f":"COUNTIF(D490:D493,\">=\"&$C489)","v":2},2,{"$f":"COUNTIF(F490:F493,\">=\"&$C489)","v":1},1,{"$f":"COUNTIF(H490:H493,\">=\"&$C489)","v":0},0,{"$f":"COUNTIF(J490:J493,\">=\"&$C489)","v":1},1]
[]
[null,null,"Santa Cruz de Tenerife","PP",null,"PSOE",null,"UP",null,"C's",null,"CC"]
[null,null,{"$f":"LARGE(D497:L504,7)","v":11.166403445800428},{"$f":"D48","v":0.28909853760445681},null,{"$f":"F48","v":0.2123661971830986},null,{"$f":"H48","v":0.22799959133633019},null,{"$f":"J48","v":0.11166403445800428},null,{"$f":"L48","v":0.15236363636363637}]
[null,null,1,{"$f":"D497*100","v":28.909853760445682},null,{"$f":"F497*100","v":21.236619718309861},null,{"$f":"H497*100","v":22.799959133633017},null,{"$f":"J497*100","v":11.166403445800428},null,{"$f":"L497*100","v":15.236363636363636}]
[null,null,2,{"$f":"D$498/$C499","v":14.454926880222841},null,{"$f":"F$498/$C499","v":10.61830985915493},null,{"$f":"H$498/$C499","v":11.399979566816508},null,{"$f":"J$498/$C499","v":5.5832017229002142},null,{"$f":"L$498/$C499","v":7.6181818181818182}]
[null,null,3,9.6366179201485611,null,7.0788732394366205,null,7.5999863778776726,null,3.7221344819334763,null,5.0787878787878791]
[null,null,4,7.2274634401114204,null,5.3091549295774652,null,5.6999897834082542,null,2.7916008614501071,null,3.8090909090909091]
[null,null,5,5.7819707520891361,null,4.2473239436619723,null,4.5599918267266037,null,2.2332806891600856,null,3.0472727272727274]
[null,null,6,4.8183089600742806,null,3.5394366197183103,null,3.7999931889388363,null,1.8610672409667381,null,2.5393939393939395]
[null,null,7,4.129979108635097,null,3.0338028169014088,null,3.2571370190904312,null,1.5952004922572041,null,2.1766233766233767]
[null,null,null,{"$f":"COUNTIF(D498:D504,\">=\"&$C497)","v":2},2,{"$f":"COUNTIF(F498:F504,\">=\"&$C497)","v":1},2,{"$f":"COUNTIF(H498:H504,\">=\"&$C497)","v":2},1,{"$f":"COUNTIF(J498:J504,\">=\"&$C497)","v":1},1,{"$f":"COUNTIF(L498:L504,\">=\"&$C497)","v":1},1]
[]
[null,null,"Segovia","PP",null,"PSOE",null,"UP",null,"C's"]
[null,null,{"$f":"LARGE(D508:J511,3)","v":19.706267409470748},{"$f":"D49","v":0.39412534818941497},null,{"$f":"F49","v":0.21226760563380281},null,{"$f":"H49","v":0.18052840212505106},null,{"$f":"J49","v":0.18125484565685568}]
[null,null,1,{"$f":"D508*100","v":39.412534818941495},null,{"$f":"F508*100","v":21.226760563380282},null,{"$f":"H508*100","v":18.052840212505107},null,{"$f":"J508*100","v":18.125484565685568}]
[null,null,2,{"$f":"D509/$C510","v":19.706267409470748},null,{"$f":"F$509/$C510","v":10.613380281690141},null,{"$f":"H$509/$C510","v":9.0264201062525533},null,{"$f":"J$509/$C510","v":9.0627422828427839}]
[null,null,3,{"$f":"D$509/$C511","v":13.137511606313831},null,{"$f":"F$509/$C511","v":7.0755868544600942},null,{"$f":"H$509/$C511","v":6.0176134041683689},null,{"$f":"J$509/$C511","v":6.0418281885618557}]
[null,null,null,{"$f":"COUNTIF(D509:D511,\">=\"&$C508)","v":2},2,{"$f":"COUNTIF(F509:F511,\">=\"&$C508)","v":1},1,{"$f":"COUNTIF(H509:H511,\">=\"&$C508)","v":0},0,{"$f":"COUNTIF(J509:J511,\">=\"&$C508)","v":0},0]
[]
[null,null,"Sevilla","PP",null,"PSOE",null,"UP",null,"C's"]
[null,null,{"$f":"LARGE(D515:J527,12)","v":6.9165829145728637},{"$f":"D50","v":0.25172458217270194},null,{"$f":"F50","v":0.33481690140845072},null,{"$f":"H50","v":0.24336371066612175},null,{"$f":"J50","v":0.13833165829145727}]
[null,null,1,{"$f":"D515*100","v":25.172458217270194},null,{"$f":"F515*100","v":33.481690140845075},null,{"$f":"H515*100","v":24.336371066612177},null,{"$f":"J515*100","v":13.833165829145727}]
[null,null,2,{"$f":"D$516/$C517","v":12.586229108635097},null,{"$f":"F$516/$C517","v":16.740845070422537},null,{"$f":"H$516/$C517","v":12.168185533306088},null,{"$f":"J$516/$C517","v":6.9165829145728637}]
[null,null,3,8.3908194057567318,null,11.160563380281692,null,8.1121236888707262,null,4.6110552763819088]
[null,null,4,6.2931145543175484,null,8.3704225352112687,null,6.0840927666530442,null,3.4582914572864318]
[null,null,5,5.0344916434540385,null,6.6963380281690146,null,4.8672742133224354,null,2.7666331658291456]
[null,null,6,4.1954097028783659,null,5.5802816901408461,null,4.0560618444353631,null,2.3055276381909544]
[null,null,7,3.5960654596100277,null,4.7830985915492965,null,3.476624438087454,null,1.9761665470208183]
[null,null,8,3.1465572771587742,null,4.1852112676056343,null,3.0420463833265221,null,1.7291457286432159]
[null,null,9,2.7969398019189105,null,3.7201877934272307,null,2.7040412296235754,null,1.5370184254606363]
[null,null,10,2.5172458217270193,null,3.3481690140845073,null,2.4336371066612177,null,1.3833165829145728]
[null,null,11,2.2884052924791085,null,3.0437900128040978,null,2.2123973696920163,null,1.2575605299223389]
[null,null,12,2.0977048514391829,null,2.790140845070423,null,2.0280309222176816,null,1.1527638190954772]
[null,null,null,{"$f":"COUNTIF(D516:D527,\">=\"&$C515)","v":3},3,{"$f":"COUNTIF(F516:F527,\">=\"&$C515)","v":4},5,{"$f":"COUNTIF(H516:H527,\">=\"&$C515)","v":3},2,{"$f":"COUNTIF(J516:J527,\">=\"&$C515)","v":2},2]
[]
[null,null,"Soria","PP",null,"PSOE",null,"UP",null,"C's"]
[null,null,{"$f":"LARGE(D531:J533,2)","v":23.484507042253522},{"$f":"D51","v":0.38633077994428966},null,{"$f":"F51","v":0.23484507042253522},null,{"$f":"H51","v":0.19283939517776869},null,{"$f":"J51","v":0.16117444364680542}]
[null,null,1,{"$f":"D531*100","v":38.633077994428966},null,{"$f":"F531*100","v":23.484507042253522},null,{"$f":"H531*100","v":19.283939517776869},null,{"$f":"J531*100","v":16.117444364680541}]
[null,null,2,{"$f":"D$532/$C533","v":19.316538997214483},null,{"$f":"F$532/$C533","v":11.742253521126761},null,{"$f":"H$532/$C533","v":9.6419697588884343},null,{"$f":"J$532/$C533","v":8.0587221823402704}]
[null,null,null,{"$f":"COUNTIF(D532:D533,\">=\"&$C531)","v":1},1,{"$f":"COUNTIF(F532:F533,\">=\"&$C531)","v":1},1,{"$f":"COUNTIF(H532:H533,\">=\"&$C531)","v":0},0,{"$f":"COUNTIF(J532:J533,\">=\"&$C531)","v":0},0]
[]
[null,null,"Tarragona","PP",null,"PSOE",null,"En Comú Podem",null,"C's",null,"DiL",null,"ERC"]
[null,null,{"$f":"LARGE(D537:N543,6)","v":12.211490250696377},{"$f":"D52","v":0.12211490250696377},null,{"$f":"F52","v":0.15577464788732395},null,{"$f":"H52","v":0.20337760523089496},null,{"$f":"J52","v":0.15118736539842065},null,{"$f":"L52","v":0.17011111111111113},null,{"$f":"N52","v":0.16821757322175732}]
[null,null,1,{"$f":"D537*100","v":12.211490250696377},null,{"$f":"F537*100","v":15.577464788732396},null,{"$f":"H537*100","v":20.337760523089496},null,{"$f":"J537*100","v":15.118736539842065},null,{"$f":"L537*100","v":17.011111111111113},null,{"$f":"N537*100","v":16.821757322175731}]
[null,null,2,{"$f":"D538/$C539","v":6.1057451253481885},null,{"$f":"F$538/$C539","v":7.7887323943661979},null,{"$f":"H$538/$C539","v":10.168880261544748},null,{"$f":"J$538/$C539","v":7.5593682699210323},null,{"$f":"L$538/$C539","v":8.5055555555555564},null,{"$f":"N$538/$C539","v":8.4108786610878656}]
[null,null,3,{"$f":"D$538/$C540","v":4.0704967502321256},null,{"$f":"F$538/$C540","v":5.1924882629107989},null,{"$f":"H$538/$C540","v":6.7792535076964988},null,{"$f":"J$538/$C540","v":5.0395788466140212},null,{"$f":"L$538/$C540","v":5.6703703703703709},null,{"$f":"N$538/$C540","v":5.6072524407252438}]
[null,null,4,{"$f":"D$538/$C541","v":3.0528725626740942},null,{"$f":"F$538/$C541","v":3.894366197183099},null,{"$f":"H$538/$C541","v":5.0844401307723741},null,{"$f":"J$538/$C541","v":3.7796841349605161},null,{"$f":"L$538/$C541","v":4.2527777777777782},null,{"$f":"N$538/$C541","v":4.2054393305439328}]
[null,null,5,{"$f":"D$538/$C542","v":2.4422980501392755},null,{"$f":"F$538/$C542","v":3.1154929577464792},null,{"$f":"H$538/$C542","v":4.0675521046178993},null,{"$f":"J$538/$C542","v":3.0237473079684127},null,{"$f":"L$538/$C542","v":3.4022222222222225},null,{"$f":"N$538/$C542","v":3.3643514644351464}]
[null,null,6,{"$f":"D$538/$C543","v":2.0352483751160628},null,{"$f":"F$538/$C543","v":2.5962441314553995},null,{"$f":"H$538/$C543","v":3.3896267538482494},null,{"$f":"J$538/$C543","v":2.5197894233070106},null,{"$f":"L$538/$C543","v":2.8351851851851855},null,{"$f":"N$538/$C543","v":2.8036262203626219}]
[null,null,null,{"$f":"COUNTIF(D538:D543,\">=\"&$C537)","v":1},1,{"$f":"COUNTIF(F538:F543,\">=\"&$C537)","v":1},1,{"$f":"COUNTIF(H538:H543,\">=\"&$C537)","v":1},1,{"$f":"COUNTIF(J538:J543,\">=\"&$C537)","v":1},1,{"$f":"COUNTIF(L538:L543,\">=\"&$C537)","v":1},1,{"$f":"COUNTIF(N538:N543,\">=\"&$C537)","v":1},1]
[]
[null,null,"Teruel","PP",null,"PSOE",null,"UP",null,"C's"]
[null,null,{"$f":"LARGE(D547:J550,3)","v":19.943808745402531},{"$f":"D53","v":0.36434610027855147},null,{"$f":"F53","v":0.25278873239436622},null,{"$f":"H53","v":0.19943808745402533},null,{"$f":"J53","v":0.15639339554917442}]
[null,null,1,{"$f":"D547*100","v":36.434610027855143},null,{"$f":"F547*100","v":25.278873239436621},null,{"$f":"H547*100","v":19.943808745402531},null,{"$f":"J547*100","v":15.639339554917441}]
[null,null,2,{"$f":"D$548/$C549","v":18.217305013927572},null,{"$f":"F$548/$C549","v":12.63943661971831},null,{"$f":"H$548/$C549","v":9.9719043727012657},null,{"$f":"J$548/$C549","v":7.8196697774587207}]
[null,null,3,{"$f":"D$548/$C550","v":12.144870009285048},null,{"$f":"F$548/$C550","v":8.4262910798122075},null,{"$f":"H$548/$C550","v":6.6479362484675102},null,{"$f":"J$548/$C550","v":5.2131131849724808}]
[null,null,null,{"$f":"COUNTIF(D548:D550,\">=\"&$C547)","v":1},2,{"$f":"COUNTIF(F548:F550,\">=\"&$C547)","v":1},1,{"$f":"COUNTIF(H548:H550,\">=\"&$C547)","v":1},0,{"$f":"COUNTIF(J548:J550,\">=\"&$C547)","v":0},0]
[]
[null,null,"Toledo","PP",null,"PSOE",null,"UP",null,"C's"]
[null,null,{"$f":"LARGE(D554:J560,6)","v":13.684507042253522},{"$f":"D54","v":0.38762987465181059},null,{"$f":"F54","v":0.27369014084507043},null,{"$f":"H54","v":0.16880833673886392},null,{"$f":"J54","v":0.14661880832735102}]
[null,null,1,{"$f":"D554*100","v":38.762987465181062},null,{"$f":"F554*100","v":27.369014084507043},null,{"$f":"H554*100","v":16.880833673886393},null,{"$f":"J554*100","v":14.661880832735102}]
[null,null,2,{"$f":"D$555/$C556","v":19.381493732590531},null,{"$f":"F$555/$C556","v":13.684507042253522},null,{"$f":"H$555/$C556","v":8.4404168369431964},null,{"$f":"J$555/$C556","v":7.3309404163675511}]
[null,null,3,{"$f":"D$555/$C557","v":12.92099582172702},null,{"$f":"F$555/$C557","v":9.1230046948356804},null,{"$f":"H$555/$C557","v":5.6269445579621307},null,{"$f":"J$555/$C557","v":4.8872936109117004}]
[null,null,4,{"$f":"D$555/$C558","v":9.6907468662952656},null,{"$f":"F$555/$C558","v":6.8422535211267608},null,{"$f":"H$555/$C558","v":4.2202084184715982},null,{"$f":"J$555/$C558","v":3.6654702081837756}]
[null,null,5,{"$f":"D$555/$C559","v":7.7525974930362125},null,{"$f":"F$555/$C559","v":5.4738028169014088},null,{"$f":"H$555/$C559","v":3.3761667347772786},null,{"$f":"J$555/$C559","v":2.9323761665470203}]
[null,null,6,{"$f":"D$555/$C560","v":6.4604979108635101},null,{"$f":"F$555/$C560","v":4.5615023474178402},null,{"$f":"H$555/$C560","v":2.8134722789810653},null,{"$f":"J$555/$C560","v":2.4436468054558502}]
[null,null,null,{"$f":"COUNTIF(D555:D560,\">=\"&$C554)","v":2},2,{"$f":"COUNTIF(F555:F560,\">=\"&$C554)","v":2},2,{"$f":"COUNTIF(H555:H560,\">=\"&$C554)","v":1},1,{"$f":"COUNTIF(J555:J560,\">=\"&$C554)","v":1},1]
[]
[null,null,"Valencia / València","PP",null,"PSOE",null,"A la Valenciana",null,"C's"]
[null,null,{"$f":"LARGE(D564:J580,16)","v":5.3583153864560886},{"$f":"D55","v":0.30198955431754876},null,{"$f":"F55","v":0.1858450704225352},null,{"$f":"H55","v":0.31279771148344909},null,{"$f":"J55","v":0.16074946159368267}]
[null,null,1,{"$f":"D564*100","v":30.198955431754875},null,{"$f":"F564*100","v":18.58450704225352},null,{"$f":"H564*100","v":31.27977114834491},null,{"$f":"J564*100","v":16.074946159368267}]
[null,null,2,{"$f":"D$565/$C566","v":15.099477715877438},null,{"$f":"F$565/$C566","v":9.2922535211267601},null,{"$f":"H$565/$C566","v":15.639885574172455},null,{"$f":"J$565/$C566","v":8.0374730796841334}]
[null,null,3,10.066318477251626,null,6.1948356807511731,null,10.426590382781637,null,5.3583153864560886]
[null,null,4,7.5497388579387188,null,4.64612676056338,null,7.8199427870862275,null,4.0187365398420667]
[null,null,5,6.0397910863509754,null,3.7169014084507039,null,6.2559542296689816,null,3.2149892318736533]
[null,null,6,5.0331592386258128,null,3.0974178403755865,null,5.2132951913908183,null,2.6791576932280443]
[null,null,7,4.3141364902506965,null,2.6549295774647885,null,4.4685387354778445,null,2.2964208799097525]
[null,null,8,3.7748694289693594,null,2.32306338028169,null,3.9099713935431137,null,2.0093682699210333]
[null,null,9,3.3554394924172084,null,2.0649452269170578,null,3.475530127593879,null,1.7861051288186962]
[null,null,10,3.0198955431754877,null,1.858450704225352,null,3.1279771148344908,null,1.6074946159368266]
[null,null,11,2.7453595847049885,null,1.6895006402048656,null,2.8436155589404462,null,1.4613587417607514]
[null,null,12,2.5165796193129064,null,1.5487089201877933,null,2.6066475956954092,null,1.3395788466140222]
[null,null,13,2.322996571673452,null,1.4295774647887323,null,2.4061362421803776,null,1.2365343199514052]
[null,null,14,2.1570682451253482,null,1.3274647887323943,null,2.2342693677389223,null,1.1482104399548763]
[null,null,15,2.0132636954503251,null,1.2389671361502346,null,2.0853180765563275,null,1.0716630772912177]
[null,null,16,1.8874347144846797,null,1.161531690140845,null,1.9549856967715569,null,1.0046841349605167]
[null,null,null,{"$f":"COUNTIF(D565:D580,\">=\"&$C564)","v":5},5,{"$f":"COUNTIF(F565:F580,\">=\"&$C564)","v":3},3,{"$f":"COUNTIF(H565:H580,\">=\"&$C564)","v":5},6,{"$f":"COUNTIF(J565:J580,\">=\"&$C564)","v":3},2]
[]
[null,null,"Valladolid","PP",null,"PSOE",null,"UP",null,"C's"]
[null,null,{"$f":"LARGE(D584:J589,5)","v":18.178607322325913},{"$f":"D56","v":0.36934261838440108},null,{"$f":"F56","v":0.21285915492957747},null,{"$f":"H56","v":0.20367306906416019},null,{"$f":"J56","v":0.18178607322325913}]
[null,null,1,{"$f":"D584*100","v":36.934261838440108},null,{"$f":"F584*100","v":21.285915492957745},null,{"$f":"H584*100","v":20.367306906416019},null,{"$f":"J584*100","v":18.178607322325913}]
[null,null,2,{"$f":"D$585/$C586","v":18.467130919220054},null,{"$f":"F$585/$C586","v":10.642957746478872},null,{"$f":"H$585/$C586","v":10.183653453208009},null,{"$f":"J$585/$C586","v":9.0893036611629565}]
[null,null,3,{"$f":"D$585/$C587","v":12.31142061281337},null,{"$f":"F$585/$C587","v":7.0953051643192486},null,{"$f":"H$585/$C587","v":6.7891023021386729},null,{"$f":"J$585/$C587","v":6.059535774108638}]
[null,null,4,{"$f":"D$585/$C588","v":9.2335654596100269},null,{"$f":"F$585/$C588","v":5.3214788732394362},null,{"$f":"H$585/$C588","v":5.0918267266040047},null,{"$f":"J$585/$C588","v":4.5446518305814783}]
[null,null,5,{"$f":"D$585/$C589","v":7.3868523676880216},null,{"$f":"F$585/$C589","v":4.2571830985915486},null,{"$f":"H$585/$C589","v":4.0734613812832041},null,{"$f":"J$585/$C589","v":3.6357214644651825}]
[null,null,null,{"$f":"COUNTIF(D585:D589,\">=\"&$C584)","v":2},2,{"$f":"COUNTIF(F585:F589,\">=\"&$C584)","v":1},1,{"$f":"COUNTIF(H585:H589,\">=\"&$C584)","v":1},1,{"$f":"COUNTIF(J585:J589,\">=\"&$C584)","v":1},1]
[]
[null,null,"Zamora","PP",null,"PSOE",null,"UP",null,"C's"]
[null,null,{"$f":"LARGE(D593:J596,3)","v":21.27517409470752},{"$f":"D57","v":0.42550348189415038},null,{"$f":"F57","v":0.22656338028169015},null,{"$f":"H57","v":0.18584675112382509},null,{"$f":"J57","v":0.13726920315865038}]
[null,null,1,{"$f":"D593*100","v":42.55034818941504},null,{"$f":"F593*100","v":22.656338028169014},null,{"$f":"H593*100","v":18.584675112382509},null,{"$f":"J593*100","v":13.726920315865037}]
[null,null,2,{"$f":"D$594/$C595","v":21.27517409470752},null,{"$f":"F$594/$C595","v":11.328169014084507},null,{"$f":"H$594/$C595","v":9.2923375561912547},null,{"$f":"J$594/$C595","v":6.8634601579325185}]
[null,null,3,{"$f":"D$594/$C596","v":14.18344939647168},null,{"$f":"F$594/$C596","v":7.5521126760563382},null,{"$f":"H$594/$C596","v":6.1948917041275031},null,{"$f":"J$594/$C596","v":4.575640105288346}]
[null,null,null,{"$f":"COUNTIF(D594:D596,\">=\"&$C593)","v":2},2,{"$f":"COUNTIF(F594:F596,\">=\"&$C593)","v":1},1,{"$f":"COUNTIF(H594:H596,\">=\"&$C593)","v":0},0,{"$f":"COUNTIF(J594:J596,\">=\"&$C593)","v":0},0]
[]
[null,null,"Zaragoza","PP",null,"PSOE",null,"UP",null,"C's"]
[null,null,{"$f":"LARGE(D600:J607,7)","v":10.992957746478874},{"$f":"D58","v":0.30288892757660163},null,{"$f":"F58","v":0.21985915492957747},null,{"$f":"H58","v":0.25340948099713934},null,{"$f":"J58","v":0.18922325915290736}]
[null,null,1,{"$f":"D600*100","v":30.288892757660165},null,{"$f":"F600*100","v":21.985915492957748},null,{"$f":"H600*100","v":25.340948099713934},null,{"$f":"J600*100","v":18.922325915290735}]
[null,null,2,{"$f":"D$601/$C602","v":15.144446378830082},null,{"$f":"F$601/$C602","v":10.992957746478874},null,{"$f":"H$601/$C602","v":12.670474049856967},null,{"$f":"J$601/$C602","v":9.4611629576453673}]
[null,null,3,10.096297585886722,null,7.3286384976525829,null,8.4469826999046447,null,6.3074419717635779]
[null,null,4,7.5722231894150411,null,5.496478873239437,null,6.3352370249284835,null,4.7305814788226836]
[null,null,5,6.0577785515320333,null,4.3971830985915492,null,5.0681896199427872,null,3.7844651830581468]
[null,null,6,5.0481487929433611,null,3.6643192488262915,null,4.2234913499523223,null,3.153720985881789]
[null,null,7,4.3269846796657374,null,3.1408450704225355,null,3.6201354428162764,null,2.7031894164701051]
[null,null,null,{"$f":"COUNTIF(D601:D607,\">=\"&$C600)","v":2},3,{"$f":"COUNTIF(F601:F607,\">=\"&$C600)","v":2},2,{"$f":"COUNTIF(H601:H607,\">=\"&$C600)","v":2},1,{"$f":"COUNTIF(J601:J607,\">=\"&$C600)","v":1},1]

{"sheet":"Senado","index":1,"n_rows":501,"n_cols":46,"rows_kept":501,"cut":false,"hidden":false,"merged":[[5,22,6,22],[5,23,6,23],[4,3,4,15],[4,27,4,33],[5,3,5,4],[5,5,5,6],[5,7,5,8],[5,9,5,10],[5,11,5,12],[5,13,5,14],[5,15,5,16],[5,21,6,21]]}
[]
[null,null,"v1.0",null,null,null,null,null,null,null,null,null,null,"Calculadora de circunscripciones electorales españolas",null,null,null,null,null,null,null,null,"SENADO"]
[null,null,null,null,null,null,null,null,null,null,"www.Electomania.es",null,null,null,null,"Lutxana"]
[]
[null,null,null,"Extrapolación por circunscripciones",null,null,null,null,null,null,null,null,null,null,null,null,null,null,null,null,null,null,null,null,null,null,null,"20D"]
[null,null,null,"PP",null,"PSOE",null,"UP",null,"C´s",null,null,null,"Terr1",null,"Terr2",null,null,null,null,null,"20D","Introducir datos encuesta","Cociente","Electos",null,null,"PP","PSOE","UP","Cs","IU","Nac1","Nac2",null,null,null,null,{"$f":"C7","v":"A Coruña"},"PP","PSOE","UP","C´s","Equo","BNG"]
[null,8,"A Coruña",{"$f":"AB7*X$8","v":0.35465285515320327},{"$f":"AN16","v":3},{"$f":"AC7*X$9","v":0.20142253521126763},{"$f":"AO16","v":0},{"$f":"AD7*X10","v":0.25951573355128726},{"$f":"AP16","v":1},{"$f":"AE7*X$11","v":0.10528930366116293},{"$f":"AQ16","v":0},null,null,0,{"$f":"AS16","v":0},null,null,"BNG",null,null,null,null,null,null,"Electos","Designados","Total",0.35489999999999999,0.20430000000000001,0.26350000000000001,9.9099999999999994E-2,0,4.5499999999999999E-2,null,"BNG",null,null,{"$f":"LARGE(AN8:AR8,2)","v":25.951573355128726},{"$f":"LARGE(AN8:AR8,1)","v":35.465285515320325},{"$f":"$D7","v":0.35465285515320327},{"$f":"$F7","v":0.20142253521126763},{"$f":"$H7","v":0.25951573355128726},{"$f":"$J7","v":0.10528930366116293},{"$f":"$L7","v":0},{"$f":"$N7","v":0}]
[null,4,"Albacete",0.36824338440111415,{"$f":"AN25","v":3},0.27763380281690142,{"$f":"AO25","v":1},{"$f":"AD8*X$10","v":0.17658888434818143},{"$f":"AP25","v":0},0.15479971284996408,{"$f":"AQ25","v":0},null,null,null,null,null,null,null,null,null,"PP",0.28720000000000001,{"$f":"Congreso!V8","v":0.28699999999999998},{"$f":"W8/V8","v":0.99930362116991633},{"$f":"E59","v":117},21,{"$f":"Y8+Z8","v":138},0.36849999999999999,0.28160000000000002,0.17929999999999999,0.1457,0,null,null,null,null,null,null,1,{"$f":"AN7*100","v":35.465285515320325},20.142253521126761,25.951573355128726,10.528930366116294,0,0]
[null,12,"Alicante / Alacant",0.32847110027855148,{"$f":"AN41","v":3},0.20566197183098592,{"$f":"AO41","v":0},0.25537923988557415,{"$f":"AP41","v":1},0.18114860014357501,{"$f":"AQ41","v":0},null,null,null,{"$f":"AS41","v":0},{"$f":"AH9*X$15","v":0},{"$f":"AT41","v":0},"Comp","ERC",null,"PSOE",0.22009999999999999,{"$f":"Congreso!V9","v":0.217},{"$f":"W9/V9","v":0.9859154929577465},{"$f":"G59","v":41},20,{"$f":"Y9+Z9","v":61},0.32869999999999999,0.20860000000000001,0.25929999999999997,0.17050000000000001,0,0,0,"Comp","ERC",null,null,2,{"$f":"AN$8/$AM9","v":17.732642757660162},10.071126760563381,12.975786677564363,5.2644651830581468,0,0]
[null,6,"Almería",0.3801350974930362,{"$f":"AN51","v":3},0.2843380281690141,{"$f":"AO51","v":1},0.1603383735185942,{"$f":"AP51","v":0},0.15256855707106962,{"$f":"AQ51","v":0},null,null,null,{"$f":"AS51","v":0},null,null,"PA",null,null,"Podemos",0.2447,{"$f":"Congreso!V10","v":0.24099999999999999},{"$f":"W10/V10","v":0.98487944421740903},{"$f":"I59","v":37},7,44,0.38040000000000002,0.28839999999999999,0.1628,0.14360000000000001,0,0,null,"PA",null,null,null,3,11.821761838440109,6.7140845070422541,8.6505244517095754,3.5096434553720979,0,0]
[null,4,"Araba - Álava",0.18786908077994427,{"$f":"AN59","v":1},0.13950704225352112,{"$f":"AO59","v":0},0.303342868818962,{"$f":"AP59","v":3},6.2259870782483837E-2,{"$f":"AQ59","v":0},null,null,{"$f":"AG11*X$13","v":0.15472932330827069},{"$f":"AS59","v":0},{"$f":"AH11*X$14","v":0.12258620689655172},{"$f":"AT59","v":0},"PNV","Bildu",null,"C´s",0.13930000000000001,{"$f":"Congreso!V14","v":0.14799999999999999},{"$f":"W11/V11","v":1.0624551328068914},{"$f":"K59","v":0},3,3,0.188,0.14149999999999999,0.308,5.8599999999999999E-2,0,0.1583,0.11849999999999999,"PNV","Amaiur",null,null,4,8.8663213788300812,5.0355633802816904,6.4878933387821816,2.6322325915290734,0,0]
[null,8,"Asturias",0.30129004178272978,{"$f":"AN71","v":3},0.2294225352112676,{"$f":"AO71","v":0},0.29329709848794444,{"$f":"AP71","v":1},0.14406891600861446,{"$f":"AQ71","v":0},null,null,null,{"$f":"AS71","v":0},null,null,"FAC",null,null,"DiL",2.2499999999999999E-2,{"$f":"Congreso!V15","v":2.5000000000000001E-2},{"$f":"W12/V12","v":1.1111111111111112},{"$f":"O15+O27+O37+O52","v":7},2,9,0.30149999999999999,0.23269999999999999,0.29780000000000001,0.1356,0,0,null,"FAC",null,null,null,5,7.0930571030640648,4.0284507042253521,5.1903146710257451,2.1057860732232587,0,0]
[null,3,"Ávila",0.4620779944289693,{"$f":"AN78","v":3},0.19540845070422536,{"$f":"AO78","v":1},0.15265631385369841,{"$f":"AP78","v":0},0.16627422828427851,{"$f":"AQ78","v":0},null,null,null,null,null,null,null,null,null,"PNV",1.3299999999999999E-2,{"$f":"Congreso!V16","v":1.2999999999999999E-2},0.97744360902255645,{"$f":"O11+O26+O16","v":2},1,3,0.46239999999999998,0.19819999999999999,0.155,0.1565,0,null,null,null,null,null,null,6,5.9108809192200544,3.3570422535211271,4.3252622258547877,1.7548217276860489,0,0]
[null,6,"Badajoz",0.3446598189415041,{"$f":"AN88","v":1},0.36685915492957744,{"$f":"AO88","v":3},0.14694401307723742,{"$f":"AP88","v":0},0.12058865757358218,{"$f":"AQ88","v":0},null,null,null,null,null,null,null,null,null,"Bildu",8.6999999999999994E-3,{"$f":"Congreso!V17","v":8.9999999999999993E-3},1.0344827586206897,{"$f":"Q16+Q26+Q11+Q43","v":0},1,1,0.34489999999999998,0.37209999999999999,0.1492,0.1135,0,null,null,null,null,null,null,7,5.0664693593314754,2.8774647887323943,3.7073676221612466,1.5041329094451847,0,0]
[null,31,"Barcelona",0.11262151810584957,{"$f":"AN123","v":0},0.16040845070422535,{"$f":"AO123","v":1},0.26503105843890479,{"$f":"AP123","v":3},0.14396267049533379,{"$f":"AQ123","v":0},null,null,{"$f":"AG15*X$12","v":0.14722222222222223},{"$f":"AS123","v":0},{"$f":"AH15*X$15","v":0.13934728033472804},{"$f":"AT123","v":0},"DiL","ERC",null,"ERC",2.3900000000000001E-2,{"$f":"Congreso!V18","v":2.3E-2},0.96234309623430958,{"$f":"Q15+Q27+Q9+Q21+Q32+Q55+Q37+Q52","v":2},2,4,0.11269999999999999,0.16270000000000001,0.26910000000000001,0.13550000000000001,null,0.13250000000000001,0.14480000000000001,"CiU","ERC",null,null,8,4.4331606894150406,2.5177816901408452,3.2439466693910908,1.3161162957645367,0,0]
[null,8,"Bizkaia",0.11372075208913647,{"$f":"D83","v":0},0.12787323943661974,{"$f":"F83","v":0},0.28482713526767472,{"$f":"H83","v":3},4.0692031586503939E-2,{"$f":"J83","v":0},null,null,{"$f":"AG16*X$13","v":0.27300000000000002},{"$f":"N83","v":1},{"$f":"AH16*X$14","v":0.12931034482758622},{"$f":"P83","v":0},"PNV","Bildu",null,"CC",3.3E-3,{"$f":"Congreso!V20","v":4.0000000000000001E-3},1.2121212121212122,{"$f":"O35+O48","v":1},1,2,0.1138,0.12970000000000001,0.28920000000000001,3.8300000000000001E-2,0,0.27929999999999999,0.125,"PNV","Amaiur",null,null,null,{"$f":"COUNTIF(AN8:AN15,\">=\"&$AM7)+COUNTIF(AN8:AN15,\">=\"&$AM7)+COUNTIF(AN8:AN15,\">=\"&$AL7)","v":3},{"$f":"COUNTIF(AO8:AO15,\">=\"&$AM7)+COUNTIF(AO8:AO15,\">=\"&$AM7)+COUNTIF(AO8:AO15,\">=\"&$AL7)","v":0},1,0,0,0]
[null,4,"Burgos",0.38053481894150415,{"$f":"D91","v":3},0.20418309859154932,{"$f":"F91","v":0},0.21421127911728646,{"$f":"H91","v":1},0.16510552763819095,{"$f":"J91","v":0},null,null,null,{"$f":"N91","v":0},null,{"$f":"P91","v":0},null,null,null,"ASG",1.1999999999999999E-3,1.1999999999999999E-3,1,{"$f":"1","v":1},0,1,0.38080000000000003,0.20710000000000001,0.2175,0.15540000000000001,0]
[null,4,"Cáceres",0.35325383008356542,{"$f":"D99","v":3},0.33580281690140845,{"$f":"F99","v":1},0.16575521046178995,{"$f":"H99","v":0},0.12111988513998563,{"$f":"J99","v":0},null,null,null,{"$f":"N99","v":0},null,{"$f":"P99","v":0},null,null,null,null,null,null,{"$f":"PRODUCT(X8:X17)","v":1.3510744149164375},{"$f":"SUM(Y8:Y17)","v":208},{"$f":"SUM(Z8:Z17)","v":58},{"$f":"SUM(AA8:AA17)","v":266},0.35349999999999998,0.34060000000000001,0.16830000000000001,0.114,0,null,null,null,null,null,null,{"$f":"C8","v":"Albacete"},"PP","PSOE","UP","C´s","Equo"]
[null,8,"Cádiz",0.27730675487465178,{"$f":"D111","v":3},0.27605633802816903,{"$f":"F111","v":1},0.25793992644053942,{"$f":"H111","v":0},0.15596841349605167,{"$f":"J111","v":0},null,null,null,{"$f":"N111","v":0},null,{"$f":"P111","v":0},"PA",null,null,null,null,"Senadores",266,null,null,null,0.27750000000000002,0.28000000000000003,0.26190000000000002,0.14680000000000001,0,0,null,"PA",null,null,{"$f":"LARGE(AN20:AR20,2)","v":27.763380281690143},{"$f":"LARGE(AN20:AR20,1)","v":36.824338440111418},{"$f":"$D8","v":0.36824338440111415},{"$f":"$F8","v":0.27763380281690142},{"$f":"$H8","v":0.17658888434818143},{"$f":"$J8","v":0.15479971284996408},{"$f":"$L8","v":0}]
[null,5,"Cantabria",0.36914275766016708,{"$f":"D120","v":3},0.22104225352112677,{"$f":"F120","v":1},0.21923416428279524,{"$f":"H120","v":0},0.16202440775305094,{"$f":"J120","v":0},null,null,null,{"$f":"N120","v":0},null,{"$f":"P120","v":0},"PRC",null,null,null,"Consultar datos del 20D -------------------------------->",null,null,null,null,null,0.36940000000000001,0.22420000000000001,0.22259999999999999,0.1525,0,0,null,"PRC",null,null,null,1,{"$f":"AN19*100","v":36.824338440111418},{"$f":"AO19*100","v":27.763380281690143},{"$f":"AP19*100","v":17.658888434818142},{"$f":"AQ19*100","v":15.479971284996408},{"$f":"AR19*100","v":0}]
[null,5,"Castellón / Castelló",0.31827820334261836,{"$f":"D129","v":3},0.21216901408450706,{"$f":"F129","v":0},0.26808418471597872,{"$f":"H129","v":1},0.16595549174443644,{"$f":"J129","v":0},null,null,null,{"$f":"N129","v":0},{"$f":"AH21*X$15","v":0},{"$f":"P129","v":0},"Comp","ERC",null,null,null,null,null,null,null,null,0.31850000000000001,0.2152,0.2722,0.15620000000000001,0,0,0,"Comp","ERC",null,null,2,{"$f":"AN$20/$AM21","v":18.412169220055709},13.881690140845071,8.8294442174090708,7.7399856424982039,0]
[null,1,"Ceuta",0.44858739554317545,2,0.2274507042253521,0,0.13847404985696771,0,0.14120028715003585,0,null,null,null,0,null,0,null,null,null,null,null,null,null,null,null,null,0.44890000000000002,0.23069999999999999,0.1406,0.13289999999999999,null,null,null,null,null,null,null,3,12.274779480037139,9.2544600938967143,5.8862961449393802,5.1599904283321356,0]
[null,5,"Ciudad Real",0.38393245125348185,{"$f":"D138","v":3},0.30691549295774651,{"$f":"F138","v":1},0.15531548835308542,{"$f":"H138","v":0},0.13100071787508971,{"$f":"J138","v":0},null,null,null,{"$f":"N138","v":0},null,{"$f":"P138","v":0},null,null,null,null,null,null,null,null,null,null,0.38419999999999999,0.31130000000000002,0.15770000000000001,0.12330000000000001,0,null,null,null,null,null,null,4,9.2060846100278546,6.9408450704225357,4.4147221087045354,3.8699928212491019,0]
[null,6,"Cordoba",0.30388823119777153,{"$f":"D148","v":1},0.31608450704225355,{"$f":"F148","v":3},0.22376460972619536,{"$f":"H148","v":0},0.12675089734386216,{"$f":"J148","v":0},null,null,null,null,null,null,null,null,null,null,null,null,null,null,null,null,0.30409999999999998,0.3206,0.22720000000000001,0.1193,0]
[null,3,"Cuenca",0.41900800835654595,{"$f":"D155","v":3},0.30149295774647888,{"$f":"F155","v":1},0.1439893747445852,{"$f":"H155","v":0},0.11442641780330221,{"$f":"J155","v":0},null,null,null,{"$f":"N155","v":0},null,{"$f":"P155","v":0},null,null,null,null,null,null,null,null,null,null,0.41930000000000001,0.30580000000000002,0.1462,0.1077,0,null,null,null,null,null,null,null,{"$f":"COUNTIF(AN20:AN23,\">=\"&$AM19)+COUNTIF(AN20:AN23,\">=\"&$AM19)+COUNTIF(AN20:AN23,\">=\"&$AL19)","v":3},{"$f":"COUNTIF(AO20:AO23,\">=\"&$AM19)+COUNTIF(AO20:AO23,\">=\"&$AM19)+COUNTIF(AO20:AO23,\">=\"&$AL19)","v":1},0,0,0]
[null,6,"Gipuzkoa",8.6839484679665735E-2,{"$f":"D165","v":0},0.13122535211267605,{"$f":"F165","v":0},0.27596322026971803,{"$f":"H165","v":3},3.9523330940416358E-2,{"$f":"J165","v":0},null,null,{"$f":"AG26*X$13","v":0.22979699248120303},{"$f":"N165","v":1},{"$f":"AH26*X$14","v":0.21610344827586209},{"$f":"P165","v":0},"PNV","Bildu",null,null,null,null,null,null,null,null,8.6900000000000005E-2,0.1331,0.2802,3.7199999999999997E-2,0,0.2351,0.2089,"PNV","Amaiur"]
[null,6,"Girona",8.524059888579387E-2,{"$f":"D175","v":0},0.1248169014084507,{"$f":"F175","v":0},0.16014139762975071,{"$f":"H175","v":0},0.10465183058147881,{"$f":"J175","v":0},null,null,{"$f":"AG27*X$12","v":0.27811111111111114},{"$f":"N175","v":3},{"$f":"AH27*X$15","v":0.22557322175732217},{"$f":"P175","v":1},"DiL","ERC",null,null,null,null,null,null,null,null,8.5300000000000001E-2,0.12659999999999999,0.16259999999999999,9.8500000000000004E-2,null,0.25030000000000002,0.2344,"CiU","ERC",null,null,"Alicante / Alacant","PP","PSOE","UP","C´s","Equo","Terr1","Terr2"]
[null,7,"Granada",0.31118314763231197,{"$f":"D186","v":3},0.30563380281690139,{"$f":"F186","v":1},0.21105966489579076,{"$f":"H186","v":0},0.14757501794687722,{"$f":"J186","v":0},null,null,null,{"$f":"N186","v":0},null,{"$f":"P186","v":0},"PA",null,null,null,null,null,null,null,null,null,0.31140000000000001,0.31,0.21429999999999999,0.1389,0,0,null,"PA",null,null,{"$f":"LARGE(AN29:AT29,2)","v":25.537923988557417},{"$f":"LARGE(AN29:AT29,1)","v":32.847110027855145},{"$f":"D9","v":0.32847110027855148},{"$f":"F9","v":0.20566197183098592},{"$f":"H9","v":0.25537923988557415},{"$f":"J9","v":0.18114860014357501},{"$f":"L9","v":0},{"$f":"N9","v":0},{"$f":"P9","v":0}]
[null,3,"Guadalajara",0.34765772980501386,{"$f":"D193","v":3},0.22212676056338029,{"$f":"F193","v":1},0.21253698406211685,{"$f":"H193","v":0},0.19187939698492459,{"$f":"J193","v":0},null,null,null,{"$f":"N193","v":0},null,{"$f":"P193","v":0},null,null,null,null,null,null,null,null,null,null,0.34789999999999999,0.2253,0.21579999999999999,0.18060000000000001,0,null,null,null,null,null,null,1,{"$f":"AN28*100","v":32.847110027855145},20.566197183098591,25.537923988557417,18.1148600143575,0,0,0]
[null,5,"Huelva",0.28759958217270193,{"$f":"D202","v":1},0.36419718309859156,{"$f":"F202","v":3},0.19372578667756438,{"$f":"H202","v":0},0.12611342426417801,{"$f":"J202","v":0},null,null,null,{"$f":"N202","v":0},null,{"$f":"P202","v":0},"PA",null,null,null,null,null,null,null,null,null,0.2878,0.36940000000000001,0.19670000000000001,0.1187,0,0,null,"PA",null,null,null,2,{"$f":"AN$29/$AM30","v":16.423555013927572},{"$f":"AO$29/$AM30","v":10.283098591549296},12.768961994278708,9.0574300071787501,0,0,0]
[null,3,"Huesca",0.32577298050139275,{"$f":"D209","v":3},0.24361971830985915,{"$f":"F209","v":1},0.22809807928075193,{"$f":"H209","v":0},0.1722239770279971,{"$f":"J209","v":0},null,null,null,{"$f":"N209","v":0},null,{"$f":"P209","v":0},null,null,null,null,null,null,null,null,null,null,0.32600000000000001,0.24709999999999999,0.2316,0.16209999999999999,0,null,null,null,null,null,null,3,{"$f":"AN$29/$AM31","v":10.949036675951715},6.8553990610328635,8.5126413295191394,6.0382866714525001,0,0,0]
[null,8,"Illes Balears",0.29049756267409471,{"$f":"D221","v":1},0.18052112676056339,{"$f":"F221","v":0},0.31949489170412754,{"$f":"H221","v":4},0.15703086862885854,{"$f":"J221","v":0},null,null,null,{"$f":"N221","v":0},{"$f":"AH32*X$15","v":0},{"$f":"P221","v":0},"PSM","ERC",null,null,null,null,null,null,null,null,0.29070000000000001,0.18310000000000001,0.32440000000000002,0.14779999999999999,0,0,0,"PSM","ERC",null,null,4,{"$f":"AN$29/$AM32","v":8.2117775069637862},5.1415492957746478,6.3844809971393541,4.5287150035893751,0,0,0]
[null,5,"Jaén",0.31478064066852363,{"$f":"D230","v":1},0.37819718309859157,{"$f":"F230","v":3},0.16565672251736818,{"$f":"H230","v":0},0.11347020818377601,{"$f":"J230","v":0},null,null,null,{"$f":"N230","v":0},null,{"$f":"P230","v":0},"PA",null,null,null,null,null,null,null,null,null,0.315,0.3836,0.16819999999999999,0.10680000000000001,0,0,null,"PA",null,null,null,5,{"$f":"AN$29/$AM33","v":6.5694220055710293},4.1132394366197182,5.1075847977114837,3.6229720028715002,0,0,0]
[null,4,"La Rioja",0.38323293871866293,{"$f":"D238","v":3},0.2337605633802817,{"$f":"F238","v":1},0.19707437678790354,{"$f":"H238","v":0},0.16074946159368267,{"$f":"J238","v":0},null,null,null,{"$f":"N238","v":0},null,{"$f":"P238","v":0},null,null,null,null,null,null,null,null,null,null,0.38350000000000001,0.23710000000000001,0.2001,0.15129999999999999,0,null,null,null,null,null,null,6,{"$f":"AN$29/$AM34","v":5.4745183379758577},3.4276995305164317,4.2563206647595697,3.01914333572625,0,0,0]
[null,8,"Las Palmas",0.28160376044568242,{"$f":"D250","v":2},0.22084507042253523,{"$f":"F250","v":0},0.30196403759705759,{"$f":"H250","v":3},0.13036324479540559,{"$f":"J250","v":0},null,null,{"$f":"AG35*X$16","v":0},{"$f":"N250","v":1},null,{"$f":"P250","v":0},"CC",null,null,null,null,null,null,null,null,null,0.28179999999999999,0.224,0.30659999999999998,0.1227,0,0,null,"CC",null,null,null,7,4.6924442896935918,2.9380281690140846,3.6482748555082023,2.5878371449082143,0,0,0]
[null,5,"León",0.3559519498607242,{"$f":"D259","v":3},0.25012676056338029,{"$f":"F259","v":1},0.22012055578259093,{"$f":"H259","v":0},0.13780043072505382,{"$f":"J259","v":0},null,null,null,{"$f":"N259","v":0},null,{"$f":"P259","v":0},null,null,null,null,null,null,null,null,null,null,0.35620000000000002,0.25369999999999998,0.2235,0.12970000000000001,0,null,null,null,null,null,null,8,4.1058887534818931,2.5707746478873239,3.1922404985696771,2.2643575017946875,0,0,0]
[null,4,"Lleida",0.11252158774373258,{"$f":"D267","v":0},0.122943661971831,{"$f":"F267","v":0},0.15108050674295057,{"$f":"H267","v":0},9.5514716439339536E-2,{"$f":"J267","v":0},null,null,{"$f":"AG37*X$12","v":0.26977777777777778},{"$f":"N267","v":3},{"$f":"AH37*X$15","v":0.2142175732217573},{"$f":"P267","v":1},"DiL","ERC",null,null,null,null,null,null,null,null,0.11260000000000001,0.12470000000000001,0.15340000000000001,8.9899999999999994E-2,null,0.24279999999999999,0.22259999999999999,"CiU","ERC",null,null,9,3.6496788919839052,2.2851330203442881,2.8375471098397131,2.0127622238175,0,0,0]
[null,4,"Lugo",0.4248039693593314,{"$f":"D275","v":3},0.23642253521126763,{"$f":"F275","v":1},0.18968778095627298,{"$f":"H275","v":0},8.0746590093323745E-2,{"$f":"J275","v":0},null,null,0,{"$f":"N275","v":0},null,{"$f":"P275","v":0},"BNG",null,null,null,null,null,null,null,null,null,0.42509999999999998,0.23980000000000001,0.19259999999999999,7.5999999999999998E-2,null,3.5700000000000003E-2,null,"BNG",null,null,null,10,3.2847110027855146,2.0566197183098591,2.5537923988557418,1.8114860014357501,0,0,0]
[null,36,"Madrid",0.33436699164345401,{"$f":"D315","v":3},0.17618309859154929,{"$f":"F315","v":0},0.25725051082958722,{"$f":"H315","v":1},0.19974156496769557,{"$f":"J315","v":0},null,null,null,{"$f":"N315","v":0},null,{"$f":"P315","v":0},null,null,null,null,null,null,null,null,null,null,0.33460000000000001,0.1787,0.26119999999999999,0.188,0,null,null,null,null,null,null,11,2.9861009116231951,1.8696542893725991,2.3216294535052198,1.6468054558506819,0,0,0]
[null,11,"Málaga",0.28949825905292476,{"$f":"D330","v":3},0.26540845070422536,{"$f":"F330","v":1},0.23528769922353901,{"$f":"H330","v":0},0.18136109117013635,{"$f":"J330","v":0},null,null,null,{"$f":"N330","v":0},null,{"$f":"P330","v":0},"PA",null,null,null,null,null,null,null,null,null,0.28970000000000001,0.26919999999999999,0.2389,0.17069999999999999,0,0,null,"PA",null,null,null,12,2.7372591689879289,1.7138497652582159,2.1281603323797849,1.509571667863125,0,0,0]
[null,1,"Melilla",0.43899408077994428,2,0.24243661971830988,0,0.12537515324887616,0,0.16521177315147162,0,null,null,null,0,null,0,null,null,null,null,null,null,null,null,null,null,0.43930000000000002,0.24590000000000001,0.1273,0.1555,0,null,null,null,null,null,null,null,{"$f":"COUNTIF(AN29:AN40,\">=\"&$AM28)+COUNTIF(AN29:AN40,\">=\"&$AM28)+COUNTIF(AN29:AN40,\">=\"&$AL28)","v":3},{"$f":"COUNTIF(AO29:AO40,\">=\"&$AM28)+COUNTIF(AO29:AO40,\">=\"&$AM28)+COUNTIF(AO29:AO40,\">=\"&$AL28)","v":0},1,0,0,0,0]
[null,10,"Murcia",0.40411838440111414,{"$f":"D344","v":3},0.20033802816901408,{"$f":"F344","v":1},0.18013445034736411,{"$f":"H344","v":0},0.18773582196697772,{"$f":"J344","v":0},null,null,null,{"$f":"N344","v":0},null,{"$f":"P344","v":0},null,null,null,null,null,null,null,null,null,null,0.40439999999999998,0.20319999999999999,0.18290000000000001,0.1767,0]
[null,5,"Navarra",0.28909853760445681,{"$f":"D353","v":1},0.15311267605633802,{"$f":"F353","v":0},{"$f":"AD43*X$10+AG43*X$17+AH43*X$14","v":0.45611612248636613},{"$f":"H353","v":3},7.490308686288584E-2,{"$f":"J353","v":0},null,null,{"$f":"0","v":0},{"$f":"N353","v":0},{"$f":"0","v":0},{"$f":"P353","v":0},"G.Bai","Bildu",null,null,null,null,null,null,null,null,0.2893,0.15529999999999999,0.27100000000000002,7.0499999999999993E-2,0,8.6800000000000002E-2,9.9000000000000005E-2,"G.Bai","Amaiur",null,null,"Almería","PP","PSOE","UP","C´s","Equo","Terr1"]
[null,4,"Ourense",0.44878725626740945,{"$f":"D361","v":3},0.22873239436619719,{"$f":"F361","v":1},0.17570249284838577,{"$f":"H361","v":0},8.3615218951902354E-2,{"$f":"J361","v":0},null,null,0,{"$f":"N361","v":0},null,{"$f":"P361","v":0},"BNG",null,null,null,null,null,null,null,null,null,0.4491,0.23200000000000001,0.1784,7.8700000000000006E-2,0,3.3399999999999999E-2,null,"BNG",null,null,{"$f":"LARGE(AN45:AS45,2)","v":28.433802816901409},{"$f":"LARGE(AN45:AS45,1)","v":38.013509749303623},{"$f":"D10","v":0.3801350974930362},{"$f":"F10","v":0.2843380281690141},{"$f":"H10","v":0.1603383735185942},{"$f":"J10","v":0.15256855707106962},{"$f":"L10","v":0},{"$f":"N10","v":0}]
[null,3,"Palencia",0.40311908077994424,{"$f":"D368","v":3},0.24214084507042255,{"$f":"F368","v":1},0.1762934205149162,{"$f":"H368","v":0},0.15044364680545583,{"$f":"J368","v":0},null,null,null,{"$f":"N368","v":0},null,{"$f":"P368","v":0},null,null,null,null,null,null,null,null,null,null,0.40339999999999998,0.24560000000000001,0.17899999999999999,0.1416,0,null,null,null,null,null,null,1,{"$f":"AN44*100","v":38.013509749303623},28.433802816901409,16.033837351859422,15.256855707106961,0,0]
[null,7,"Pontevedra",0.34436002785515318,{"$f":"D379","v":3},0.20526760563380281,{"$f":"F379","v":0},0.27527380465876583,{"$f":"H379","v":1},9.5620961952620223E-2,{"$f":"J379","v":0},null,null,0,{"$f":"N379","v":0},null,{"$f":"P379","v":0},"BNG",null,null,null,null,null,null,null,null,null,0.34460000000000002,0.2082,0.27950000000000003,0.09,0,4.65E-2,null,"BNG",null,null,null,2,{"$f":"AN$45/$AM46","v":19.006754874651811},{"$f":"AO$45/$AM46","v":14.216901408450704},{"$f":"AP$45/$AM46","v":8.0169186759297109},7.6284278535534806,0,0]
[null,4,"Salamanca",0.42710236768802223,{"$f":"D387","v":3},0.21443661971830985,{"$f":"F387","v":1},0.15354270535349407,{"$f":"H387","v":0},0.13652548456568556,{"$f":"J387","v":0},null,null,null,{"$f":"N387","v":0},null,{"$f":"P387","v":0},null,null,null,null,null,null,null,null,null,null,0.4274,0.2175,0.15590000000000001,0.1285,0,null,null,null,null,null,null,3,{"$f":"AN$45/$AM47","v":12.671169916434541},9.4779342723004696,5.3446124506198069,5.0856185690356535,0,0]
[null,7,"Santa Cruz de Tenerife",0.28909853760445681,{"$f":"D398","v":3},0.2123661971830986,{"$f":"F398","v":0},0.22799959133633019,{"$f":"H398","v":1},0.11166403445800428,{"$f":"J398","v":0},null,null,{"$f":"AG48*X$16","v":0.15236363636363637},{"$f":"N398","v":0},null,{"$f":"P398","v":0},"CC",null,null,null,null,null,null,null,null,null,0.2893,0.21540000000000001,0.23150000000000001,0.1051,0,0.12570000000000001,null,"CC",null,null,null,4,9.5033774373259057,7.1084507042253522,4.0084593379648554,3.8142139267767403,0,0]
[null,3,"Segovia",0.39412534818941497,{"$f":"D405","v":3},0.21226760563380281,{"$f":"F405","v":1},0.18052840212505106,{"$f":"H405","v":0},0.18125484565685568,{"$f":"J405","v":0},null,null,null,{"$f":"N405","v":0},null,{"$f":"P405","v":0},null,null,null,null,null,null,null,null,null,null,0.39439999999999997,0.21529999999999999,0.18329999999999999,0.1706,0,null,null,null,null,null,null,5,7.6027019498607249,5.6867605633802816,3.2067674703718843,3.0513711414213924,0,0]
[null,12,"Sevilla",0.25172458217270194,{"$f":"D421","v":1},0.33481690140845072,{"$f":"F421","v":3},0.24336371066612175,{"$f":"H421","v":0},0.13833165829145727,{"$f":"J421","v":0},null,null,null,{"$f":"N421","v":0},null,{"$f":"P421","v":0},"PA",null,null,null,null,null,null,null,null,null,0.25190000000000001,0.33960000000000001,0.24709999999999999,0.13020000000000001,0,0,null,"PA",null,null,null,6,6.3355849582172707,4.7389671361502348,2.6723062253099035,2.5428092845178267,0,0]
[null,2,"Soria",0.38633077994428966,{"$f":"D427","v":3},0.23484507042253522,{"$f":"F427","v":1},0.19283939517776869,{"$f":"H427","v":0},0.16117444364680542,{"$f":"J427","v":0},null,null,null,{"$f":"N427","v":0},null,{"$f":"P427","v":0},null,null,null,null,null,null,null,null,null,null,0.3866,0.2382,0.1958,0.1517,0,null,null,null,null,null,null,null,{"$f":"COUNTIF(AN45:AN50,\">=\"&$AM44)+COUNTIF(AN45:AN50,\">=\"&$AM44)+COUNTIF(AN45:AN50,\">=\"&$AL44)","v":3},{"$f":"COUNTIF(AO45:AO50,\">=\"&$AM44)+COUNTIF(AO45:AO50,\">=\"&$AM44)+COUNTIF(AO45:AO50,\">=\"&$AL44)","v":1},0,0,0,0]
[null,6,"Tarragona",0.12211490250696377,{"$f":"D437","v":0},0.15577464788732395,{"$f":"F437","v":0},0.20337760523089496,{"$f":"H437","v":3},0.15118736539842065,{"$f":"J437","v":0},null,null,{"$f":"AG52*X$12","v":0.17011111111111113},{"$f":"N437","v":1},{"$f":"AH52*X$15","v":0.16821757322175732},{"$f":"P437","v":0},"CiU","ERC",null,null,null,null,null,null,null,null,0.1222,0.158,0.20649999999999999,0.14230000000000001,null,0.15310000000000001,0.17480000000000001,"CiU","ERC"]
[null,3,"Teruel",0.36434610027855147,{"$f":"D444","v":3},0.25278873239436622,{"$f":"F444","v":1},0.19943808745402533,{"$f":"H444","v":0},0.15639339554917442,{"$f":"J444","v":0},null,null,null,{"$f":"N444","v":0},null,{"$f":"P444","v":0},null,null,null,null,null,null,null,null,null,null,0.36459999999999998,0.25640000000000002,0.20250000000000001,0.1472,0,null,null,null,null,null,null,"Araba - Álava","PP","PSOE","UP","C´s","Equo","Terr1","Terr2"]
[null,6,"Toledo",0.38762987465181059,{"$f":"D454","v":3},0.27369014084507043,{"$f":"F454","v":1},0.16880833673886392,{"$f":"H454","v":0},0.14661880832735102,{"$f":"J454","v":0},null,null,null,{"$f":"N454","v":0},null,{"$f":"P454","v":0},null,null,null,null,null,null,null,null,null,null,0.38790000000000002,0.27760000000000001,0.1714,0.13800000000000001,0,null,null,null,null,null,{"$f":"LARGE(AN55:AT55,2)","v":18.786908077994426},{"$f":"LARGE(AN55:AT55,1)","v":30.334286881896201},{"$f":"D11","v":0.18786908077994427},{"$f":"F11","v":0.13950704225352112},{"$f":"H11","v":0.303342868818962},{"$f":"J11","v":6.2259870782483837E-2},{"$f":"L11","v":0},{"$f":"N11","v":0.15472932330827069},{"$f":"P11","v":0.12258620689655172}]
[null,16,"Valencia / València",0.30198955431754876,{"$f":"D474","v":1},0.1858450704225352,{"$f":"F474","v":0},0.31279771148344909,{"$f":"H474","v":3},0.16074946159368267,{"$f":"J474","v":0},null,null,null,{"$f":"N474","v":0},{"$f":"AH55*X$15","v":0},{"$f":"P474","v":0},"Comp","ERC",null,null,null,null,null,null,null,null,0.30220000000000002,0.1885,0.31759999999999999,0.15129999999999999,0,0,0,"Comp","ERC",null,null,1,{"$f":"AN54*100","v":18.786908077994426},{"$f":"AO54*100","v":13.950704225352112},30.334286881896201,6.2259870782483837,0,15.472932330827069,12.258620689655173]
[null,5,"Valladolid",0.36934261838440108,{"$f":"D483","v":3},0.21285915492957747,{"$f":"F483","v":1},0.20367306906416019,{"$f":"H483","v":0},0.18178607322325913,{"$f":"J483","v":0},null,null,null,{"$f":"N483","v":0},null,{"$f":"P483","v":0},null,null,null,null,null,null,null,null,null,null,0.36959999999999998,0.21590000000000001,0.20680000000000001,0.1711,0,null,null,null,null,null,null,2,{"$f":"AN$55/$AM56","v":9.3934540389972128},{"$f":"AO$55/$AM56","v":6.975352112676056},15.167143440948101,3.1129935391241919,0,7.7364661654135345,6.1293103448275863]
[null,3,"Zamora",0.42550348189415038,{"$f":"D490","v":3},0.22656338028169015,{"$f":"F490","v":1},0.18584675112382509,{"$f":"H490","v":0},0.13726920315865038,{"$f":"J490","v":0},null,null,null,{"$f":"N490","v":0},null,{"$f":"P490","v":0},null,null,null,null,null,null,null,null,null,null,0.42580000000000001,0.2298,0.18870000000000001,0.12920000000000001,0,null,null,null,null,null,null,3,{"$f":"AN$55/$AM57","v":6.2623026926648082},4.6502347417840371,10.111428960632066,2.0753290260827946,0,5.1576441102756894,4.0862068965517242]
[null,7,"Zaragoza",0.30288892757660163,{"$f":"D501","v":3},0.21985915492957747,{"$f":"F501","v":0},0.25340948099713934,{"$f":"H501","v":1},0.18922325915290736,{"$f":"J501","v":0},null,null,null,{"$f":"N501","v":0},null,{"$f":"P501","v":0},null,null,null,null,null,null,null,null,null,null,0.30309999999999998,0.223,0.25729999999999997,0.17810000000000001,0,null,null,null,null,null,null,4,{"$f":"AN$55/$AM58","v":4.6967270194986064},3.487676056338028,7.5835717204740503,1.5564967695620959,0,3.8682330827067672,3.0646551724137931]
[null,{"$f":"SUM(B7:B58)","v":350},"Total Estatal",0.28699999999999998,{"$f":"SUM(E7:E58)","v":117},0.217,{"$f":"SUM(G7:G58)","v":41},0.24099999999999999,{"$f":"SUM(I7:I58)","v":37},0.14799999999999999,{"$f":"SUM(K7:K58)","v":0},null,null,null,{"$f":"SUM(O7:O58)","v":10},null,{"$f":"SUM(Q7:Q58)","v":2},null,null,null,null,null,null,null,null,null,null,0.28720000000000001,0.22009999999999999,0.2447,0.13930000000000001,0,null,null,null,null,null,null,null,{"$f":"COUNTIF(AN55:AN58,\">=\"&$AM54)+COUNTIF(AN55:AN58,\">=\"&$AM54)+COUNTIF(AN55:AN58,\">=\"&$AL54)","v":1},{"$f":"COUNTIF(AO55:AO58,\">=\"&$AM54)+COUNTIF(AO55:AO58,\">=\"&$AM54)+COUNTIF(AO55:AO58,\">=\"&$AL54)","v":0},3,0,0,0,0]
[]
[null,null,null,null,null,null,null,null,null,null,null,null,null,null,null,null,null,null,null,null,null,null,null,null,null,null,null,null,null,null,null,null,null,null,null,null,null,null,"Asturias","PP","PSOE","UP","C´s","Equo","Terr1"]
[null,null,null,null,null,null,null,null,null,null,null,null,null,null,null,null,null,null,null,null,null,null,null,null,null,null,null,null,null,null,null,null,null,null,null,null,null,{"$f":"LARGE(AN63:AS63,2)","v":29.329709848794444},{"$f":"LARGE(AN63:AS63,1)","v":30.129004178272979},{"$f":"D12","v":0.30129004178272978},{"$f":"F12","v":0.2294225352112676},{"$f":"H12","v":0.29329709848794444},{"$f":"J12","v":0.14406891600861446},{"$f":"L12","v":0},{"$f":"N12","v":0}]
[null,null,null,null,null,null,null,null,null,null,null,null,null,null,null,null,null,null,null,null,null,null,null,null,null,null,null,null,null,null,null,null,null,null,null,null,null,null,1,{"$f":"AN62*100","v":30.129004178272979},22.942253521126759,29.329709848794444,14.406891600861446,0,0]
[null,null,null,null,null,null,null,null,null,null,null,null,null,null,null,null,null,null,null,null,null,null,null,null,null,null,null,null,null,null,null,null,null,null,null,null,null,null,2,{"$f":"AN$63/$AM64","v":15.064502089136489},{"$f":"AO$63/$AM64","v":11.471126760563379},14.664854924397222,7.2034458004307229,0,0]
[null,null,null,null,null,null,null,null,null,null,null,null,null,null,null,null,null,null,null,null,null,null,null,null,null,null,null,null,null,null,null,null,null,null,null,null,null,null,3,{"$f":"AN$63/$AM65","v":10.04300139275766},7.6474178403755859,9.776569949598148,4.8022972002871489,0,0]
[null,null,null,null,null,null,null,null,null,null,null,null,null,null,null,null,null,null,null,null,null,null,null,null,null,null,null,null,null,null,null,null,null,null,null,null,null,null,4,7.5322510445682447,5.7355633802816897,7.332427462198611,3.6017229002153615,0,0]
[null,null,null,null,null,null,null,null,null,null,null,null,null,null,null,null,null,null,null,null,null,null,null,null,null,null,null,null,null,null,null,null,null,null,null,null,null,null,5,6.0258008356545956,4.5884507042253517,5.8659419697588886,2.8813783201722893,0,0]
[null,null,null,null,null,null,null,null,null,null,null,null,null,null,null,null,null,null,null,null,null,null,null,null,null,null,null,null,null,null,null,null,null,null,null,null,null,null,6,5.0215006963788298,3.823708920187793,4.888284974799074,2.4011486001435745,0,0]
[null,null,null,null,null,null,null,null,null,null,null,null,null,null,null,null,null,null,null,null,null,null,null,null,null,null,null,null,null,null,null,null,null,null,null,null,null,null,7,4.3041434540389973,3.2774647887323942,4.1899585498277778,2.0581273715516351,0,0]
[null,null,null,null,null,null,null,null,null,null,null,null,null,null,null,null,null,null,null,null,null,null,null,null,null,null,null,null,null,null,null,null,null,null,null,null,null,null,8,3.7661255222841223,2.8677816901408448,3.6662137310993055,1.8008614501076807,0,0]
[null,null,null,null,null,null,null,null,null,null,null,null,null,null,null,null,null,null,null,null,null,null,null,null,null,null,null,null,null,null,null,null,null,null,null,null,null,null,null,{"$f":"COUNTIF(AN63:AN70,\">=\"&$AM62)+COUNTIF(AN63:AN70,\">=\"&$AM62)+COUNTIF(AN63:AN70,\">=\"&$AL62)","v":3},{"$f":"COUNTIF(AO63:AO70,\">=\"&$AM62)+COUNTIF(AO63:AO70,\">=\"&$AM62)+COUNTIF(AO63:AO70,\">=\"&$AL62)","v":0},1,0,0,0]
[]
[null,null,"Bizkaia","PP",null,"PSOE",null,"UP",null,"C´s",null,"Equo",null,"Terr1",null,"Terr2",null,null,null,null,null,null,null,null,null,null,null,null,null,null,null,null,null,null,null,null,null,null,"Ávila","PP","PSOE","UP","C´s","Equo"]
[null,null,{"$f":"LARGE(D75:P75,1)","v":28.482713526767473},{"$f":"D16","v":0.11372075208913647},null,{"$f":"F16","v":0.12787323943661974},null,0.28482713526767472,null,4.0692031586503939E-2,null,{"$f":"L16","v":0},null,{"$f":"N16","v":0.27300000000000002},null,{"$f":"P16","v":0.12931034482758622},null,null,null,null,null,null,null,null,null,null,null,null,null,null,null,null,null,null,null,null,null,{"$f":"LARGE(AN75:AR75,2)","v":19.540845070422534},{"$f":"LARGE(AN75:AR75,1)","v":46.207799442896928},{"$f":"D13","v":0.4620779944289693},{"$f":"F13","v":0.19540845070422536},{"$f":"H13","v":0.15265631385369841},{"$f":"J13","v":0.16627422828427851},{"$f":"L13","v":0}]
[null,null,{"$f":"LARGE(D75:P75,2)","v":27.3},{"$f":"D74*100","v":11.372075208913648},null,{"$f":"F74*100","v":12.787323943661974},null,{"$f":"H74*100","v":28.482713526767473},null,{"$f":"J74*100","v":4.0692031586503941},null,{"$f":"L74*100","v":0},null,{"$f":"N74*100","v":27.3},null,{"$f":"P74*100","v":12.931034482758621},null,null,null,null,null,null,null,null,null,null,null,null,null,null,null,null,null,null,null,null,null,null,1,{"$f":"AN74*100","v":46.207799442896928},{"$f":"AO74*100","v":19.540845070422534},{"$f":"AP74*100","v":15.26563138536984},{"$f":"AQ74*100","v":16.62742282842785},{"$f":"AR74*100","v":0}]
[null,null,2,{"$f":"D75/$C76","v":5.6860376044568239},null,{"$f":"F$75/$C76","v":6.3936619718309871},null,{"$f":"H$75/$C76","v":14.241356763383736},null,{"$f":"J$75/$C76","v":2.034601579325197},null,{"$f":"L$75/$C76","v":0},null,{"$f":"N$75/$C76","v":13.65},null,{"$f":"P$75/$C76","v":6.4655172413793105},null,null,null,null,null,null,null,null,null,null,null,null,null,null,null,null,null,null,null,null,null,null,2,{"$f":"AN75/$AM76","v":23.103899721448464},{"$f":"AO$75/$AM76","v":9.7704225352112672},7.63281569268492,8.313711414213925,0]
[null,null,3,{"$f":"D$75/$C77","v":3.7906917363045491},null,4.2624413145539917,null,9.4942378422558242,null,1.3564010528834647,null,0,null,9.1,null,4.3103448275862073,null,null,null,null,null,null,null,null,null,null,null,null,null,null,null,null,null,null,null,null,null,null,3,{"$f":"AN$75/$AM77","v":15.402599814298975},6.5136150234741779,5.0885437951232797,5.5424742761426167,0]
[null,null,4,2.843018802228412,null,3.1968309859154935,null,7.1206783816918682,null,1.0173007896625985,null,0,null,6.8250000000000002,null,3.2327586206896552,null,null,null,null,null,null,null,null,null,null,null,null,null,null,null,null,null,null,null,null,null,null,null,{"$f":"COUNTIF(AN75:AN75,\">=\"&$AM74)+COUNTIF(AN75:AN75,\">=\"&$AM74)+COUNTIF(AN75:AN75,\">=\"&$AL74)","v":3},{"$f":"COUNTIF(AO75:AO75,\">=\"&$AM74)+COUNTIF(AO75:AO75,\">=\"&$AM74)+COUNTIF(AO75:AO75,\">=\"&$AL74)","v":1},0,0,0]
[null,null,5,2.2744150417827296,null,2.5574647887323949,null,5.6965427053534947,null,0.81384063173007881,null,0,null,5.46,null,2.5862068965517242]
[null,null,6,1.8953458681522746,null,2.1312206572769958,null,4.7471189211279121,null,0.67820052644173234,null,0,null,4.55,null,2.1551724137931036,null,null,null,null,null,null,null,null,null,null,null,null,null,null,null,null,null,null,null,null,null,null,"Badajoz","PP","PSOE","UP","C´s","Equo"]
[null,null,7,1.6245821727019496,null,1.8267605633802819,null,4.0689590752524962,null,0.58131473695005631,null,0,null,3.9,null,1.8472906403940887,null,null,null,null,null,null,null,null,null,null,null,null,null,null,null,null,null,null,null,null,null,{"$f":"LARGE(AN82:AR82,2)","v":34.46598189415041},{"$f":"LARGE(AN82:AR82,1)","v":36.685915492957747},{"$f":"D14","v":0.3446598189415041},{"$f":"F14","v":0.36685915492957744},{"$f":"H14","v":0.14694401307723742},{"$f":"J14","v":0.12058865757358218},{"$f":"L14","v":0}]
[null,null,8,1.421509401114206,null,1.5984154929577468,null,3.5603391908459341,null,0.50865039483129926,null,0,null,3.4125000000000001,null,1.6163793103448276,null,null,null,null,null,null,null,null,null,null,null,null,null,null,null,null,null,null,null,null,null,null,1,{"$f":"AN81*100","v":34.46598189415041},{"$f":"AO81*100","v":36.685915492957747},{"$f":"AP81*100","v":14.694401307723743},{"$f":"AQ81*100","v":12.058865757358218},{"$f":"AR81*100","v":0}]
[null,null,null,{"$f":"COUNTIF(D75:D82,\">=\"&$C74)+COUNTIF(D75:D82,\">=\"&$C74)+COUNTIF(D75:D82,\">=\"&$C75)","v":0},{"$f":"COUNTIF(E75:E82,\">=\"&$C74)+COUNTIF(E75:E82,\">=\"&$C74)+COUNTIF(E75:E82,\">=\"&$C75)","v":0},0,0,3,0,0,0,0,0,1,0,0,null,null,null,null,null,null,null,null,null,null,null,null,null,null,null,null,null,null,null,null,null,null,2,{"$f":"AN82/$AM83","v":17.232990947075205},{"$f":"AO$82/$AM83","v":18.342957746478874},7.3472006538618713,6.0294328786791089,0]
[null,null,null,null,null,null,null,null,null,null,null,null,null,null,null,null,null,null,null,null,null,null,null,null,null,null,null,null,null,null,null,null,null,null,null,null,null,null,3,{"$f":"AN$82/$AM84","v":11.488660631383469},12.228638497652582,4.8981337692412472,4.0196219191194063,0]
[null,null,"Burgos","PP",null,"PSOE",null,"UP",null,"C´s",null,"Equo",null,null,null,null,null,null,null,null,null,null,null,null,null,null,null,null,null,null,null,null,null,null,null,null,null,null,4,{"$f":"AN$82/$AM85","v":8.6164954735376025},9.1714788732394368,3.6736003269309356,3.0147164393395545,0]
[null,null,{"$f":"LARGE(D87:L87,1)","v":38.053481894150416},{"$f":"D17","v":0.38053481894150415},null,{"$f":"F17","v":0.20418309859154932},null,0.21421127911728646,null,0.16510552763819095,null,{"$f":"L17","v":0},null,null,null,null,null,null,null,null,null,null,null,null,null,null,null,null,null,null,null,null,null,null,null,null,null,null,5,{"$f":"AN$82/$AM86","v":6.8931963788300816},7.3371830985915496,2.9388802615447487,2.4117731514716434,0]
[null,null,{"$f":"LARGE(D87:L87,2)","v":21.421127911728647},{"$f":"D86*100","v":38.053481894150416},null,{"$f":"F86*100","v":20.418309859154931},null,{"$f":"H86*100","v":21.421127911728647},null,{"$f":"J86*100","v":16.510552763819096},null,{"$f":"L86*100","v":0},null,null,null,null,null,null,null,null,null,null,null,null,null,null,null,null,null,null,null,null,null,null,null,null,null,null,6,{"$f":"AN$82/$AM87","v":5.7443303156917347},6.1143192488262912,2.4490668846206236,2.0098109595597031,0]
[null,null,2,{"$f":"D87/$C88","v":19.026740947075208},null,{"$f":"F$87/$C88","v":10.209154929577466},null,{"$f":"H$87/$C88","v":10.710563955864323},null,{"$f":"J$87/$C88","v":8.2552763819095478},null,{"$f":"L$87/$C88","v":0},null,null,null,null,null,null,null,null,null,null,null,null,null,null,null,null,null,null,null,null,null,null,null,null,null,null,null,{"$f":"COUNTIF(AN82:AN87,\">=\"&$AM81)+COUNTIF(AN82:AN87,\">=\"&$AM81)+COUNTIF(AN82:AN87,\">=\"&$AL81)","v":1},{"$f":"COUNTIF(AO82:AO87,\">=\"&$AM81)+COUNTIF(AO82:AO87,\">=\"&$AM81)+COUNTIF(AO82:AO87,\">=\"&$AL81)","v":3},0,0,0]
[null,null,3,{"$f":"D$87/$C89","v":12.684493964716806},null,{"$f":"F$87/$C89","v":6.8061032863849773},null,{"$f":"H$87/$C89","v":7.1403759705762155},null,{"$f":"J$87/$C89","v":5.5035175879396983},null,{"$f":"L$87/$C89","v":0}]
[null,null,4,{"$f":"D$87/$C90","v":9.5133704735376039},null,{"$f":"F$87/$C90","v":5.1045774647887328},null,{"$f":"H$87/$C90","v":5.3552819779321617},null,{"$f":"J$87/$C90","v":4.1276381909547739},null,{"$f":"L$87/$C90","v":0},null,null,null,null,null,null,null,null,null,null,null,null,null,null,null,null,null,null,null,null,null,null,null,null,null,null,"Barcelona","PP","PSOE","UP","C´s","Equo","Terr1","Terr2"]
[null,null,null,{"$f":"COUNTIF(D87:D90,\">=\"&$C86)+COUNTIF(D87:D90,\">=\"&$C86)+COUNTIF(D87:D90,\">=\"&$C87)","v":3},{"$f":"COUNTIF(E87:E90,\">=\"&$C86)+COUNTIF(E87:E90,\">=\"&$C86)+COUNTIF(E87:E90,\">=\"&$C87)","v":0},0,0,1,0,0,0,0,null,null,null,null,null,null,null,null,null,null,null,null,null,null,null,null,null,null,null,null,null,null,null,null,null,{"$f":"LARGE(AN92:AT92,2)","v":16.040845070422534},{"$f":"LARGE(AN92:AT92,1)","v":26.503105843890477},{"$f":"D15","v":0.11262151810584957},{"$f":"F15","v":0.16040845070422535},{"$f":"H15","v":0.26503105843890479},{"$f":"J15","v":0.14396267049533379},{"$f":"L15","v":0},{"$f":"N15","v":0.14722222222222223},{"$f":"P15","v":0.13934728033472804}]
[null,null,null,null,null,null,null,null,null,null,null,null,null,null,null,null,null,null,null,null,null,null,null,null,null,null,null,null,null,null,null,null,null,null,null,null,null,null,1,{"$f":"AN91*100","v":11.262151810584957},16.040845070422534,26.503105843890477,14.396267049533378,0,14.722222222222223,13.934728033472805]
[null,null,"Cáceres","PP",null,"PSOE",null,"UP",null,"C´s",null,"Equo",null,null,null,null,null,null,null,null,null,null,null,null,null,null,null,null,null,null,null,null,null,null,null,null,null,null,2,{"$f":"AN$92/$AM93","v":5.6310759052924784},8.0204225352112672,13.251552921945239,7.1981335247666891,0,7.3611111111111116,6.9673640167364024]
[null,null,{"$f":"LARGE(D95:L95,1)","v":35.325383008356539},{"$f":"D18","v":0.35325383008356542},null,{"$f":"F18","v":0.33580281690140845},null,0.16575521046178995,null,0.12111988513998563,null,{"$f":"L18","v":0},null,null,null,null,null,null,null,null,null,null,null,null,null,null,null,null,null,null,null,null,null,null,null,null,null,null,3,3.7540506035283188,5.3469483568075118,8.8343686146301597,4.7987556831777924,0,4.9074074074074074,4.6449093444909346]
[null,null,{"$f":"LARGE(D95:L95,2)","v":33.580281690140843},{"$f":"D$94*100","v":35.325383008356539},null,{"$f":"F$94*100","v":33.580281690140843},null,{"$f":"H$94*100","v":16.575521046178995},null,{"$f":"J$94*100","v":12.111988513998563},null,{"$f":"L$94*100","v":0},null,null,null,null,null,null,null,null,null,null,null,null,null,null,null,null,null,null,null,null,null,null,null,null,null,null,4,2.8155379526462392,4.0102112676056336,6.6257764609726193,3.5990667623833446,0,3.6805555555555558,3.4836820083682012]
[null,null,2,{"$f":"D95/$C96","v":17.662691504178269},null,{"$f":"F$95/$C96","v":16.790140845070422},null,{"$f":"H$95/$C96","v":8.2877605230894975},null,{"$f":"J$95/$C96","v":6.0559942569992815},null,{"$f":"L$95/$C96","v":0},null,null,null,null,null,null,null,null,null,null,null,null,null,null,null,null,null,null,null,null,null,null,null,null,null,null,5,2.2524303621169914,3.2081690140845067,5.3006211687780951,2.8792534099066756,0,2.9444444444444446,2.786945606694561]
[null,null,3,{"$f":"D$95/$C97","v":11.77512766945218},null,{"$f":"F$95/$C97","v":11.193427230046948},null,{"$f":"H$95/$C97","v":5.5251736820596653},null,{"$f":"J$95/$C97","v":4.0373295046661877},null,{"$f":"L$95/$C97","v":0},null,null,null,null,null,null,null,null,null,null,null,null,null,null,null,null,null,null,null,null,null,null,null,null,null,null,6,1.8770253017641594,2.6734741784037559,4.4171843073150798,2.3993778415888962,0,2.4537037037037037,2.3224546722454673]
[null,null,4,{"$f":"D$95/$C98","v":8.8313457520891347},null,{"$f":"F$95/$C98","v":8.3950704225352109},null,{"$f":"H$95/$C98","v":4.1438802615447488},null,{"$f":"J$95/$C98","v":3.0279971284996408},null,{"$f":"L$95/$C98","v":0},null,null,null,null,null,null,null,null,null,null,null,null,null,null,null,null,null,null,null,null,null,null,null,null,null,null,7,1.6088788300835652,2.2915492957746477,3.7861579776986396,2.0566095785047684,0,2.1031746031746033,1.9906754333532579]
[null,null,null,{"$f":"COUNTIF(D95:D98,\">=\"&$C94)+COUNTIF(D95:D98,\">=\"&$C94)+COUNTIF(D95:D98,\">=\"&$C95)","v":3},{"$f":"COUNTIF(E95:E98,\">=\"&$C94)+COUNTIF(E95:E98,\">=\"&$C94)+COUNTIF(E95:E98,\">=\"&$C95)","v":0},1,0,0,0,0,0,0,null,null,null,null,null,null,null,null,null,null,null,null,null,null,null,null,null,null,null,null,null,null,null,null,null,null,8,1.4077689763231196,2.0051056338028168,3.3128882304863096,1.7995333811916723,0,1.8402777777777779,1.7418410041841006]
[null,null,null,null,null,null,null,null,null,null,null,null,null,null,null,null,null,null,null,null,null,null,null,null,null,null,null,null,null,null,null,null,null,null,null,null,null,null,9,1.2513502011761064,1.7823161189358372,2.9447895382100531,1.5995852277259308,0,1.6358024691358026,1.5483031148303117]
[null,null,"Cádiz","PP",null,"PSOE",null,"UP",null,"C´s",null,"Equo",null,"Terr1",null,null,null,null,null,null,null,null,null,null,null,null,null,null,null,null,null,null,null,null,null,null,null,null,10,1.1262151810584957,1.6040845070422534,2.6503105843890475,1.4396267049533378,0,1.4722222222222223,1.3934728033472805]
[null,null,{"$f":"LARGE(D103:N103,1)","v":27.730675487465177},{"$f":"D19","v":0.27730675487465178},null,{"$f":"F19","v":0.27605633802816903},null,0.25793992644053942,null,0.15596841349605167,null,{"$f":"L19","v":0},null,{"$f":"N19","v":0},null,null,null,null,null,null,null,null,null,null,null,null,null,null,null,null,null,null,null,null,null,null,null,null,11,1.0238319827804505,1.458258642765685,2.4093732585354979,1.3087515499575799,0,1.3383838383838385,1.2667934575884368]
[null,null,{"$f":"LARGE(D103:N103,2)","v":27.605633802816904},{"$f":"D102*100","v":27.730675487465177},null,{"$f":"F102*100","v":27.605633802816904},null,25.793992644053944,null,15.596841349605167,null,0,null,0,null,null,null,null,null,null,null,null,null,null,null,null,null,null,null,null,null,null,null,null,null,null,null,null,12,0.93851265088207969,1.3367370892018779,2.2085921536575399,1.1996889207944481,0,1.2268518518518519,1.1612273361227337]
[null,null,2,{"$f":"D$103/$C104","v":13.865337743732589},null,{"$f":"F$103/$C104","v":13.802816901408452},null,{"$f":"H$103/$C104","v":12.896996322026972},null,{"$f":"J$103/$C104","v":7.7984206748025837},null,{"$f":"L$103/$C104","v":0},null,{"$f":"N$103/$C104","v":0},null,null,null,null,null,null,null,null,null,null,null,null,null,null,null,null,null,null,null,null,null,null,null,null,13,0.86631937004499671,1.2339111592632719,2.0387004495300367,1.1074051576564137,0,1.1324786324786325,1.071902156420985]
[null,null,3,9.2435584958217252,null,9.2018779342723018,null,8.5979975480179807,null,5.1989471165350558,null,0,null,0,null,null,null,null,null,null,null,null,null,null,null,null,null,null,null,null,null,null,null,null,null,null,null,null,14,0.80443941504178262,1.1457746478873239,1.8930789888493198,1.0283047892523842,0,1.0515873015873016,0.99533771667662896]
[null,null,4,6.9326688718662943,null,6.9014084507042259,null,6.4484981610134859,null,3.8992103374012919,null,0,null,0,null,null,null,null,null,null,null,null,null,null,null,null,null,null,null,null,null,null,null,null,null,null,null,null,15,0.75081012070566377,1.0693896713615023,1.7668737229260318,0.95975113663555855,0,0.98148148148148151,0.92898186889818701]
[null,null,5,5.5461350974930355,null,5.5211267605633809,null,5.1587985288107889,null,3.1193682699210337,null,0,null,0,null,null,null,null,null,null,null,null,null,null,null,null,null,null,null,null,null,null,null,null,null,null,null,null,16,0.7038844881615598,1.0025528169014084,1.6564441152431548,0.89976669059583614,0,0.92013888888888895,0.8709205020920503]
[null,null,6,4.6217792479108626,null,4.6009389671361509,null,4.2989987740089903,null,2.5994735582675279,null,0,null,0,null,null,null,null,null,null,null,null,null,null,null,null,null,null,null,null,null,null,null,null,null,null,null,null,17,0.6624795182697033,0.94357912178956083,1.5590062261112045,0.84683923820784579,0,0.86601307189542487,0.81968988432192968]
[null,null,7,3.9615250696378825,null,3.9436619718309864,null,3.6848560920077063,null,2.2281201928007381,null,0,null,0,null,null,null,null,null,null,null,null,null,null,null,null,null,null,null,null,null,null,null,null,null,null,null,null,18,0.6256751005880532,0.8911580594679186,1.4723947691050265,0.79979261386296541,0,0.81790123456790131,0.77415155741515584]
[null,null,8,3.4663344359331472,null,3.450704225352113,null,3.224249080506743,null,1.9496051687006459,null,0,null,0,null,null,null,null,null,null,null,null,null,null,null,null,null,null,null,null,null,null,null,null,null,null,null,null,19,{"$f":"AN$92/$AM110","v":0.59274483213605034},0.84425500370644924,1.394900307573183,0.75769826576491461,0,0.77485380116959068,0.73340673860383188]
[null,null,null,{"$f":"COUNTIF(D103:D110,\">=\"&$C102)+COUNTIF(D103:D110,\">=\"&$C102)+COUNTIF(D103:D110,\">=\"&$C103)","v":3},{"$f":"COUNTIF(E103:E110,\">=\"&$C102)+COUNTIF(E103:E110,\">=\"&$C102)+COUNTIF(E103:E110,\">=\"&$C103)","v":0},1,0,0,0,0,0,0,0,0,null,null,null,null,null,null,null,null,null,null,null,null,null,null,null,null,null,null,null,null,null,null,null,null,20,0.56310759052924786,0.80204225352112668,1.3251552921945238,0.71981335247666889,0,0.73611111111111116,0.69673640167364026]
[null,null,null,null,null,null,null,null,null,null,null,null,null,null,null,null,null,null,null,null,null,null,null,null,null,null,null,null,null,null,null,null,null,null,null,null,null,null,21,0.53629294336118838,0.76384976525821591,1.2620526592328798,0.68553652616825611,0,0.70105820105820116,0.66355847778441923]
[null,null,"Cantabria","PP",null,"PSOE",null,"UP",null,"C´s",null,"Equo",null,"Terr1",null,null,null,null,null,null,null,null,null,null,null,null,null,null,null,null,null,null,null,null,null,null,null,null,22,0.51191599139022526,0.72912932138284248,1.2046866292677489,0.65437577497878996,0,0.66919191919191923,0.63339672879421838]
[null,null,{"$f":"LARGE(D115:N115,1)","v":36.914275766016708},{"$f":"D20","v":0.36914275766016708},null,{"$f":"F20","v":0.22104225352112677},null,0.21923416428279524,null,0.16202440775305094,null,{"$f":"L20","v":0},null,{"$f":"N20","v":0},null,null,null,null,null,null,null,null,null,null,null,null,null,null,null,null,null,null,null,null,null,null,null,null,23,0.489658774373259,0.69742804654011015,1.1523089497343686,0.62592465432753819,0,0.64009661835748799,0.60585774058577413]
[null,null,{"$f":"LARGE(D115:N115,2)","v":22.104225352112678},{"$f":"D114*100","v":36.914275766016708},null,{"$f":"F114*100","v":22.104225352112678},null,{"$f":"H114*100","v":21.923416428279523},null,{"$f":"J114*100","v":16.202440775305092},null,{"$f":"L114*100","v":0},null,{"$f":"N114*100","v":0},null,null,null,null,null,null,null,null,null,null,null,null,null,null,null,null,null,null,null,null,null,null,null,null,24,0.46925632544103985,0.66836854460093897,1.10429607682877,0.59984446039722406,0,0.61342592592592593,0.58061366806136683]
[null,null,2,{"$f":"D115/$C116","v":18.457137883008354},null,{"$f":"F$115/$C116","v":11.052112676056339},null,{"$f":"H$115/$C116","v":10.961708214139762},null,{"$f":"J$115/$C116","v":8.1012203876525462},null,{"$f":"L$115/$C116","v":0},null,{"$f":"N$115/$C116","v":0},null,null,null,null,null,null,null,null,null,null,null,null,null,null,null,null,null,null,null,null,null,null,null,null,25,0.45048607242339828,0.64163380281690141,1.0601242337556191,0.57585068198133516,0,0.58888888888888891,0.55738912133891216]
[null,null,3,{"$f":"D$115/$C117","v":12.304758588672236},null,{"$f":"F$115/$C117","v":7.3680751173708927},null,{"$f":"H$115/$C117","v":7.3078054760931748},null,{"$f":"J$115/$C117","v":5.4008135917683644},null,{"$f":"L$115/$C117","v":0},null,{"$f":"N$115/$C117","v":0},null,null,null,null,null,null,null,null,null,null,null,null,null,null,null,null,null,null,null,null,null,null,null,null,26,0.43315968502249835,0.61695557963163594,1.0193502247650184,0.55370257882820684,0,0.56623931623931623,0.53595107821049248]
[null,null,4,{"$f":"D$115/$C118","v":9.2285689415041769},null,{"$f":"F$115/$C118","v":5.5260563380281695},null,{"$f":"H$115/$C118","v":5.4808541070698809},null,{"$f":"J$115/$C118","v":4.0506101938262731},null,{"$f":"L$115/$C118","v":0},null,{"$f":"N$115/$C118","v":0},null,null,null,null,null,null,null,null,null,null,null,null,null,null,null,null,null,null,null,null,null,null,null,null,27,0.41711673372536878,0.59410537297861243,0.98159651273668436,0.53319507590864368,0,0.54526748971193417,0.51610103827677056]
[null,null,5,{"$f":"D$115/$C119","v":7.3828551532033417},null,{"$f":"F$115/$C119","v":4.4208450704225353},null,{"$f":"H$115/$C119","v":4.384683285655905},null,{"$f":"J$115/$C119","v":3.2404881550610183},null,{"$f":"L$115/$C119","v":0},null,{"$f":"N$115/$C119","v":0},null,null,null,null,null,null,null,null,null,null,null,null,null,null,null,null,null,null,null,null,null,null,null,null,28,0.40221970752089131,0.57288732394366193,0.9465394944246599,0.51415239462619211,0,0.52579365079365081,0.49766885833831448]
[null,null,null,{"$f":"COUNTIF(D115:D119,\">=\"&$C114)+COUNTIF(D115:D119,\">=\"&$C114)+COUNTIF(D115:D119,\">=\"&$C115)","v":3},{"$f":"COUNTIF(E115:E119,\">=\"&$C114)+COUNTIF(E115:E119,\">=\"&$C114)+COUNTIF(E115:E119,\">=\"&$C115)","v":0},1,0,0,0,0,0,0,0,0,null,null,null,null,null,null,null,null,null,null,null,null,null,null,null,null,null,null,null,null,null,null,null,null,29,0.38835006243396403,0.55313258863525983,0.91390020151346474,0.49642300170804754,0,0.50766283524904221,0.48050786322320016]
[null,null,null,null,null,null,null,null,null,null,null,null,null,null,null,null,null,null,null,null,null,null,null,null,null,null,null,null,null,null,null,null,null,null,null,null,null,null,30,0.37540506035283189,0.53469483568075116,0.88343686146301592,0.47987556831777928,0,0.49074074074074076,0.46449093444909351]
[null,null,"Castellón","PP",null,"PSOE",null,"UP",null,"C´s",null,"Equo",null,"Terr1",null,"Terr2",null,null,null,null,null,null,null,null,null,null,null,null,null,null,null,null,null,null,null,null,null,null,31,0.36329521969628892,0.51744661517492052,0.85493889819001534,0.46439571127527024,0,0.47491039426523302,0.44950735591847757]
[null,null,{"$f":"LARGE(D124:N124,1)","v":31.827820334261837},{"$f":"D21","v":0.31827820334261836},null,{"$f":"F21","v":0.21216901408450706},null,0.26808418471597872,null,0.16595549174443644,null,{"$f":"L21","v":0},null,{"$f":"N21","v":0},null,{"$f":"P21","v":0},null,null,null,null,null,null,null,null,null,null,null,null,null,null,null,null,null,null,null,null,null,null,null,{"$f":"COUNTIF(AN92:AN122,\">=\"&$AM91)+COUNTIF(AN92:AN122,\">=\"&$AM91)+COUNTIF(AN92:AN122,\">=\"&$AL91)","v":0},{"$f":"COUNTIF(AO92:AO122,\">=\"&$AM91)+COUNTIF(AO92:AO122,\">=\"&$AM91)+COUNTIF(AO92:AO122,\">=\"&$AL91)","v":1},3,0,0,0,0]
[null,null,{"$f":"LARGE(D124:N124,2)","v":26.808418471597872},{"$f":"D123*100","v":31.827820334261837},null,{"$f":"F123*100","v":21.216901408450706},null,{"$f":"H123*100","v":26.808418471597872},null,{"$f":"J123*100","v":16.595549174443644},null,{"$f":"L123*100","v":0},null,{"$f":"N123*100","v":0},null,{"$f":"P123*100","v":0}]
[null,null,2,{"$f":"D124/$C125","v":15.913910167130918},null,{"$f":"F$124/$C125","v":10.608450704225353},null,{"$f":"H$124/$C125","v":13.404209235798936},null,{"$f":"J$124/$C125","v":8.2977745872218218},null,{"$f":"L$124/$C125","v":0},null,{"$f":"N$124/$C125","v":0},null,{"$f":"P$124/$C125","v":0}]
[null,null,3,{"$f":"D$124/$C126","v":10.609273444753946},null,{"$f":"F$124/$C126","v":7.0723004694835687},null,{"$f":"H$124/$C126","v":8.9361394905326232},null,{"$f":"J$124/$C126","v":5.5318497248145482},null,{"$f":"L$124/$C126","v":0},null,{"$f":"N$124/$C126","v":0},null,{"$f":"P$124/$C126","v":0}]
[null,null,4,{"$f":"D$124/$C127","v":7.9569550835654592},null,{"$f":"F$124/$C127","v":5.3042253521126765},null,{"$f":"H$124/$C127","v":6.7021046178994679},null,{"$f":"J$124/$C127","v":4.1488872936109109},null,{"$f":"L$124/$C127","v":0},null,{"$f":"N$124/$C127","v":0},null,{"$f":"P$124/$C127","v":0}]
[null,null,5,{"$f":"D$124/$C128","v":6.3655640668523672},null,{"$f":"F$124/$C128","v":4.2433802816901416},null,{"$f":"H$124/$C128","v":5.3616836943195745},null,{"$f":"J$124/$C128","v":3.3191098348887289},null,{"$f":"L$124/$C128","v":0},null,{"$f":"N$124/$C128","v":0},null,{"$f":"P$124/$C128","v":0}]
[null,null,null,{"$f":"COUNTIF(D124:D128,\">=\"&$C123)+COUNTIF(D124:D128,\">=\"&$C123)+COUNTIF(D124:D128,\">=\"&$C124)","v":3},{"$f":"COUNTIF(E124:E128,\">=\"&$C123)+COUNTIF(E124:E128,\">=\"&$C123)+COUNTIF(E124:E128,\">=\"&$C124)","v":0},0,0,1,0,0,0,0,0,0,0,0]
[]
[null,null,"Ciudad Real","PP",null,"PSOE",null,"UP",null,"C´s",null,"Equo"]
[null,null,{"$f":"LARGE(D133:N133,1)","v":38.393245125348187},{"$f":"D23","v":0.38393245125348185},null,{"$f":"F23","v":0.30691549295774651},null,0.15531548835308542,null,0.13100071787508971,null,{"$f":"L23","v":0}]
[null,null,{"$f":"LARGE(D133:N133,2)","v":30.691549295774649},{"$f":"D132*100","v":38.393245125348187},null,{"$f":"F132*100","v":30.691549295774649},null,{"$f":"H132*100","v":15.531548835308543},null,{"$f":"J132*100","v":13.100071787508972},null,{"$f":"L132*100","v":0}]
[null,null,2,{"$f":"D133/$C134","v":19.196622562674094},null,{"$f":"F$133/$C134","v":15.345774647887325},null,{"$f":"H$133/$C134","v":7.7657744176542716},null,{"$f":"J$133/$C134","v":6.5500358937544858},null,{"$f":"L$133/$C134","v":0}]
[null,null,3,{"$f":"D$133/$C135","v":12.797748375116063},null,{"$f":"F$133/$C135","v":10.230516431924883},null,{"$f":"H$133/$C135","v":5.1771829451028477},null,{"$f":"J$133/$C135","v":4.3666905958363236},null,{"$f":"L$133/$C135","v":0}]
[null,null,4,{"$f":"D$133/$C136","v":9.5983112813370468},null,{"$f":"F$133/$C136","v":7.6728873239436624},null,{"$f":"H$133/$C136","v":3.8828872088271358},null,{"$f":"J$133/$C136","v":3.2750179468772429},null,{"$f":"L$133/$C136","v":0}]
[null,null,5,{"$f":"D$133/$C137","v":7.6786490250696371},null,{"$f":"F$133/$C137","v":6.1383098591549299},null,{"$f":"H$133/$C137","v":3.1063097670617088},null,{"$f":"J$133/$C137","v":2.6200143575017942},null,{"$f":"L$133/$C137","v":0}]
[null,null,null,{"$f":"COUNTIF(D133:D137,\">=\"&$C132)+COUNTIF(D133:D137,\">=\"&$C132)+COUNTIF(D133:D137,\">=\"&$C133)","v":3},{"$f":"COUNTIF(E133:E137,\">=\"&$C132)+COUNTIF(E133:E137,\">=\"&$C132)+COUNTIF(E133:E137,\">=\"&$C133)","v":0},1,0,0,0,0,0,0]
[]
[null,null,"Córdoba","PP",null,"PSOE",null,"UP",null,"C´s",null,"Equo",null,"Terr1"]
[null,null,{"$f":"LARGE(D142:N142,1)","v":31.608450704225355},{"$f":"D24","v":0.30388823119777153},null,{"$f":"F24","v":0.31608450704225355},null,{"$f":"H24","v":0.22376460972619536},null,{"$f":"J24","v":0.12675089734386216},null,{"$f":"L24","v":0},null,{"$f":"N24","v":0}]
[null,null,{"$f":"LARGE(D142:N142,2)","v":30.388823119777154},{"$f":"D141*100","v":30.388823119777154},null,{"$f":"F141*100","v":31.608450704225355},null,{"$f":"H141*100","v":22.376460972619537},null,{"$f":"J141*100","v":12.675089734386216},null,{"$f":"L141*100","v":0},null,{"$f":"N141*100","v":0}]
[null,null,2,{"$f":"D$142/$C143","v":15.194411559888577},null,{"$f":"F$142/$C143","v":15.804225352112677},null,{"$f":"H$142/$C143","v":11.188230486309768},null,{"$f":"J$142/$C143","v":6.3375448671931078},null,{"$f":"L$142/$C143","v":0},null,{"$f":"N$142/$C143","v":0}]
[null,null,3,{"$f":"D$142/$C144","v":10.129607706592385},null,{"$f":"F$142/$C144","v":10.536150234741784},null,{"$f":"H$142/$C144","v":7.4588203242065125},null,{"$f":"J$142/$C144","v":4.2250299114620722},null,{"$f":"L$142/$C144","v":0},null,{"$f":"N$142/$C144","v":0}]
[null,null,4,{"$f":"D$142/$C145","v":7.5972057799442885},null,{"$f":"F$142/$C145","v":7.9021126760563387},null,{"$f":"H$142/$C145","v":5.5941152431548842},null,{"$f":"J$142/$C145","v":3.1687724335965539},null,{"$f":"L$142/$C145","v":0},null,{"$f":"N$142/$C145","v":0}]
[null,null,5,{"$f":"D$142/$C146","v":6.0777646239554306},null,{"$f":"F$142/$C146","v":6.321690140845071},null,{"$f":"H$142/$C146","v":4.4752921945239077},null,{"$f":"J$142/$C146","v":2.5350179468772431},null,{"$f":"L$142/$C146","v":0},null,{"$f":"N$142/$C146","v":0}]
[null,null,6,{"$f":"D$142/$C147","v":5.0648038532961923},null,{"$f":"F$142/$C147","v":5.2680751173708922},null,{"$f":"H$142/$C147","v":3.7294101621032563},null,{"$f":"J$142/$C147","v":2.1125149557310361},null,{"$f":"L$142/$C147","v":0},null,{"$f":"N$142/$C147","v":0}]
[null,null,null,{"$f":"COUNTIF(D142:D147,\">=\"&$C141)+COUNTIF(D142:D147,\">=\"&$C141)+COUNTIF(D142:D147,\">=\"&$C142)","v":1},{"$f":"COUNTIF(E142:E147,\">=\"&$C141)+COUNTIF(E142:E147,\">=\"&$C141)+COUNTIF(E142:E147,\">=\"&$C142)","v":0},3,0,0,0,0,0,0,0,0]
[]
[null,null,"Cuenca","PP",null,"PSOE",null,"UP",null,"C´s",null,"Equo"]
[null,null,{"$f":"LARGE(D152:L152,1)","v":41.900800835654593},{"$f":"D25","v":0.41900800835654595},null,{"$f":"F25","v":0.30149295774647888},null,0.1439893747445852,null,0.11442641780330221,null,{"$f":"L25","v":0}]
[null,null,{"$f":"LARGE(D152:L152,2)","v":30.149295774647889},{"$f":"D151*100","v":41.900800835654593},null,{"$f":"F151*100","v":30.149295774647889},null,{"$f":"H151*100","v":14.398937474458521},null,{"$f":"J151*100","v":11.44264178033022},null,{"$f":"L151*100","v":0}]
[null,null,2,{"$f":"D$152/$C153","v":20.950400417827296},null,{"$f":"F$152/$C153","v":15.074647887323945},null,{"$f":"H$152/$C153","v":7.1994687372292603},null,{"$f":"J$152/$C153","v":5.72132089016511},null,{"$f":"L$152/$C153","v":0}]
[null,null,3,{"$f":"D$152/$C154","v":13.966933611884864},null,{"$f":"F$152/$C154","v":10.049765258215963},null,{"$f":"H$152/$C154","v":4.7996458248195069},null,{"$f":"J$152/$C154","v":3.8142139267767399},null,{"$f":"L$152/$C154","v":0}]
[null,null,null,{"$f":"COUNTIF(D152:D154,\">=\"&$C151)+COUNTIF(D152:D154,\">=\"&$C151)+COUNTIF(D152:D154,\">=\"&$C152)","v":3},{"$f":"COUNTIF(E152:E154,\">=\"&$C151)+COUNTIF(E152:E154,\">=\"&$C151)+COUNTIF(E152:E154,\">=\"&$C152)","v":0},1,0,0,0,0,0,0]
[]
[null,null,"Gipuzkoa","PP",null,"PSOE",null,"UP",null,"C´s",null,"Equo",null,"Terr1",null,"Terr2"]
[null,null,{"$f":"LARGE(D159:P159,1)","v":27.596322026971805},{"$f":"D26","v":8.6839484679665735E-2},null,{"$f":"F26","v":0.13122535211267605},null,0.27596322026971803,null,3.9523330940416358E-2,null,{"$f":"L26","v":0},null,{"$f":"N26","v":0.22979699248120303},null,{"$f":"P26","v":0.21610344827586209}]
[null,null,{"$f":"LARGE(D159:P159,2)","v":22.979699248120301},{"$f":"D158*100","v":8.683948467966573},null,{"$f":"F158*100","v":13.122535211267605},null,{"$f":"H158*100","v":27.596322026971805},null,{"$f":"J158*100","v":3.9523330940416357},null,{"$f":"L158*100","v":0},null,{"$f":"N158*100","v":22.979699248120301},null,{"$f":"P158*100","v":21.610344827586207}]
[null,null,2,{"$f":"D159/$C160","v":4.3419742339832865},null,{"$f":"F$159/$C160","v":6.5612676056338026},null,{"$f":"H$159/$C160","v":13.798161013485903},null,{"$f":"J$159/$C160","v":1.9761665470208178},null,{"$f":"L$159/$C160","v":0},null,{"$f":"N$159/$C160","v":11.489849624060151},null,{"$f":"P$159/$C160","v":10.805172413793104}]
[null,null,3,{"$f":"D$159/$C161","v":2.894649489322191},null,{"$f":"F$159/$C161","v":4.3741784037558684},null,{"$f":"H$159/$C161","v":9.1987740089906023},null,{"$f":"J$159/$C161","v":1.3174443646805452},null,{"$f":"L$159/$C161","v":0},null,{"$f":"N$159/$C161","v":7.6598997493734338},null,{"$f":"P$159/$C161","v":7.203448275862069}]
[null,null,4,{"$f":"D$159/$C162","v":2.1709871169916433},null,{"$f":"F$159/$C162","v":3.2806338028169013},null,{"$f":"H$159/$C162","v":6.8990805067429513},null,{"$f":"J$159/$C162","v":0.98808327351040892},null,{"$f":"L$159/$C162","v":0},null,{"$f":"N$159/$C162","v":5.7449248120300753},null,{"$f":"P$159/$C162","v":5.4025862068965518}]
[null,null,5,{"$f":"D$159/$C163","v":1.7367896935933147},null,{"$f":"F$159/$C163","v":2.624507042253521},null,{"$f":"H$159/$C163","v":5.5192644053943614},null,{"$f":"J$159/$C163","v":0.79046661880832714},null,{"$f":"L$159/$C163","v":0},null,{"$f":"N$159/$C163","v":4.5959398496240604},null,{"$f":"P$159/$C163","v":4.3220689655172411}]
[null,null,6,{"$f":"D$159/$C164","v":1.4473247446610955},null,{"$f":"F$159/$C164","v":2.1870892018779342},null,{"$f":"H$159/$C164","v":4.5993870044953011},null,{"$f":"J$159/$C164","v":0.65872218234027258},null,{"$f":"L$159/$C164","v":0},null,{"$f":"N$159/$C164","v":3.8299498746867169},null,{"$f":"P$159/$C164","v":3.6017241379310345}]
[null,null,null,{"$f":"COUNTIF(D159:D164,\">=\"&$C158)+COUNTIF(D159:D164,\">=\"&$C158)+COUNTIF(D159:D164,\">=\"&$C159)","v":0},{"$f":"COUNTIF(E159:E164,\">=\"&$C158)+COUNTIF(E159:E164,\">=\"&$C158)+COUNTIF(E159:E164,\">=\"&$C159)","v":0},0,0,3,0,0,0,0,0,1,0,0]
[]
[null,null,"Girona","PP",null,"PSOE",null,"UP",null,"C´s",null,"Equo",null,"Terr1",null,"Terr2"]
[null,null,{"$f":"LARGE(D169:P169,1)","v":27.811111111111114},{"$f":"D27","v":8.524059888579387E-2},null,{"$f":"F27","v":0.1248169014084507},null,0.16014139762975071,null,0.10465183058147881,null,{"$f":"L27","v":0},null,{"$f":"N27","v":0.27811111111111114},null,{"$f":"P27","v":0.22557322175732217}]
[null,null,{"$f":"LARGE(D169:P169,2)","v":22.557322175732217},{"$f":"D168*100","v":8.5240598885793872},null,{"$f":"F168*100","v":12.481690140845069},null,{"$f":"H168*100","v":16.01413976297507},null,{"$f":"J168*100","v":10.465183058147881},null,{"$f":"L168*100","v":0},null,{"$f":"N168*100","v":27.811111111111114},null,{"$f":"P168*100","v":22.557322175732217}]
[null,null,2,{"$f":"D169/$C170","v":4.2620299442896936},null,{"$f":"F$169/$C170","v":6.2408450704225347},null,{"$f":"H$169/$C170","v":8.007069881487535},null,{"$f":"J$169/$C170","v":5.2325915290739404},null,{"$f":"L$169/$C170","v":0},null,{"$f":"N$169/$C170","v":13.905555555555557},null,{"$f":"P$169/$C170","v":11.278661087866109}]
[null,null,3,{"$f":"D$169/$C171","v":2.8413532961931289},null,{"$f":"F$169/$C171","v":4.1605633802816895},null,{"$f":"H$169/$C171","v":5.3380465876583569},null,{"$f":"J$169/$C171","v":3.4883943527159604},null,{"$f":"L$169/$C171","v":0},null,{"$f":"N$169/$C171","v":9.2703703703703706},null,{"$f":"P$169/$C171","v":7.5191073919107394}]
[null,null,4,{"$f":"D$169/$C172","v":2.1310149721448468},null,{"$f":"F$169/$C172","v":3.1204225352112673},null,{"$f":"H$169/$C172","v":4.0035349407437675},null,{"$f":"J$169/$C172","v":2.6162957645369702},null,{"$f":"L$169/$C172","v":0},null,{"$f":"N$169/$C172","v":6.9527777777777784},null,{"$f":"P$169/$C172","v":5.6393305439330543}]
[null,null,5,{"$f":"D$169/$C173","v":1.7048119777158774},null,{"$f":"F$169/$C173","v":2.496338028169014},null,{"$f":"H$169/$C173","v":3.2028279525950141},null,{"$f":"J$169/$C173","v":2.093036611629576},null,{"$f":"L$169/$C173","v":0},null,{"$f":"N$169/$C173","v":5.5622222222222231},null,{"$f":"P$169/$C173","v":4.5114644351464435}]
[null,null,6,{"$f":"D$169/$C174","v":1.4206766480965645},null,{"$f":"F$169/$C174","v":2.0802816901408447},null,{"$f":"H$169/$C174","v":2.6690232938291785},null,{"$f":"J$169/$C174","v":1.7441971763579802},null,{"$f":"L$169/$C174","v":0},null,{"$f":"N$169/$C174","v":4.6351851851851853},null,{"$f":"P$169/$C174","v":3.7595536959553697}]
[null,null,null,{"$f":"COUNTIF(D169:D174,\">=\"&$C168)+COUNTIF(D169:D174,\">=\"&$C168)+COUNTIF(D169:D174,\">=\"&$C169)","v":0},{"$f":"COUNTIF(E169:E174,\">=\"&$C168)+COUNTIF(E169:E174,\">=\"&$C168)+COUNTIF(E169:E174,\">=\"&$C169)","v":0},0,0,0,0,0,0,0,0,3,0,1]
[]
[null,null,"Granada","PP",null,"PSOE",null,"UP",null,"C´s",null,"Equo",null,"Terr1"]
[null,null,{"$f":"LARGE(D179:P179,1)","v":31.118314763231197},{"$f":"D28","v":0.31118314763231197},null,{"$f":"F28","v":0.30563380281690139},null,0.21105966489579076,null,0.14757501794687722,null,{"$f":"L28","v":0},null,{"$f":"N28","v":0}]
[null,null,{"$f":"LARGE(D179:P179,2)","v":30.56338028169014},{"$f":"D178*100","v":31.118314763231197},null,{"$f":"F178*100","v":30.56338028169014},null,{"$f":"H178*100","v":21.105966489579075},null,{"$f":"J178*100","v":14.757501794687721},null,{"$f":"L178*100","v":0},null,{"$f":"N178*100","v":0}]
[null,null,2,{"$f":"D179/$C180","v":15.559157381615599},null,{"$f":"F$179/$C180","v":15.28169014084507},null,{"$f":"H$179/$C180","v":10.552983244789537},null,{"$f":"J$179/$C180","v":7.3787508973438607},null,{"$f":"L$179/$C180","v":0},null,{"$f":"N$179/$C180","v":0}]
[null,null,3,{"$f":"D$179/$C181","v":10.372771587743733},null,10.187793427230046,null,7.0353221631930252,null,4.9191672648959068,null,0,null,0]
[null,null,4,{"$f":"D$179/$C182","v":7.7795786908077993},null,7.640845070422535,null,5.2764916223947687,null,3.6893754486719303,null,0,null,0]
[null,null,5,{"$f":"D$179/$C183","v":6.2236629526462393},null,6.112676056338028,null,4.2211932979158151,null,2.9515003589375444,null,0,null,0]
[null,null,6,{"$f":"D$179/$C184","v":5.1863857938718665},null,5.0938967136150231,null,3.5176610815965126,null,2.4595836324479534,null,0,null,0]
[null,null,7,{"$f":"D$179/$C185","v":4.4454735376044567},null,4.3661971830985911,null,3.015138069939868,null,2.1082145420982461,null,0,null,0]
[null,null,null,{"$f":"COUNTIF(D179:D184,\">=\"&$C178)+COUNTIF(D179:D184,\">=\"&$C178)+COUNTIF(D179:D184,\">=\"&$C179)","v":3},{"$f":"COUNTIF(E179:E184,\">=\"&$C178)+COUNTIF(E179:E184,\">=\"&$C178)+COUNTIF(E179:E184,\">=\"&$C179)","v":0},1,0,0,0,0,0,0,0,0]
[]
[null,null,"Guadalajara","PP",null,"PSOE",null,"UP",null,"C´s",null,"Equo"]
[null,null,{"$f":"LARGE(D190:L190,1)","v":34.765772980501389},{"$f":"D29","v":0.34765772980501386},null,{"$f":"F29","v":0.22212676056338029},null,0.21253698406211685,null,0.19187939698492459,null,{"$f":"L29","v":0}]
[null,null,{"$f":"LARGE(D190:L190,2)","v":22.212676056338029},{"$f":"D189*100","v":34.765772980501389},null,{"$f":"F189*100","v":22.212676056338029},null,{"$f":"H189*100","v":21.253698406211686},null,{"$f":"J189*100","v":19.18793969849246},null,{"$f":"L189*100","v":0}]
[null,null,2,{"$f":"D190/$C191","v":17.382886490250694},null,{"$f":"F$190/$C191","v":11.106338028169015},null,{"$f":"H$190/$C191","v":10.626849203105843},null,{"$f":"J$190/$C191","v":9.5939698492462302},null,{"$f":"L$190/$C191","v":0}]
[null,null,3,{"$f":"D$190/$C192","v":11.588590993500462},null,{"$f":"F$190/$C192","v":7.4042253521126762},null,{"$f":"H$190/$C192","v":7.0845661354038958},null,{"$f":"J$190/$C192","v":6.3959798994974868},null,{"$f":"L$190/$C192","v":0}]
[null,null,null,{"$f":"COUNTIF(D190:D192,\">=\"&$C189)+COUNTIF(D190:D192,\">=\"&$C189)+COUNTIF(D190:D192,\">=\"&$C190)","v":3},{"$f":"COUNTIF(E190:E192,\">=\"&$C189)+COUNTIF(E190:E192,\">=\"&$C189)+COUNTIF(E190:E192,\">=\"&$C190)","v":0},1,0,0,0,0,0,0]
[]
[null,null,"Huelva","PP",null,"PSOE",null,"UP",null,"C´s",null,"Equo",null,"Terr1"]
[null,null,{"$f":"LARGE(D197:N197,1)","v":36.419718309859157},{"$f":"D30","v":0.28759958217270193},null,{"$f":"F30","v":0.36419718309859156},null,0.19372578667756438,null,0.12611342426417801,null,{"$f":"L30","v":0},null,{"$f":"N30","v":0}]
[null,null,{"$f":"LARGE(D197:N197,2)","v":28.759958217270192},{"$f":"D196*100","v":28.759958217270192},null,{"$f":"F196*100","v":36.419718309859157},null,{"$f":"H196*100","v":19.372578667756439},null,{"$f":"J196*100","v":12.611342426417801},null,{"$f":"L196*100","v":0},null,{"$f":"N196*100","v":0}]
[null,null,2,{"$f":"D$197/$C198","v":14.379979108635096},null,{"$f":"F$197/$C198","v":18.209859154929578},null,{"$f":"H$197/$C198","v":9.6862893338782197},null,{"$f":"J$197/$C198","v":6.3056712132089006},null,{"$f":"L$197/$C198","v":0},null,{"$f":"N$197/$C198","v":0}]
[null,null,3,{"$f":"D$197/$C199","v":9.5866527390900647},null,{"$f":"F$197/$C199","v":12.139906103286386},null,{"$f":"H$197/$C199","v":6.4575262225854795},null,{"$f":"J$197/$C199","v":4.2037808088059334},null,{"$f":"L$197/$C199","v":0},null,{"$f":"N$197/$C199","v":0}]
[null,null,4,{"$f":"D$197/$C200","v":7.189989554317548},null,{"$f":"F$197/$C200","v":9.1049295774647891},null,{"$f":"H$197/$C200","v":4.8431446669391098},null,{"$f":"J$197/$C200","v":3.1528356066044503},null,{"$f":"L$197/$C200","v":0},null,{"$f":"N$197/$C200","v":0}]
[null,null,5,{"$f":"D$197/$C201","v":5.7519916434540388},null,{"$f":"F$197/$C201","v":7.283943661971831},null,{"$f":"H$197/$C201","v":3.8745157335512879},null,{"$f":"J$197/$C201","v":2.5222684852835604},null,{"$f":"L$197/$C201","v":0},null,{"$f":"N$197/$C201","v":0}]
[null,null,null,{"$f":"COUNTIF(D197:D201,\">=\"&$C196)+COUNTIF(D197:D201,\">=\"&$C196)+COUNTIF(D197:D201,\">=\"&$C197)","v":1},{"$f":"COUNTIF(E197:E201,\">=\"&$C196)+COUNTIF(E197:E201,\">=\"&$C196)+COUNTIF(E197:E201,\">=\"&$C197)","v":0},3,0,0,0,0,0,0,0,0]
[]
[null,null,"Huesca","PP",null,"PSOE",null,"UP",null,"C´s",null,"Equo"]
[null,null,{"$f":"LARGE(D206:L206,1)","v":32.577298050139277},{"$f":"D31","v":0.32577298050139275},null,{"$f":"F31","v":0.24361971830985915},null,0.22809807928075193,null,0.1722239770279971,null,{"$f":"L31","v":0}]
[null,null,{"$f":"LARGE(D206:L206,2)","v":24.361971830985915},{"$f":"D205*100","v":32.577298050139277},null,{"$f":"F205*100","v":24.361971830985915},null,{"$f":"H205*100","v":22.809807928075195},null,{"$f":"J205*100","v":17.222397702799711},null,{"$f":"L205*100","v":0}]
[null,null,2,{"$f":"D$206/$C207","v":16.288649025069638},null,{"$f":"F$206/$C207","v":12.180985915492958},null,{"$f":"H$206/$C207","v":11.404903964037597},null,{"$f":"J$206/$C207","v":8.6111988513998554},null,{"$f":"L$206/$C207","v":0}]
[null,null,3,{"$f":"D$206/$C208","v":10.859099350046426},null,{"$f":"F$206/$C208","v":8.1206572769953045},null,{"$f":"H$206/$C208","v":7.6032693093583985},null,{"$f":"J$206/$C208","v":5.7407992342665706},null,{"$f":"L$206/$C208","v":0}]
[null,null,null,{"$f":"COUNTIF(D206:D208,\">=\"&$C205)+COUNTIF(D206:D208,\">=\"&$C205)+COUNTIF(D206:D208,\">=\"&$C206)","v":3},{"$f":"COUNTIF(E206:E208,\">=\"&$C205)+COUNTIF(E206:E208,\">=\"&$C205)+COUNTIF(E206:E208,\">=\"&$C206)","v":0},1,0,0,0,0,0,0]
[]
[null,null,"Illes Balears","PP",null,"PSOE",null,"UP",null,"C´s",null,"Equo",null,"Terr1",null,"Terr2"]
[null,null,{"$f":"LARGE(D213:P213,1)","v":31.949489170412754},{"$f":"D32","v":0.29049756267409471},null,{"$f":"F32","v":0.18052112676056339},null,0.31949489170412754,null,0.15703086862885854,null,{"$f":"L32","v":0},null,{"$f":"N32","v":0},null,{"$f":"P32","v":0}]
[null,null,{"$f":"LARGE(D213:P213,2)","v":29.049756267409471},{"$f":"D212*100","v":29.049756267409471},null,{"$f":"F212*100","v":18.052112676056339},null,{"$f":"H212*100","v":31.949489170412754},null,{"$f":"J212*100","v":15.703086862885854},null,{"$f":"L212*100","v":0},null,{"$f":"N212*100","v":0},null,{"$f":"P212*100","v":0}]
[null,null,2,{"$f":"D$213/$C214","v":14.524878133704735},null,{"$f":"F$213/$C214","v":9.0260563380281695},null,{"$f":"H$213/$C214","v":15.974744585206377},null,{"$f":"J$213/$C214","v":7.8515434314429271},null,{"$f":"L$213/$C214","v":0},null,{"$f":"N$213/$C214","v":0},null,{"$f":"P$213/$C214","v":0}]
[null,null,3,9.6832520891364897,null,6.0173708920187794,null,10.649829723470917,null,5.2343622876286178,null,0,null,0,null,0]
[null,null,4,7.2624390668523677,null,4.5130281690140848,null,7.9873722926031885,null,3.9257717157214636,null,0,null,0,null,0]
[null,null,5,5.809951253481894,null,3.610422535211268,null,6.389897834082551,null,3.1406173725771707,null,0,null,0,null,0]
[null,null,6,4.8416260445682449,null,3.0086854460093897,null,5.3249148617354587,null,2.6171811438143089,null,0,null,0,null,0]
[null,null,7,4.1499651810584961,null,2.5788732394366201,null,4.5642127386303937,null,2.2432981232694078,null,0,null,0,null,0]
[null,null,8,3.6312195334261839,null,2.2565140845070424,null,3.9936861463015942,null,1.9628858578607318,null,0,null,0,null,0]
[null,null,null,{"$f":"COUNTIF(D213:D220,\">=\"&$C212)+COUNTIF(D213:D220,\">=\"&$C212)+COUNTIF(D213:D220,\">=\"&$C212)+COUNTIF(D213:D220,\">=\"&$C213)","v":1},{"$f":"COUNTIF(E213:E220,\">=\"&$C212)+COUNTIF(E213:E220,\">=\"&$C212)+COUNTIF(E213:E220,\">=\"&$C212)+COUNTIF(E213:E220,\">=\"&$C213)","v":0},0,0,4,0,0,0,0,0,0,0,0]
[]
[null,null,"Jaén","PP",null,"PSOE",null,"UP",null,"C´s",null,"Equo",null,"Terr1"]
[null,null,{"$f":"LARGE(D225:N225,1)","v":37.819718309859155},{"$f":"D33","v":0.31478064066852363},null,{"$f":"F33","v":0.37819718309859157},null,0.16565672251736818,null,0.11347020818377601,null,{"$f":"L33","v":0},null,{"$f":"N33","v":0}]
[null,null,{"$f":"LARGE(D225:N225,2)","v":31.478064066852362},{"$f":"D224*100","v":31.478064066852362},null,{"$f":"F224*100","v":37.819718309859155},null,{"$f":"H224*100","v":16.565672251736817},null,{"$f":"J224*100","v":11.347020818377601},null,{"$f":"L224*100","v":0},null,{"$f":"N224*100","v":0}]
[null,null,2,{"$f":"D$225/$C226","v":15.739032033426181},null,{"$f":"F$225/$C226","v":18.909859154929578},null,{"$f":"H$225/$C226","v":8.2828361258684087},null,{"$f":"J$225/$C226","v":5.6735104091888005},null,{"$f":"L$225/$C226","v":0},null,{"$f":"N$225/$C226","v":0}]
[null,null,3,{"$f":"D$225/$C227","v":10.492688022284121},null,{"$f":"F$225/$C227","v":12.606572769953052},null,{"$f":"H$225/$C227","v":5.5218907505789394},null,{"$f":"J$225/$C227","v":3.7823402727925335},null,{"$f":"L$225/$C227","v":0},null,{"$f":"N$225/$C227","v":0}]
[null,null,4,{"$f":"D$225/$C228","v":7.8695160167130904},null,{"$f":"F$225/$C228","v":9.4549295774647888},null,{"$f":"H$225/$C228","v":4.1414180629342043},null,{"$f":"J$225/$C228","v":2.8367552045944002},null,{"$f":"L$225/$C228","v":0},null,{"$f":"N$225/$C228","v":0}]
[null,null,5,{"$f":"D$225/$C229","v":6.2956128133704725},null,{"$f":"F$225/$C229","v":7.5639436619718312},null,{"$f":"H$225/$C229","v":3.3131344503473636},null,{"$f":"J$225/$C229","v":2.26940416367552},null,{"$f":"L$225/$C229","v":0},null,{"$f":"N$225/$C229","v":0}]
[null,null,null,{"$f":"COUNTIF(D225:D229,\">=\"&$C224)+COUNTIF(D225:D229,\">=\"&$C224)+COUNTIF(D225:D229,\">=\"&$C225)","v":1},{"$f":"COUNTIF(E225:E229,\">=\"&$C224)+COUNTIF(E225:E229,\">=\"&$C224)+COUNTIF(E225:E229,\">=\"&$C225)","v":0},3,0,0,0,0,0,0,0,0]
[]
[null,null,"La Rioja","PP",null,"PSOE",null,"UP",null,"C´s",null,"Equo"]
[null,null,{"$f":"LARGE(D234:L234,1)","v":38.323293871866291},{"$f":"D34","v":0.38323293871866293},null,{"$f":"F34","v":0.2337605633802817},null,0.19707437678790354,null,0.16074946159368267,null,{"$f":"L34","v":0}]
[null,null,{"$f":"LARGE(D234:L234,2)","v":23.376056338028171},{"$f":"D233*100","v":38.323293871866291},null,{"$f":"F233*100","v":23.376056338028171},null,{"$f":"H233*100","v":19.707437678790356},null,{"$f":"J233*100","v":16.074946159368267},null,{"$f":"L233*100","v":0}]
[null,null,2,{"$f":"D$234/$C235","v":19.161646935933145},null,{"$f":"F$234/$C235","v":11.688028169014085},null,{"$f":"H$234/$C235","v":9.853718839395178},null,{"$f":"J$234/$C235","v":8.0374730796841334},null,{"$f":"L$234/$C235","v":0}]
[null,null,3,{"$f":"D$234/$C236","v":12.774431290622097},null,{"$f":"F$234/$C236","v":7.7920187793427234},null,{"$f":"H$234/$C236","v":6.569145892930119},null,{"$f":"J$234/$C236","v":5.3583153864560886},null,{"$f":"L$234/$C236","v":0}]
[null,null,4,{"$f":"D$234/$C237","v":9.5808234679665727},null,{"$f":"F$234/$C237","v":5.8440140845070427},null,{"$f":"H$234/$C237","v":4.926859419697589},null,{"$f":"J$234/$C237","v":4.0187365398420667},null,{"$f":"L$234/$C237","v":0}]
[null,null,null,{"$f":"COUNTIF(D234:D236,\">=\"&$C233)+COUNTIF(D234:D236,\">=\"&$C233)+COUNTIF(D234:D236,\">=\"&$C234)","v":3},{"$f":"COUNTIF(E234:E236,\">=\"&$C233)+COUNTIF(E234:E236,\">=\"&$C233)+COUNTIF(E234:E236,\">=\"&$C234)","v":0},1,0,0,0,0,0,0]
[]
[null,null,"Las Palmas","PP",null,"PSOE",null,"UP",null,"C´s",null,"Equo",null,"Terr1"]
[null,null,{"$f":"LARGE(D242:N242,1)","v":30.19640375970576},{"$f":"D35","v":0.28160376044568242},null,{"$f":"F35","v":0.22084507042253523},null,0.30196403759705759,null,0.13036324479540559,null,{"$f":"L35","v":0},null,{"$f":"N35","v":0}]
[null,null,{"$f":"LARGE(D242:N242,2)","v":28.160376044568242},{"$f":"D241*100","v":28.160376044568242},null,{"$f":"F241*100","v":22.084507042253524},null,{"$f":"H241*100","v":30.19640375970576},null,{"$f":"J241*100","v":13.036324479540559},null,{"$f":"L241*100","v":0},null,{"$f":"N241*100","v":0}]
[null,null,2,{"$f":"D$242/$C243","v":14.080188022284121},null,{"$f":"F$242/$C243","v":11.042253521126762},null,{"$f":"H$242/$C243","v":15.09820187985288},null,{"$f":"J$242/$C243","v":6.5181622397702794},null,{"$f":"L$242/$C243","v":0},null,{"$f":"N$242/$C243","v":0}]
[null,null,3,9.3867920148560806,null,7.3615023474178409,null,10.06546791990192,null,4.3454414931801866,null,0,null,0]
[null,null,4,7.0400940111420605,null,5.5211267605633809,null,7.5491009399264399,null,3.2590811198851397,null,0,null,0]
[null,null,5,5.6320752089136485,null,4.4169014084507046,null,6.0392807519411518,null,2.6072648959081119,null,0,null,0]
[null,null,6,4.6933960074280403,null,3.6807511737089205,null,5.03273395995096,null,2.1727207465900933,null,0,null,0]
[null,null,7,4.0229108635097486,null,3.154929577464789,null,4.3137719656722515,null,1.862332068505794,null,0,null,0]
[null,null,8,3.5200470055710302,null,2.7605633802816905,null,3.77455046996322,null,1.6295405599425699,null,0,null,0]
[null,null,null,{"$f":"COUNTIF(D242:D249,\">=\"&$C241)+COUNTIF(D242:D249,\">=\"&$C242)+COUNTIF(D242:D249,\">=\"&$C242)","v":2},{"$f":"COUNTIF(E242:E249,\">=\"&$C241)+COUNTIF(E242:E249,\">=\"&$C242)+COUNTIF(E242:E249,\">=\"&$C242)","v":0},0,0,3,0,0,0,0,0,{"$f":"1","v":1}]
[]
[null,null,"León","PP",null,"PSOE",null,"UP",null,"C´s",null,"Equo"]
[null,null,{"$f":"LARGE(D254:L254,1)","v":35.595194986072421},{"$f":"D36","v":0.3559519498607242},null,{"$f":"F36","v":0.25012676056338029},null,0.22012055578259093,null,0.13780043072505382,null,{"$f":"L36","v":0}]
[null,null,{"$f":"LARGE(D254:L254,2)","v":25.01267605633803},{"$f":"D253*100","v":35.595194986072421},null,{"$f":"F253*100","v":25.01267605633803},null,{"$f":"H253*100","v":22.012055578259094},null,{"$f":"J253*100","v":13.780043072505382},null,{"$f":"L253*100","v":0}]
[null,null,2,{"$f":"D254/$C255","v":17.797597493036211},null,{"$f":"F$254/$C255","v":12.506338028169015},null,{"$f":"H$254/$C255","v":11.006027789129547},null,{"$f":"J$254/$C255","v":6.8900215362526911},null,{"$f":"L$254/$C255","v":0}]
[null,null,3,{"$f":"D$254/$C256","v":11.865064995357473},null,{"$f":"F$254/$C256","v":8.3375586854460106},null,{"$f":"H$254/$C256","v":7.337351859419698},null,{"$f":"J$254/$C256","v":4.5933476908351274},null,{"$f":"L$254/$C256","v":0}]
[null,null,4,{"$f":"D$254/$C257","v":8.8987987465181053},null,{"$f":"F$254/$C257","v":6.2531690140845075},null,{"$f":"H$254/$C257","v":5.5030138945647735},null,{"$f":"J$254/$C257","v":3.4450107681263455},null,{"$f":"L$254/$C257","v":0}]
[null,null,5,{"$f":"D$254/$C258","v":7.1190389972144841},null,{"$f":"F$254/$C258","v":5.002535211267606},null,{"$f":"H$254/$C258","v":4.4024111156518186},null,{"$f":"J$254/$C258","v":2.7560086145010763},null,{"$f":"L$254/$C258","v":0}]
[null,null,null,{"$f":"COUNTIF(D254:D258,\">=\"&$C253)+COUNTIF(D254:D258,\">=\"&$C253)+COUNTIF(D254:D258,\">=\"&$C254)","v":3},{"$f":"COUNTIF(E254:E258,\">=\"&$C253)+COUNTIF(E254:E258,\">=\"&$C253)+COUNTIF(E254:E258,\">=\"&$C254)","v":0},1,0,0,0,0,0,0]
[]
[null,null,"Lleida","PP",null,"PSOE",null,"UP",null,"C´s",null,"Equo",null,"Terr1",null,"Terr2"]
[null,null,{"$f":"LARGE(D263:P263,1)","v":26.977777777777778},{"$f":"D37","v":0.11252158774373258},null,{"$f":"F37","v":0.122943661971831},null,0.15108050674295057,null,9.5514716439339536E-2,null,{"$f":"L37","v":0},null,{"$f":"N37","v":0.26977777777777778},null,{"$f":"P37","v":0.2142175732217573}]
[null,null,{"$f":"LARGE(D263:P263,2)","v":21.421757322175729},{"$f":"D262*100","v":11.252158774373259},null,{"$f":"F262*100","v":12.2943661971831},null,{"$f":"H262*100","v":15.108050674295056},null,{"$f":"J262*100","v":9.5514716439339544},null,{"$f":"L262*100","v":0},null,{"$f":"N262*100","v":26.977777777777778},null,{"$f":"P262*100","v":21.421757322175729}]
[null,null,2,{"$f":"D$263/$C264","v":5.6260793871866293},null,{"$f":"F$263/$C264","v":6.1471830985915501},null,{"$f":"H$263/$C264","v":7.5540253371475279},null,{"$f":"J$263/$C264","v":4.7757358219669772},null,{"$f":"L$263/$C264","v":0},null,{"$f":"N$263/$C264","v":13.488888888888889},null,{"$f":"P$263/$C264","v":10.710878661087865}]
[null,null,3,{"$f":"D$263/$C265","v":3.7507195914577527},null,{"$f":"F$263/$C265","v":4.0981220657276998},null,{"$f":"H$263/$C265","v":5.036016891431685},null,{"$f":"J$263/$C265","v":3.183823881311318},null,{"$f":"L$263/$C265","v":0},null,{"$f":"N$263/$C265","v":8.992592592592592},null,{"$f":"P$263/$C265","v":7.1405857740585761}]
[null,null,4,{"$f":"D$263/$C266","v":2.8130396935933146},null,{"$f":"F$263/$C266","v":3.073591549295775},null,{"$f":"H$263/$C266","v":3.7770126685737639},null,{"$f":"J$263/$C266","v":2.3878679109834886},null,{"$f":"L$263/$C266","v":0},null,{"$f":"N$263/$C266","v":6.7444444444444445},null,{"$f":"P$263/$C266","v":5.3554393305439323}]
[null,null,null,{"$f":"COUNTIF(D263:D266,\">=\"&$C262)+COUNTIF(D263:D266,\">=\"&$C262)+COUNTIF(D263:D266,\">=\"&$C263)","v":0},{"$f":"COUNTIF(E263:E266,\">=\"&$C262)+COUNTIF(E263:E266,\">=\"&$C262)+COUNTIF(E263:E266,\">=\"&$C263)","v":0},0,0,0,0,0,0,0,0,3,0,1]
[]
[null,null,"Lugo","PP",null,"PSOE",null,"UP",null,"C´s",null,"Equo",null,"Terr1"]
[null,null,{"$f":"LARGE(D271:P271,1)","v":42.480396935933143},{"$f":"D38","v":0.4248039693593314},null,{"$f":"F38","v":0.23642253521126763},null,0.18968778095627298,null,8.0746590093323745E-2,null,{"$f":"L38","v":0},null,{"$f":"N38","v":0}]
[null,null,{"$f":"LARGE(D271:P271,2)","v":23.642253521126761},{"$f":"D270*100","v":42.480396935933143},null,{"$f":"F270*100","v":23.642253521126761},null,{"$f":"H270*100","v":18.968778095627297},null,{"$f":"J270*100","v":8.0746590093323753},null,{"$f":"L270*100","v":0},null,{"$f":"N270*100","v":0}]
[null,null,2,{"$f":"D$271/$C272","v":21.240198467966572},null,{"$f":"F$271/$C272","v":11.821126760563381},null,{"$f":"H$271/$C272","v":9.4843890478136483},null,{"$f":"J$271/$C272","v":4.0373295046661877},null,{"$f":"L$271/$C272","v":0},null,{"$f":"N$271/$C272","v":0}]
[null,null,3,{"$f":"D$271/$C273","v":14.160132311977714},null,{"$f":"F$271/$C273","v":7.8807511737089202},null,{"$f":"H$271/$C273","v":6.3229260318757659},null,{"$f":"J$271/$C273","v":2.6915530031107919},null,{"$f":"L$271/$C273","v":0},null,{"$f":"N$271/$C273","v":0}]
[null,null,4,{"$f":"D$271/$C274","v":10.620099233983286},null,{"$f":"F$271/$C274","v":5.9105633802816904},null,{"$f":"H$271/$C274","v":4.7421945239068242},null,{"$f":"J$271/$C274","v":2.0186647523330938},null,{"$f":"L$271/$C274","v":0},null,{"$f":"N$271/$C274","v":0}]
[null,null,null,{"$f":"COUNTIF(D271:D274,\">=\"&$C270)+COUNTIF(D271:D274,\">=\"&$C270)+COUNTIF(D271:D274,\">=\"&$C271)","v":3},{"$f":"COUNTIF(E271:E274,\">=\"&$C270)+COUNTIF(E271:E274,\">=\"&$C270)+COUNTIF(E271:E274,\">=\"&$C271)","v":0},1,0,0,0,0,0,0,0,0]
[]
[null,null,"Madrid","PP",null,"PSOE",null,"UP",null,"C´s",null,"Equo"]
[null,null,{"$f":"LARGE(D279:L279,1)","v":33.436699164345399},{"$f":"D39","v":0.33436699164345401},null,{"$f":"F39","v":0.17618309859154929},null,0.25725051082958722,null,0.19974156496769557,null,{"$f":"L39","v":0}]
[null,null,{"$f":"LARGE(D279:L279,2)","v":25.725051082958721},{"$f":"D278*100","v":33.436699164345399},null,{"$f":"F278*100","v":17.61830985915493},null,25.725051082958721,null,19.974156496769556,null,0]
[null,null,2,{"$f":"D$279/$C280","v":16.718349582172699},null,{"$f":"F$279/$C280","v":8.8091549295774652},null,{"$f":"H$279/$C280","v":12.862525541479361},null,{"$f":"J$279/$C280","v":9.987078248384778},null,{"$f":"L$279/$C280","v":0}]
[null,null,3,11.145566388115133,null,5.8727699530516437,null,8.5750170276529065,null,6.6580521655898517,null,0]
[null,null,4,8.3591747910863496,null,4.4045774647887326,null,6.4312627707396803,null,4.993539124192389,null,0]
[null,null,5,6.6873398328690801,null,3.5236619718309861,null,5.1450102165917446,null,3.994831299353911,null,0]
[null,null,6,5.5727831940575667,null,2.9363849765258219,null,4.2875085138264533,null,3.3290260827949258,null,0]
[null,null,7,4.7766713091922002,null,2.5169014084507042,null,3.6750072975655317,null,2.8534509281099365,null,0]
[null,null,8,4.1795873955431748,null,2.2022887323943663,null,3.2156313853698402,null,2.4967695620961945,null,0]
[null,null,9,3.7151887960383778,null,1.9575899843505478,null,2.8583390092176355,null,2.2193507218632842,null,0]
[null,null,10,3.34366991643454,null,1.761830985915493,null,2.5725051082958723,null,1.9974156496769555,null,0]
[null,null,11,3.0396999240314,null,1.6016645326504482,null,2.3386410075417019,null,1.8158324087972324,null,0]
[null,null,12,2.7863915970287834,null,1.4681924882629109,null,2.1437542569132266,null,1.6645130413974629,null,0]
[null,null,13,2.5720537818727229,null,1.3552546045503793,null,1.9788500833045171,null,1.5364735766745812,null,0]
[null,null,14,2.3883356545961001,null,1.2584507042253521,null,1.8375036487827658,null,1.4267254640549683,null,0]
[null,null,15,2.2291132776230267,null,1.1745539906103286,null,1.7150034055305814,null,1.3316104331179703,null,0]
[null,null,16,2.0897936977715874,null,1.1011443661971831,null,1.6078156926849201,null,1.2483847810480972,null,0]
[null,null,17,1.9668646567261998,null,1.0363711681855841,null,1.5132382989975719,null,1.174950382162915,null,0]
[null,null,18,1.8575943980191889,null,0.97879499217527388,null,1.4291695046088178,null,1.1096753609316421,null,0]
[null,null,19,1.7598262718076525,null,0.92727946627131208,null,1.3539500569978273,null,1.0512713945668188,null,0]
[null,null,20,1.67183495821727,null,0.88091549295774652,null,1.2862525541479362,null,0.99870782483847775,null,0]
[null,null,21,1.5922237697307333,null,0.83896713615023477,null,1.2250024325218438,null,0.95115030936997891,null,0]
[null,null,22,1.5198499620157,null,0.80083226632522408,null,1.1693205037708509,null,0.9079162043986162,null,0]
[null,null,23,1.4537695288845824,null,0.76601347213717086,null,1.1184804818677705,null,0.86844158681606765,null,0]
[null,null,24,1.3931957985143917,null,0.73409624413145547,null,1.0718771284566133,null,0.83225652069873146,null,0]
[null,null,25,1.3374679665738158,null,0.70473239436619717,null,1.0290020433183489,null,0.79896625987078229,null,0]
[null,null,26,1.2860268909363615,null,0.67762730227518964,null,0.98942504165225853,null,0.76823678833729059,null,0]
[null,null,27,1.2383962653461258,null,0.65252999478351592,null,0.95277966973921191,null,0.73978357395442795,null,0]
[null,null,28,1.19416782729805,null,0.62922535211267605,null,0.91875182439138292,null,0.71336273202748413,null,0]
[null,null,29,1.1529896263567379,null,0.60752792617775619,null,0.88707072699857659,null,0.6887640171299847,null,0]
[null,null,30,1.1145566388115133,null,0.58727699530516431,null,0.8575017027652907,null,0.66580521655898517,null,0]
[null,null,31,1.0786031988498517,null,0.5683325761017719,null,0.82984035751479746,null,0.64432762892805018,null,0]
[null,null,32,1.0448968488857937,null,0.55057218309859157,null,0.80390784634246004,null,0.62419239052404862,null,0]
[null,null,33,1.0132333080104665,null,0.53388817755014939,null,0.77954700251390063,null,0.60527746959907747,null,0]
[null,null,34,0.98343232836309991,null,0.51818558409279203,null,0.75661914949878595,null,0.58747519108145752,null,0]
[null,null,35,0.95533426183843995,null,0.50338028169014082,null,0.73500145951310636,null,0.57069018562198737,null,0]
[null,null,36,0.92879719900959445,null,0.48939749608763694,null,0.71458475230440888,null,0.55483768046582105,null,0]
[null,null,null,{"$f":"COUNTIF(D279:D314,\">=\"&$C278)+COUNTIF(D279:D314,\">=\"&$C278)+COUNTIF(D279:D314,\">=\"&$C279)","v":3},{"$f":"COUNTIF(E279:E314,\">=\"&$C278)+COUNTIF(E279:E314,\">=\"&$C278)+COUNTIF(E279:E314,\">=\"&$C279)","v":0},0,0,1,0,0,0,0]
[]
[null,null,"Málaga","PP",null,"PSOE",null,"UP",null,"C´s",null,"Equo",null,"Terr1"]
[null,null,{"$f":"LARGE(D319:N319,1)","v":28.949825905292474},{"$f":"D40","v":0.28949825905292476},null,{"$f":"F40","v":0.26540845070422536},null,0.23528769922353901,null,0.18136109117013635,null,{"$f":"L40","v":0},null,{"$f":"N40","v":0}]
[null,null,{"$f":"LARGE(D319:N319,2)","v":26.540845070422534},{"$f":"D318*100","v":28.949825905292474},null,{"$f":"F318*100","v":26.540845070422534},null,{"$f":"H318*100","v":23.528769922353902},null,{"$f":"J318*100","v":18.136109117013635},null,{"$f":"L318*100","v":0},null,{"$f":"N318*100","v":0}]
[null,null,2,{"$f":"D$319/$C320","v":14.474912952646237},null,{"$f":"F$319/$C320","v":13.270422535211267},null,{"$f":"H$319/$C320","v":11.764384961176951},null,{"$f":"J$319/$C320","v":9.0680545585068177},null,{"$f":"L$319/$C320","v":0},null,{"$f":"N$319/$C320","v":0}]
[null,null,3,9.6499419684308254,null,8.8469483568075109,null,7.8429233074513007,null,6.0453697056712121,null,0,null,0]
[null,null,4,7.2374564763231186,null,6.6352112676056336,null,5.8821924805884755,null,4.5340272792534089,null,0,null,0]
[null,null,5,5.7899651810584949,null,5.3081690140845073,null,4.7057539844707801,null,3.6272218234027269,null,0,null,0]
[null,null,6,4.8249709842154127,null,4.4234741784037555,null,3.9214616537256504,null,3.0226848528356061,null,0,null,0]
[null,null,7,4.1356894150417824,null,3.7915492957746477,null,3.3612528460505575,null,2.5908727310019479,null,0,null,0]
[null,null,8,3.6187282381615593,null,3.3176056338028168,null,2.9410962402942378,null,2.2670136396267044,null,0,null,0]
[null,null,9,3.216647322810275,null,2.9489827856025039,null,2.6143077691504337,null,2.0151232352237374,null,0,null,0]
[null,null,10,2.8949825905292474,null,2.6540845070422536,null,2.35287699223539,null,1.8136109117013635,null,0,null,0]
[null,null,11,2.6318023550265885,null,2.4128040973111395,null,2.1389790838503546,null,1.648737192455785,null,0,null,0]
[null,null,null,{"$f":"COUNTIF(D319:D329,\">=\"&$C318)+COUNTIF(D319:D329,\">=\"&$C318)+COUNTIF(D319:D329,\">=\"&$C319)","v":3},{"$f":"COUNTIF(E319:E329,\">=\"&$C318)+COUNTIF(E319:E329,\">=\"&$C318)+COUNTIF(E319:E329,\">=\"&$C319)","v":0},1,0,0,0,0,0,0,0,0]
[]
[null,null,"Murcia","PP",null,"PSOE",null,"UP",null,"C´s",null,"Equo"]
[null,null,{"$f":"LARGE(D334:L334,1)","v":40.411838440111417},{"$f":"D42","v":0.40411838440111414},null,{"$f":"F42","v":0.20033802816901408},null,0.18013445034736411,null,0.18773582196697772,null,{"$f":"L42","v":0}]
[null,null,{"$f":"LARGE(D334:L334,2)","v":20.033802816901407},{"$f":"D333*100","v":40.411838440111417},null,{"$f":"F333*100","v":20.033802816901407},null,{"$f":"H333*100","v":18.01344503473641},null,{"$f":"J333*100","v":18.77358219669777},null,{"$f":"L333*100","v":0}]
[null,null,2,{"$f":"D$334/$C335","v":20.205919220055709},null,{"$f":"F$334/$C335","v":10.016901408450703},null,{"$f":"H$334/$C335","v":9.0067225173682051},null,{"$f":"J$334/$C335","v":9.3867910983488851},null,{"$f":"L$334/$C335","v":0}]
[null,null,3,13.470612813370472,null,6.6779342723004689,null,6.0044816782454697,null,6.2578607322325901,null,0]
[null,null,4,10.102959610027854,null,5.0084507042253517,null,4.5033612586841025,null,4.6933955491744426,null,0]
[null,null,5,8.0823676880222841,null,4.006760563380281,null,3.6026890069472821,null,3.7547164393395542,null,0]
[null,null,6,6.7353064066852362,null,3.3389671361502344,null,3.0022408391227349,null,3.128930366116295,null,0]
[null,null,7,5.7731197771587741,null,2.8619718309859152,null,2.5733492906766302,null,2.6819403138139672,null,0]
[null,null,8,5.0514798050139271,null,2.5042253521126758,null,2.2516806293420513,null,2.3466977745872213,null,0]
[null,null,9,4.4902042711234911,null,2.225978090766823,null,2.0014938927484902,null,2.0859535774108635,null,0]
[null,null,10,4.0411838440111421,null,2.0033802816901405,null,1.8013445034736411,null,1.8773582196697771,null,0]
[null,null,null,{"$f":"COUNTIF(D334:D343,\">=\"&$C333)+COUNTIF(D334:D343,\">=\"&$C333)+COUNTIF(D334:D343,\">=\"&$C334)-1","v":3},{"$f":"COUNTIF(E334:E343,\">=\"&$C333)+COUNTIF(E334:E343,\">=\"&$C333)+COUNTIF(E334:E343,\">=\"&$C334)","v":0},1,0,0,0,0,0,0]
[]
[null,null,"Navarra","PP",null,"PSOE",null,"UP",null,"C´s",null,"Equo",null,"Terr1",null,"Terr2"]
[null,null,{"$f":"LARGE(D348:P348,1)","v":45.611612248636611},{"$f":"D43","v":0.28909853760445681},null,{"$f":"F43","v":0.15311267605633802},null,0.45611612248636613,null,7.490308686288584E-2,null,{"$f":"L43","v":0},null,{"$f":"N43","v":0},null,{"$f":"P43","v":0}]
[null,null,{"$f":"LARGE(D348:P348,2)","v":28.909853760445682},{"$f":"D347*100","v":28.909853760445682},null,{"$f":"F347*100","v":15.311267605633802},null,{"$f":"H347*100","v":45.611612248636611},null,{"$f":"J347*100","v":7.4903086862885839},null,{"$f":"L347*100","v":0},null,{"$f":"N347*100","v":0},null,{"$f":"P347*100","v":0}]
[null,null,2,{"$f":"D$348/$C349","v":14.454926880222841},null,{"$f":"F$348/$C349","v":7.6556338028169009},null,{"$f":"H$348/$C349","v":22.805806124318305},null,{"$f":"J$348/$C349","v":3.745154343144292},null,{"$f":"L$348/$C349","v":0},null,{"$f":"N$348/$C349","v":0},null,{"$f":"P$348/$C349","v":0}]
[null,null,3,{"$f":"D$348/$C350","v":9.6366179201485611},null,{"$f":"F$348/$C350","v":5.1037558685446003},null,{"$f":"H$348/$C350","v":15.203870749545537},null,{"$f":"J$348/$C350","v":2.4967695620961945},null,{"$f":"L$348/$C350","v":0},null,{"$f":"N$348/$C350","v":0},null,{"$f":"P$348/$C350","v":0}]
[null,null,4,{"$f":"D$348/$C351","v":7.2274634401114204},null,{"$f":"F$348/$C351","v":3.8278169014084504},null,{"$f":"H$348/$C351","v":11.402903062159153},null,{"$f":"J$348/$C351","v":1.872577171572146},null,{"$f":"L$348/$C351","v":0},null,{"$f":"N$348/$C351","v":0},null,{"$f":"P$348/$C351","v":0}]
[null,null,5,{"$f":"D$348/$C352","v":5.7819707520891361},null,{"$f":"F$348/$C352","v":3.0622535211267605},null,{"$f":"H$348/$C352","v":9.1223224497273225},null,{"$f":"J$348/$C352","v":1.4980617372577167},null,{"$f":"L$348/$C352","v":0},null,{"$f":"N$348/$C352","v":0},null,{"$f":"P$348/$C352","v":0}]
[null,null,null,{"$f":"COUNTIF(D348:D352,\">=\"&$C347)+COUNTIF(D348:D352,\">=\"&$C347)+COUNTIF(D348:D352,\">=\"&$C348)","v":1},{"$f":"COUNTIF(E348:E352,\">=\"&$C347)+COUNTIF(E348:E352,\">=\"&$C347)+COUNTIF(E348:E352,\">=\"&$C348)","v":0},0,0,3,0,0,0,0,0,0,0,0]
[]
[null,null,"Ourense","PP",null,"PSOE",null,"UP",null,"C´s",null,"Equo",null,"Terr1"]
[null,null,{"$f":"LARGE(D357:N357,1)","v":44.878725626740945},{"$f":"D44","v":0.44878725626740945},null,{"$f":"F44","v":0.22873239436619719},null,0.17570249284838577,null,8.3615218951902354E-2,null,{"$f":"L44","v":0},null,{"$f":"N44","v":0}]
[null,null,{"$f":"LARGE(D357:N357,2)","v":22.87323943661972},{"$f":"D356*100","v":44.878725626740945},null,{"$f":"F356*100","v":22.87323943661972},null,{"$f":"H356*100","v":17.570249284838578},null,{"$f":"J356*100","v":8.3615218951902346},null,{"$f":"L356*100","v":0},null,{"$f":"N356*100","v":0}]
[null,null,2,{"$f":"D357/$C358","v":22.439362813370472},null,{"$f":"F$357/$C358","v":11.43661971830986},null,{"$f":"H$357/$C358","v":8.785124642419289},null,{"$f":"J$357/$C358","v":4.1807609475951173},null,{"$f":"L$357/$C358","v":0},null,{"$f":"N$357/$C358","v":0}]
[null,null,3,{"$f":"D$357/$C359","v":14.959575208913648},null,{"$f":"F$357/$C359","v":7.6244131455399069},null,{"$f":"H$357/$C359","v":5.8567497616128597},null,{"$f":"J$357/$C359","v":2.7871739650634115},null,{"$f":"L$357/$C359","v":0},null,{"$f":"N$357/$C359","v":0}]
[null,null,4,{"$f":"D$357/$C360","v":11.219681406685236},null,{"$f":"F$357/$C360","v":5.71830985915493},null,{"$f":"H$357/$C360","v":4.3925623212096445},null,{"$f":"J$357/$C360","v":2.0903804737975586},null,{"$f":"L$357/$C360","v":0},null,{"$f":"N$357/$C360","v":0}]
[null,null,null,{"$f":"COUNTIF(D357:D360,\">=\"&$C356)+COUNTIF(D357:D360,\">=\"&$C356)+COUNTIF(D357:D360,\">=\"&$C357)","v":3},{"$f":"COUNTIF(E357:E360,\">=\"&$C356)+COUNTIF(E357:E360,\">=\"&$C356)+COUNTIF(E357:E360,\">=\"&$C357)","v":0},1,0,0,0,0,0,0,0,0]
[]
[null,null,"Palencia","PP",null,"PSOE",null,"UP",null,"C´s",null,"Equo"]
[null,null,{"$f":"LARGE(D365:L365,1)","v":40.311908077994424},{"$f":"D45","v":0.40311908077994424},null,{"$f":"F45","v":0.24214084507042255},null,0.1762934205149162,null,0.15044364680545583,null,{"$f":"L45","v":0}]
[null,null,{"$f":"LARGE(D365:L365,2)","v":24.214084507042255},{"$f":"D364*100","v":40.311908077994424},null,{"$f":"F364*100","v":24.214084507042255},null,{"$f":"H364*100","v":17.629342051491619},null,{"$f":"J364*100","v":15.044364680545582},null,{"$f":"L364*100","v":0}]
[null,null,2,{"$f":"D$365/$C366","v":20.155954038997212},null,{"$f":"F$365/$C366","v":12.107042253521128},null,{"$f":"H$365/$C366","v":8.8146710257458096},null,{"$f":"J$365/$C366","v":7.5221823402727912},null,{"$f":"L$365/$C366","v":0}]
[null,null,3,{"$f":"D$365/$C367","v":13.437302692664808},null,{"$f":"F$365/$C367","v":8.0713615023474183},null,{"$f":"H$365/$C367","v":5.8764473504972061},null,{"$f":"J$365/$C367","v":5.0147882268485278},null,{"$f":"L$365/$C367","v":0}]
[null,null,null,{"$f":"COUNTIF(D365:D367,\">=\"&$C364)+COUNTIF(D365:D367,\">=\"&$C364)+COUNTIF(D365:D367,\">=\"&$C365)","v":3},{"$f":"COUNTIF(E365:E367,\">=\"&$C364)+COUNTIF(E365:E367,\">=\"&$C364)+COUNTIF(E365:E367,\">=\"&$C365)","v":0},1,0,0,0,0,0,0]
[]
[null,null,"Pontevedra","PP",null,"PSOE",null,"UP",null,"C´s",null,"Equo",null,"Terr1"]
[null,null,{"$f":"LARGE(D372:N372,1)","v":34.436002785515321},{"$f":"D46","v":0.34436002785515318},null,{"$f":"F46","v":0.20526760563380281},null,0.27527380465876583,null,9.5620961952620223E-2,null,{"$f":"L46","v":0},null,{"$f":"N46","v":0}]
[null,null,{"$f":"LARGE(D372:N372,2)","v":27.527380465876583},{"$f":"D371*100","v":34.436002785515321},null,{"$f":"F371*100","v":20.526760563380282},null,{"$f":"H371*100","v":27.527380465876583},null,{"$f":"J371*100","v":9.562096195262022},null,{"$f":"L371*100","v":0},null,{"$f":"N371*100","v":0}]
[null,null,2,{"$f":"D$372/$C373","v":17.21800139275766},null,{"$f":"F$372/$C373","v":10.263380281690141},null,{"$f":"H$372/$C373","v":13.763690232938291},null,{"$f":"J$372/$C373","v":4.781048097631011},null,{"$f":"L$372/$C373","v":0},null,{"$f":"N$372/$C373","v":0}]
[null,null,3,11.478667595171773,null,6.8422535211267608,null,9.1757934886255281,null,3.187365398420674,null,0,null,0]
[null,null,4,8.6090006963788301,null,5.1316901408450706,null,6.8818451164691457,null,2.3905240488155055,null,0,null,0]
[null,null,5,6.8872005571030641,null,4.1053521126760568,null,5.5054760931753162,null,1.9124192390524044,null,0,null,0]
[null,null,6,5.7393337975858865,null,3.4211267605633804,null,4.5878967443127641,null,1.593682699210337,null,0,null,0]
[null,null,7,4.9194289693593314,null,2.9323943661971832,null,3.9324829236966545,null,1.3660137421802889,null,0,null,0]
[null,null,null,{"$f":"COUNTIF(D372:D378,\">=\"&$C371)+COUNTIF(D372:D378,\">=\"&$C371)+COUNTIF(D372:D378,\">=\"&$C372)","v":3},{"$f":"COUNTIF(E372:E378,\">=\"&$C371)+COUNTIF(E372:E378,\">=\"&$C371)+COUNTIF(E372:E378,\">=\"&$C372)","v":0},0,0,1,0,0,0,0,0,0]
[]
[null,null,"Salamanca","PP",null,"PSOE",null,"UP",null,"C´s",null,"Equo"]
[null,null,{"$f":"LARGE(D383:L383,1)","v":42.710236768802226},{"$f":"D47","v":0.42710236768802223},null,{"$f":"F47","v":0.21443661971830985},null,{"$f":"H47","v":0.15354270535349407},null,{"$f":"J47","v":0.13652548456568556},null,{"$f":"L47","v":0}]
[null,null,{"$f":"LARGE(D383:L383,2)","v":21.443661971830984},{"$f":"D382*100","v":42.710236768802226},null,{"$f":"F382*100","v":21.443661971830984},null,{"$f":"H382*100","v":15.354270535349407},null,{"$f":"J382*100","v":13.652548456568555},null,{"$f":"L382*100","v":0}]
[null,null,2,{"$f":"D$383/$C384","v":21.355118384401113},null,{"$f":"F$383/$C384","v":10.721830985915492},null,{"$f":"H$383/$C384","v":7.6771352676747036},null,{"$f":"J$383/$C384","v":6.8262742282842774},null,{"$f":"L$383/$C384","v":0}]
[null,null,3,{"$f":"D$383/$C385","v":14.236745589600742},null,{"$f":"F$383/$C385","v":7.1478873239436611},null,{"$f":"H$383/$C385","v":5.1180901784498021},null,{"$f":"J$383/$C385","v":4.5508494855228516},null,{"$f":"L$383/$C385","v":0}]
[null,null,4,{"$f":"D$383/$C386","v":10.677559192200556},null,{"$f":"F$383/$C386","v":5.3609154929577461},null,{"$f":"H$383/$C386","v":3.8385676338373518},null,{"$f":"J$383/$C386","v":3.4131371141421387},null,{"$f":"L$383/$C386","v":0}]
[null,null,null,{"$f":"COUNTIF(D383:D386,\">=\"&$C382)+COUNTIF(D383:D386,\">=\"&$C382)+COUNTIF(D383:D386,\">=\"&$C383)","v":3},{"$f":"COUNTIF(E383:E386,\">=\"&$C382)+COUNTIF(E383:E386,\">=\"&$C382)+COUNTIF(E383:E386,\">=\"&$C383)","v":0},1,0,0,0,0,0,0]
[]
[null,null,"Santa Cruz de Tenerife","PP",null,"PSOE",null,"UP",null,"C´s",null,"Equo",null,"Terr1"]
[null,null,{"$f":"LARGE(D391:N391,1)","v":28.909853760445682},{"$f":"D48","v":0.28909853760445681},null,{"$f":"F48","v":0.2123661971830986},null,0.22799959133633019,null,0.11166403445800428,null,{"$f":"L48","v":0},null,{"$f":"N48","v":0.15236363636363637}]
[null,null,{"$f":"LARGE(D391:N391,2)","v":22.799959133633017},{"$f":"D390*100","v":28.909853760445682},null,{"$f":"F390*100","v":21.236619718309861},null,{"$f":"H390*100","v":22.799959133633017},null,{"$f":"J390*100","v":11.166403445800428},null,{"$f":"L390*100","v":0},null,{"$f":"N390*100","v":15.236363636363636}]
[null,null,2,{"$f":"D$391/$C392","v":14.454926880222841},null,{"$f":"F$391/$C392","v":10.61830985915493},null,{"$f":"H$391/$C392","v":11.399979566816508},null,{"$f":"J$391/$C392","v":5.5832017229002142},null,{"$f":"L$391/$C392","v":0},null,{"$f":"N$391/$C392","v":7.6181818181818182}]
[null,null,3,9.6366179201485611,null,7.0788732394366205,null,7.5999863778776726,null,3.7221344819334763,null,0,null,5.0787878787878791]
[null,null,4,7.2274634401114204,null,5.3091549295774652,null,5.6999897834082542,null,2.7916008614501071,null,0,null,3.8090909090909091]
[null,null,5,5.7819707520891361,null,4.2473239436619723,null,4.5599918267266037,null,2.2332806891600856,null,0,null,3.0472727272727274]
[null,null,6,4.8183089600742806,null,3.5394366197183103,null,3.7999931889388363,null,1.8610672409667381,null,0,null,2.5393939393939395]
[null,null,7,4.129979108635097,null,3.0338028169014088,null,3.2571370190904312,null,1.5952004922572041,null,0,null,2.1766233766233767]
[null,null,null,{"$f":"COUNTIF(D391:D397,\">=\"&$C390)+COUNTIF(D391:D397,\">=\"&$C390)+COUNTIF(D391:D397,\">=\"&$C391)","v":3},{"$f":"COUNTIF(E391:E397,\">=\"&$C390)+COUNTIF(E391:E397,\">=\"&$C390)+COUNTIF(E391:E397,\">=\"&$C391)","v":0},0,0,1,0,0,0,0,0,0]
[]
[null,null,"Segovia","PP",null,"PSOE",null,"UP",null,"C´s",null,"Equo"]
[null,null,{"$f":"LARGE(D402:L402,1)","v":39.412534818941495},{"$f":"D49","v":0.39412534818941497},null,{"$f":"F49","v":0.21226760563380281},null,0.18052840212505106,null,0.18125484565685568,null,{"$f":"L49","v":0}]
[null,null,{"$f":"LARGE(D402:L402,2)","v":21.226760563380282},{"$f":"D401*100","v":39.412534818941495},null,{"$f":"F401*100","v":21.226760563380282},null,{"$f":"H401*100","v":18.052840212505107},null,{"$f":"J401*100","v":18.125484565685568},null,{"$f":"L401*100","v":0}]
[null,null,2,{"$f":"D402/$C403","v":19.706267409470748},null,{"$f":"F$402/$C403","v":10.613380281690141},null,{"$f":"H$402/$C403","v":9.0264201062525533},null,{"$f":"J$402/$C403","v":9.0627422828427839},null,{"$f":"L$402/$C403","v":0}]
[null,null,3,{"$f":"D$402/$C404","v":13.137511606313831},null,{"$f":"F$402/$C404","v":7.0755868544600942},null,{"$f":"H$402/$C404","v":6.0176134041683689},null,{"$f":"J$402/$C404","v":6.0418281885618557},null,{"$f":"L$402/$C404","v":0}]
[null,null,null,{"$f":"COUNTIF(D402:D404,\">=\"&$C401)+COUNTIF(D402:D404,\">=\"&$C401)+COUNTIF(D402:D404,\">=\"&$C402)","v":3},{"$f":"COUNTIF(E402:E404,\">=\"&$C401)+COUNTIF(E402:E404,\">=\"&$C401)+COUNTIF(E402:E404,\">=\"&$C402)","v":0},1,0,0,0,0,0,0]
[]
[null,null,"Sevilla","PP",null,"PSOE",null,"UP",null,"C´s",null,"Equo"]
[null,null,{"$f":"LARGE(D409:N409,1)","v":33.481690140845075},{"$f":"D50","v":0.25172458217270194},null,{"$f":"F50","v":0.33481690140845072},null,0.24336371066612175,null,0.13833165829145727,null,{"$f":"L50","v":0},null,{"$f":"N50","v":0}]
[null,null,{"$f":"LARGE(D409:N409,2)","v":25.172458217270194},{"$f":"D408*100","v":25.172458217270194},null,{"$f":"F408*100","v":33.481690140845075},null,{"$f":"H408*100","v":24.336371066612177},null,{"$f":"J408*100","v":13.833165829145727},null,{"$f":"L408*100","v":0},null,{"$f":"N408*100","v":0}]
[null,null,2,{"$f":"D$409/$C410","v":12.586229108635097},null,{"$f":"F$409/$C410","v":16.740845070422537},null,{"$f":"H$409/$C410","v":12.168185533306088},null,{"$f":"J$409/$C410","v":6.9165829145728637},null,{"$f":"L$409/$C410","v":0},null,{"$f":"N$409/$C410","v":0}]
[null,null,3,8.3908194057567318,null,11.160563380281692,null,8.1121236888707262,null,4.6110552763819088,null,0,null,0]
[null,null,4,6.2931145543175484,null,8.3704225352112687,null,6.0840927666530442,null,3.4582914572864318,null,0,null,0]
[null,null,5,5.0344916434540385,null,6.6963380281690146,null,4.8672742133224354,null,2.7666331658291456,null,0,null,0]
[null,null,6,4.1954097028783659,null,5.5802816901408461,null,4.0560618444353631,null,2.3055276381909544,null,0,null,0]
[null,null,7,3.5960654596100277,null,4.7830985915492965,null,3.476624438087454,null,1.9761665470208183,null,0,null,0]
[null,null,8,3.1465572771587742,null,4.1852112676056343,null,3.0420463833265221,null,1.7291457286432159,null,0,null,0]
[null,null,9,2.7969398019189105,null,3.7201877934272307,null,2.7040412296235754,null,1.5370184254606363,null,0,null,0]
[null,null,10,2.5172458217270193,null,3.3481690140845073,null,2.4336371066612177,null,1.3833165829145728,null,0,null,0]
[null,null,11,2.2884052924791085,null,3.0437900128040978,null,2.2123973696920163,null,1.2575605299223389,null,0,null,0]
[null,null,12,2.0977048514391829,null,2.790140845070423,null,2.0280309222176816,null,1.1527638190954772,null,0,null,0]
[null,null,null,{"$f":"COUNTIF(D409:D420,\">=\"&$C408)+COUNTIF(D409:D420,\">=\"&$C408)+COUNTIF(D409:D420,\">=\"&$C409)","v":1},{"$f":"COUNTIF(E409:E420,\">=\"&$C408)+COUNTIF(E409:E420,\">=\"&$C408)+COUNTIF(E409:E420,\">=\"&$C409)","v":0},3,0,0,0,0,0,0,0,0]
[]
[null,null,"Soria","PP",null,"PSOE",null,"UP",null,"C´s",null,"Equo"]
[null,null,{"$f":"LARGE(D425:L425,1)","v":38.633077994428966},{"$f":"D51","v":0.38633077994428966},null,{"$f":"F51","v":0.23484507042253522},null,0.19283939517776869,null,0.16117444364680542,null,{"$f":"L51","v":0}]
[null,null,{"$f":"LARGE(D425:L425,2)","v":23.484507042253522},{"$f":"D424*100","v":38.633077994428966},null,{"$f":"F424*100","v":23.484507042253522},null,{"$f":"H424*100","v":19.283939517776869},null,{"$f":"J424*100","v":16.117444364680541},null,{"$f":"L424*100","v":0}]
[null,null,2,{"$f":"D$425/$C426","v":19.316538997214483},null,{"$f":"F$425/$C426","v":11.742253521126761},null,{"$f":"H$425/$C426","v":9.6419697588884343},null,{"$f":"J$425/$C426","v":8.0587221823402704},null,{"$f":"L$425/$C426","v":0}]
[null,null,null,{"$f":"COUNTIF(D425:D426,\">=\"&$C424)+COUNTIF(D425:D426,\">=\"&$C424)+COUNTIF(D425:D426,\">=\"&$C425)","v":3},{"$f":"COUNTIF(E425:E426,\">=\"&$C424)+COUNTIF(E425:E426,\">=\"&$C424)+COUNTIF(E425:E426,\">=\"&$C425)","v":0},1,0,0,0,0,0,0]
[]
[null,null,"Tarragona","PP",null,"PSOE",null,"UP",null,"C´s",null,"Equo"]
[null,null,{"$f":"LARGE(D431:P431,1)","v":20.337760523089496},{"$f":"D52","v":0.12211490250696377},null,{"$f":"F52","v":0.15577464788732395},null,0.20337760523089496,null,0.15118736539842065,null,{"$f":"L52","v":0},null,{"$f":"N52","v":0.17011111111111113},null,{"$f":"P52","v":0.16821757322175732}]
[null,null,{"$f":"LARGE(D431:P431,2)","v":17.011111111111113},{"$f":"D430*100","v":12.211490250696377},null,{"$f":"F430*100","v":15.577464788732396},null,{"$f":"H430*100","v":20.337760523089496},null,{"$f":"J430*100","v":15.118736539842065},null,{"$f":"L430*100","v":0},null,{"$f":"N430*100","v":17.011111111111113},null,{"$f":"P430*100","v":16.821757322175731}]
[null,null,2,{"$f":"D431/$C432","v":6.1057451253481885},null,{"$f":"F$431/$C432","v":7.7887323943661979},null,{"$f":"H$431/$C432","v":10.168880261544748},null,{"$f":"J$431/$C432","v":7.5593682699210323},null,{"$f":"L$431/$C432","v":0},null,{"$f":"N$431/$C432","v":8.5055555555555564},null,{"$f":"P$431/$C432","v":8.4108786610878656}]
[null,null,3,{"$f":"D$431/$C433","v":4.0704967502321256},null,{"$f":"F$431/$C433","v":5.1924882629107989},null,{"$f":"H$431/$C433","v":6.7792535076964988},null,{"$f":"J$431/$C433","v":5.0395788466140212},null,{"$f":"L$431/$C433","v":0},null,{"$f":"N$431/$C433","v":5.6703703703703709},null,{"$f":"P$431/$C433","v":5.6072524407252438}]
[null,null,4,{"$f":"D$431/$C434","v":3.0528725626740942},null,{"$f":"F$431/$C434","v":3.894366197183099},null,{"$f":"H$431/$C434","v":5.0844401307723741},null,{"$f":"J$431/$C434","v":3.7796841349605161},null,{"$f":"L$431/$C434","v":0},null,{"$f":"N$431/$C434","v":4.2527777777777782},null,{"$f":"P$431/$C434","v":4.2054393305439328}]
[null,null,5,{"$f":"D$431/$C435","v":2.4422980501392755},null,{"$f":"F$431/$C435","v":3.1154929577464792},null,{"$f":"H$431/$C435","v":4.0675521046178993},null,{"$f":"J$431/$C435","v":3.0237473079684127},null,{"$f":"L$431/$C435","v":0},null,{"$f":"N$431/$C435","v":3.4022222222222225},null,{"$f":"P$431/$C435","v":3.3643514644351464}]
[null,null,6,{"$f":"D$431/$C436","v":2.0352483751160628},null,{"$f":"F$431/$C436","v":2.5962441314553995},null,{"$f":"H$431/$C436","v":3.3896267538482494},null,{"$f":"J$431/$C436","v":2.5197894233070106},null,{"$f":"L$431/$C436","v":0},null,{"$f":"N$431/$C436","v":2.8351851851851855},null,{"$f":"P$431/$C436","v":2.8036262203626219}]
[null,null,null,{"$f":"COUNTIF(D431:D436,\">=\"&$C430)+COUNTIF(D431:D436,\">=\"&$C430)+COUNTIF(D431:D436,\">=\"&$C431)","v":0},{"$f":"COUNTIF(E431:E436,\">=\"&$C430)+COUNTIF(E431:E436,\">=\"&$C430)+COUNTIF(E431:E436,\">=\"&$C431)","v":0},0,0,3,0,0,0,0,0,1,0,0]
[]
[null,null,"Teruel","PP",null,"PSOE",null,"UP",null,"C´s",null,"Equo"]
[null,null,{"$f":"LARGE(D441:L441,1)","v":36.434610027855143},{"$f":"D53","v":0.36434610027855147},null,{"$f":"F53","v":0.25278873239436622},null,0.19943808745402533,null,0.15639339554917442,null,{"$f":"L53","v":0}]
[null,null,{"$f":"LARGE(D441:L441,2)","v":25.278873239436621},{"$f":"D440*100","v":36.434610027855143},null,{"$f":"F440*100","v":25.278873239436621},null,{"$f":"H440*100","v":19.943808745402531},null,{"$f":"J440*100","v":15.639339554917441},null,{"$f":"L440*100","v":0}]
[null,null,2,{"$f":"D$441/$C442","v":18.217305013927572},null,{"$f":"F$441/$C442","v":12.63943661971831},null,{"$f":"H$441/$C442","v":9.9719043727012657},null,{"$f":"J$441/$C442","v":7.8196697774587207},null,{"$f":"L$441/$C442","v":0}]
[null,null,3,{"$f":"D$441/$C443","v":12.144870009285048},null,{"$f":"F$441/$C443","v":8.4262910798122075},null,{"$f":"H$441/$C443","v":6.6479362484675102},null,{"$f":"J$441/$C443","v":5.2131131849724808},null,{"$f":"L$441/$C443","v":0}]
[null,null,null,{"$f":"COUNTIF(D441:D443,\">=\"&$C440)+COUNTIF(D441:D443,\">=\"&$C440)+COUNTIF(D441:D443,\">=\"&$C441)","v":3},{"$f":"COUNTIF(E441:E443,\">=\"&$C440)+COUNTIF(E441:E443,\">=\"&$C440)+COUNTIF(E441:E443,\">=\"&$C441)","v":0},1,0,0,0,0,0,0]
[]
[null,null,"Toledo","PP",null,"PSOE",null,"UP",null,"C´s",null,"Equo"]
[null,null,{"$f":"LARGE(D448:P448,1)","v":38.762987465181062},{"$f":"D54","v":0.38762987465181059},null,{"$f":"F54","v":0.27369014084507043},null,0.16880833673886392,null,0.14661880832735102,null,{"$f":"L54","v":0}]
[null,null,{"$f":"LARGE(D448:P448,2)","v":27.369014084507043},{"$f":"D447*100","v":38.762987465181062},null,{"$f":"F447*100","v":27.369014084507043},null,{"$f":"H447*100","v":16.880833673886393},null,{"$f":"J447*100","v":14.661880832735102},null,{"$f":"L447*100","v":0}]
[null,null,2,{"$f":"D$448/$C449","v":19.381493732590531},null,{"$f":"F$448/$C449","v":13.684507042253522},null,{"$f":"H$448/$C449","v":8.4404168369431964},null,{"$f":"J$448/$C449","v":7.3309404163675511},null,{"$f":"L$448/$C449","v":0}]
[null,null,3,{"$f":"D$448/$C450","v":12.92099582172702},null,{"$f":"F$448/$C450","v":9.1230046948356804},null,{"$f":"H$448/$C450","v":5.6269445579621307},null,{"$f":"J$448/$C450","v":4.8872936109117004},null,{"$f":"L$448/$C450","v":0}]
[null,null,4,{"$f":"D$448/$C451","v":9.6907468662952656},null,{"$f":"F$448/$C451","v":6.8422535211267608},null,{"$f":"H$448/$C451","v":4.2202084184715982},null,{"$f":"J$448/$C451","v":3.6654702081837756},null,{"$f":"L$448/$C451","v":0}]
[null,null,5,{"$f":"D$448/$C452","v":7.7525974930362125},null,{"$f":"F$448/$C452","v":5.4738028169014088},null,{"$f":"H$448/$C452","v":3.3761667347772786},null,{"$f":"J$448/$C452","v":2.9323761665470203},null,{"$f":"L$448/$C452","v":0}]
[null,null,6,{"$f":"D$448/$C453","v":6.4604979108635101},null,{"$f":"F$448/$C453","v":4.5615023474178402},null,{"$f":"H$448/$C453","v":2.8134722789810653},null,{"$f":"J$448/$C453","v":2.4436468054558502},null,{"$f":"L$448/$C453","v":0}]
[null,null,null,{"$f":"COUNTIF(D448:D453,\">=\"&$C447)+COUNTIF(D448:D453,\">=\"&$C447)+COUNTIF(D448:D453,\">=\"&$C448)","v":3},{"$f":"COUNTIF(E448:E453,\">=\"&$C447)+COUNTIF(E448:E453,\">=\"&$C447)+COUNTIF(E448:E453,\">=\"&$C448)","v":0},1,0,0,0,0,0,0]
[]
[null,null,"Valencia / València","PP",null,"PSOE",null,"UP",null,"C´s",null,"Equo"]
[null,null,{"$f":"LARGE(D458:P458,1)","v":31.27977114834491},{"$f":"D55","v":0.30198955431754876},null,{"$f":"F55","v":0.1858450704225352},null,0.31279771148344909,null,0.16074946159368267,null,{"$f":"L55","v":0},null,{"$f":"N55","v":0},null,{"$f":"P55","v":0}]
[null,null,{"$f":"LARGE(D458:P458,2)","v":30.198955431754875},{"$f":"D457*100","v":30.198955431754875},null,{"$f":"F457*100","v":18.58450704225352},null,{"$f":"H457*100","v":31.27977114834491},null,{"$f":"J457*100","v":16.074946159368267},null,{"$f":"L457*100","v":0},null,{"$f":"N457*100","v":0},null,{"$f":"P457*100","v":0}]
[null,null,2,{"$f":"D$458/$C459","v":15.099477715877438},null,{"$f":"F$458/$C459","v":9.2922535211267601},null,{"$f":"H$458/$C459","v":15.639885574172455},null,{"$f":"J$458/$C459","v":8.0374730796841334},null,{"$f":"L$458/$C459","v":0},null,{"$f":"N$458/$C459","v":0},null,{"$f":"P$458/$C459","v":0}]
[null,null,3,10.066318477251626,null,6.1948356807511731,null,10.426590382781637,null,5.3583153864560886,null,0,null,0,null,0]
[null,null,4,7.5497388579387188,null,4.64612676056338,null,7.8199427870862275,null,4.0187365398420667,null,0,null,0,null,0]
[null,null,5,6.0397910863509754,null,3.7169014084507039,null,6.2559542296689816,null,3.2149892318736533,null,0,null,0,null,0]
[null,null,6,5.0331592386258128,null,3.0974178403755865,null,5.2132951913908183,null,2.6791576932280443,null,0,null,0,null,0]
[null,null,7,4.3141364902506965,null,2.6549295774647885,null,4.4685387354778445,null,2.2964208799097525,null,0,null,0,null,0]
[null,null,8,3.7748694289693594,null,2.32306338028169,null,3.9099713935431137,null,2.0093682699210333,null,0,null,0,null,0]
[null,null,9,3.3554394924172084,null,2.0649452269170578,null,3.475530127593879,null,1.7861051288186962,null,0,null,0,null,0]
[null,null,10,3.0198955431754877,null,1.858450704225352,null,3.1279771148344908,null,1.6074946159368266,null,0,null,0,null,0]
[null,null,11,2.7453595847049885,null,1.6895006402048656,null,2.8436155589404462,null,1.4613587417607514,null,0,null,0,null,0]
[null,null,12,2.5165796193129064,null,1.5487089201877933,null,2.6066475956954092,null,1.3395788466140222,null,0,null,0,null,0]
[null,null,13,2.322996571673452,null,1.4295774647887323,null,2.4061362421803776,null,1.2365343199514052,null,0,null,0,null,0]
[null,null,14,2.1570682451253482,null,1.3274647887323943,null,2.2342693677389223,null,1.1482104399548763,null,0,null,0,null,0]
[null,null,15,2.0132636954503251,null,1.2389671361502346,null,2.0853180765563275,null,1.0716630772912177,null,0,null,0,null,0]
[null,null,16,1.8874347144846797,null,1.161531690140845,null,1.9549856967715569,null,1.0046841349605167,null,0,null,0,null,0]
[null,null,null,{"$f":"COUNTIF(D458:D473,\">=\"&$C457)+COUNTIF(D458:D473,\">=\"&$C457)+COUNTIF(D458:D473,\">=\"&$C458)","v":1},{"$f":"COUNTIF(E458:E473,\">=\"&$C457)+COUNTIF(E458:E473,\">=\"&$C457)+COUNTIF(E458:E473,\">=\"&$C458)","v":0},0,0,3,0,0,0,0,0,0,0,0]
[]
[null,null,"Valladolid","PP",null,"PSOE",null,"UP",null,"C´s",null,"Equo"]
[null,null,{"$f":"LARGE(D478:L478,1)","v":36.934261838440108},{"$f":"D56","v":0.36934261838440108},null,{"$f":"F56","v":0.21285915492957747},null,0.20367306906416019,null,0.18178607322325913,null,{"$f":"L56","v":0}]
[null,null,{"$f":"LARGE(D478:L478,2)","v":21.285915492957745},{"$f":"D477*100","v":36.934261838440108},null,{"$f":"F477*100","v":21.285915492957745},null,{"$f":"H477*100","v":20.367306906416019},null,{"$f":"J477*100","v":18.178607322325913},null,{"$f":"L477*100","v":0}]
[null,null,2,{"$f":"D$478/$C479","v":18.467130919220054},null,{"$f":"F$478/$C479","v":10.642957746478872},null,{"$f":"H$478/$C479","v":10.183653453208009},null,{"$f":"J$478/$C479","v":9.0893036611629565},null,{"$f":"L$478/$C479","v":0}]
[null,null,3,{"$f":"D$478/$C480","v":12.31142061281337},null,{"$f":"F$478/$C480","v":7.0953051643192486},null,{"$f":"H$478/$C480","v":6.7891023021386729},null,{"$f":"J$478/$C480","v":6.059535774108638},null,{"$f":"L$478/$C480","v":0}]
[null,null,4,{"$f":"D$478/$C481","v":9.2335654596100269},null,{"$f":"F$478/$C481","v":5.3214788732394362},null,{"$f":"H$478/$C481","v":5.0918267266040047},null,{"$f":"J$478/$C481","v":4.5446518305814783},null,{"$f":"L$478/$C481","v":0}]
[null,null,5,{"$f":"D$478/$C482","v":7.3868523676880216},null,{"$f":"F$478/$C482","v":4.2571830985915486},null,{"$f":"H$478/$C482","v":4.0734613812832041},null,{"$f":"J$478/$C482","v":3.6357214644651825},null,{"$f":"L$478/$C482","v":0}]
[null,null,null,{"$f":"COUNTIF(D478:D482,\">=\"&$C477)+COUNTIF(D478:D482,\">=\"&$C477)+COUNTIF(D478:D482,\">=\"&$C478)","v":3},{"$f":"COUNTIF(E478:E482,\">=\"&$C477)+COUNTIF(E478:E482,\">=\"&$C477)+COUNTIF(E478:E482,\">=\"&$C478)","v":0},1,0,0,0,0,0,0]
[]
[null,null,"Zamora","PP",null,"PSOE",null,"UP",null,"C´s",null,"Equo"]
[null,null,{"$f":"LARGE(D487:L487,1)","v":42.55034818941504},{"$f":"D57","v":0.42550348189415038},null,{"$f":"F57","v":0.22656338028169015},null,0.18584675112382509,null,0.13726920315865038,null,{"$f":"L57","v":0}]
[null,null,{"$f":"LARGE(D487:L487,2)","v":22.656338028169014},{"$f":"D486*100","v":42.55034818941504},null,{"$f":"F486*100","v":22.656338028169014},null,{"$f":"H486*100","v":18.584675112382509},null,{"$f":"J486*100","v":13.726920315865037},null,{"$f":"L486*100","v":0}]
[null,null,2,{"$f":"D$487/$C488","v":21.27517409470752},null,{"$f":"F$487/$C488","v":11.328169014084507},null,{"$f":"H$487/$C488","v":9.2923375561912547},null,{"$f":"J$487/$C488","v":6.8634601579325185},null,{"$f":"L$478/$C488","v":0}]
[null,null,3,{"$f":"D$487/$C489","v":14.18344939647168},null,{"$f":"F$487/$C489","v":7.5521126760563382},null,{"$f":"H$487/$C489","v":6.1948917041275031},null,{"$f":"J$487/$C489","v":4.575640105288346},null,{"$f":"L$478/$C489","v":0}]
[null,null,null,{"$f":"COUNTIF(D487:D489,\">=\"&$C486)+COUNTIF(D487:D489,\">=\"&$C486)+COUNTIF(D487:D489,\">=\"&$C487)","v":3},{"$f":"COUNTIF(E487:E489,\">=\"&$C486)+COUNTIF(E487:E489,\">=\"&$C486)+COUNTIF(E487:E489,\">=\"&$C487)","v":0},1,0,0,0,0,0,0]
[]
[null,null,"Zaragoza","PP",null,"PSOE",null,"UP",null,"C´s",null,"Equo"]
[null,null,{"$f":"LARGE(D494:L494,1)","v":30.288892757660165},{"$f":"D58","v":0.30288892757660163},null,{"$f":"F58","v":0.21985915492957747},null,{"$f":"H58","v":0.25340948099713934},null,{"$f":"J58","v":0.18922325915290736},null,{"$f":"L58","v":0}]
[null,null,{"$f":"LARGE(D494:L494,2)","v":25.340948099713934},{"$f":"D493*100","v":30.288892757660165},null,{"$f":"F493*100","v":21.985915492957748},null,{"$f":"H493*100","v":25.340948099713934},null,{"$f":"J493*100","v":18.922325915290735},null,{"$f":"L493*100","v":0}]
[null,null,2,{"$f":"D$494/$C495","v":15.144446378830082},null,{"$f":"F$494/$C495","v":10.992957746478874},null,{"$f":"H$494/$C495","v":12.670474049856967},null,{"$f":"J$494/$C495","v":9.4611629576453673},null,{"$f":"L$494/$C495","v":0}]
[null,null,3,10.096297585886722,null,7.3286384976525829,null,8.4469826999046447,null,6.3074419717635779,null,0]
[null,null,4,7.5722231894150411,null,5.496478873239437,null,6.3352370249284835,null,4.7305814788226836,null,0]
[null,null,5,6.0577785515320333,null,4.3971830985915492,null,5.0681896199427872,null,3.7844651830581468,null,0]
[null,null,6,5.0481487929433611,null,3.6643192488262915,null,4.2234913499523223,null,3.153720985881789,null,0]
[null,null,7,4.3269846796657374,null,3.1408450704225355,null,3.6201354428162764,null,2.7031894164701051,null,0]
[null,null,null,{"$f":"COUNTIF(D494:D500,\">=\"&$C493)+COUNTIF(D494:D500,\">=\"&$C493)+COUNTIF(D494:D500,\">=\"&$C494)","v":3},{"$f":"COUNTIF(E494:E500,\">=\"&$C493)+COUNTIF(E494:E500,\">=\"&$C493)+COUNTIF(E494:E500,\">=\"&$C494)","v":0},0,0,1,0,0,0,0]

{"sheet":"MAPAS","index":2,"n_rows":55,"n_cols":21,"rows_kept":55,"cut":false,"hidden":false,"merged":[]}
[null,null,null,null,"26J"]
[null,null,null,null,null,null,null,null,null,null,null,null,null,null,"¡¡CAMBIAD EL NÚMERO DE LA HOJA 3 PARA VER BIEN LOS COLORES!!!!",null,null,null,null,null,"AQUÍ"]
[null,null,null,null,null,null,null,null,null,null,"Provincia",null,"Color",null,"LUEGO DAD AL BOTÓN DE \"ACTUALIZAR COLORES\""]
[null,null,null,null,null,null,null,null,null,null,"Álava","alava",{"$f":"VLOOKUP(K4,Hoja3!$AD$4:$AE$55,2,FALSE)","v":20}]
[null,null,null,null,null,null,null,null,null,null,"Albacete","albacete",{"$f":"VLOOKUP(K5,Hoja3!$AD$4:$AE$55,2,FALSE)","v":48}]
[null,null,null,null,null,null,null,null,null,null,"Alicante","alicante",{"$f":"VLOOKUP(K6,Hoja3!$AD$4:$AE$55,2,FALSE)","v":48},null,null,null,"20D"]
[null,null,null,null,null,null,null,null,null,null,"Almería","almeria",{"$f":"VLOOKUP(K7,Hoja3!$AD$4:$AE$55,2,FALSE)","v":48}]
[null,null,null,null,null,null,null,null,null,null,"Asturias","asturias",{"$f":"VLOOKUP(K8,Hoja3!$AD$4:$AE$55,2,FALSE)","v":48}]
[null,null,null,null,null,null,null,null,null,null,"Ávila","avila",{"$f":"VLOOKUP(K9,Hoja3!$AD$4:$AE$55,2,FALSE)","v":48}]
[null,null,null,null,null,null,null,null,null,null,"Badajoz","badajoz",{"$f":"VLOOKUP(K10,Hoja3!$AD$4:$AE$55,2,FALSE)","v":10}]
[null,null,null,null,null,null,null,null,null,null,"Barcelona","barcelona",{"$f":"VLOOKUP(K11,Hoja3!$AD$4:$AE$55,2,FALSE)","v":20}]
[null,null,null,null,null,null,null,null,null,null,"Burgos","burgos",{"$f":"VLOOKUP(K12,Hoja3!$AD$4:$AE$55,2,FALSE)","v":48}]
[null,null,null,null,null,null,null,null,null,null,"Cáceres","caceres",{"$f":"VLOOKUP(K13,Hoja3!$AD$4:$AE$55,2,FALSE)","v":48}]
[null,null,null,null,null,null,null,null,null,null,"Cádiz","cadiz",{"$f":"VLOOKUP(K14,Hoja3!$AD$4:$AE$55,2,FALSE)","v":48}]
[null,null,null,null,null,null,null,null,null,null,"Cantabria","cantabria",{"$f":"VLOOKUP(K15,Hoja3!$AD$4:$AE$55,2,FALSE)","v":48}]
[null,null,null,null,null,null,null,null,null,null,"Castellón","castellon",{"$f":"VLOOKUP(K16,Hoja3!$AD$4:$AE$55,2,FALSE)","v":48}]
[null,null,null,null,null,null,null,null,null,null,"Ciudad Real","c_real",{"$f":"VLOOKUP(K17,Hoja3!$AD$4:$AE$55,2,FALSE)","v":48}]
[null,null,null,null,null,null,null,null,null,null,"Córdoba","cordoba",{"$f":"VLOOKUP(K18,Hoja3!$AD$4:$AE$55,2,FALSE)","v":10}]
[null,null,null,null,null,null,null,null,null,null,"La Coruña","la_coruna",{"$f":"VLOOKUP(K19,Hoja3!$AD$4:$AE$55,2,FALSE)","v":48}]
[null,null,null,null,null,null,null,null,null,null,"Cuenca","cuenca",{"$f":"VLOOKUP(K20,Hoja3!$AD$4:$AE$55,2,FALSE)","v":48}]
[null,null,null,null,null,null,null,null,null,null,"Gerona","gerona",{"$f":"VLOOKUP(K21,Hoja3!$AD$4:$AE$55,2,FALSE)","v":55}]
[null,null,null,null,null,null,null,null,null,null,"Granada","granda",{"$f":"VLOOKUP(K22,Hoja3!$AD$4:$AE$55,2,FALSE)","v":48}]
[null,null,null,null,null,null,null,null,null,null,"Guadalajara","guadalajara",{"$f":"VLOOKUP(K23,Hoja3!$AD$4:$AE$55,2,FALSE)","v":48}]
[null,null,null,null,null,null,null,null,null,null,"Guipúzcoa","guipuzcoa",{"$f":"VLOOKUP(K24,Hoja3!$AD$4:$AE$55,2,FALSE)","v":20}]
[null,null,null,null,null,null,null,null,null,null,"Huelva","huelva",{"$f":"VLOOKUP(K25,Hoja3!$AD$4:$AE$55,2,FALSE)","v":10}]
[null,null,null,null,null,null,null,null,null,null,"Huesca","huesca",{"$f":"VLOOKUP(K26,Hoja3!$AD$4:$AE$55,2,FALSE)","v":48}]
[null,null,null,null,null,null,null,null,null,null,"Islas Baleares","baleares",{"$f":"VLOOKUP(K27,Hoja3!$AD$4:$AE$55,2,FALSE)","v":20}]
[null,null,null,null,null,null,null,null,null,null,"Jaén","jaen",{"$f":"VLOOKUP(K28,Hoja3!$AD$4:$AE$55,2,FALSE)","v":10}]
[null,null,null,null,null,null,null,null,null,null,"León","leon",{"$f":"VLOOKUP(K29,Hoja3!$AD$4:$AE$55,2,FALSE)","v":48}]
[null,null,null,null,null,null,null,null,null,null,"Lérida","lerida",{"$f":"VLOOKUP(K30,Hoja3!$AD$4:$AE$55,2,FALSE)","v":55}]
[null,null,null,null,null,null,null,null,null,null,"Lugo","lugo",{"$f":"VLOOKUP(K31,Hoja3!$AD$4:$AE$55,2,FALSE)","v":48}]
[null,null,null,null,null,null,null,null,null,null,"Madrid","madrid",{"$f":"VLOOKUP(K32,Hoja3!$AD$4:$AE$55,2,FALSE)","v":48}]
[null,null,null,null,null,null,null,null,null,null,"Málaga","malaga",{"$f":"VLOOKUP(K33,Hoja3!$AD$4:$AE$55,2,FALSE)","v":48}]
[null,null,null,null,null,null,null,null,null,null,"Murcia","murcia",{"$f":"VLOOKUP(K34,Hoja3!$AD$4:$AE$55,2,FALSE)","v":48}]
[null,null,null,null,null,null,null,null,null,null,"Navarra","navarra",{"$f":"VLOOKUP(K35,Hoja3!$AD$4:$AE$55,2,FALSE)","v":48}]
[null,null,null,null,null,null,null,null,null,null,"Orense","orense",{"$f":"VLOOKUP(K36,Hoja3!$AD$4:$AE$55,2,FALSE)","v":48}]
[null,null,null,null,null,null,null,null,null,null,"Palencia","palencia",{"$f":"VLOOKUP(K37,Hoja3!$AD$4:$AE$55,2,FALSE)","v":48}]
[null,null,null,null,null,null,null,null,null,null,"Las Palmas","las_palmas",{"$f":"VLOOKUP(K38,Hoja3!$AD$4:$AE$55,2,FALSE)","v":20}]
[null,null,null,null,null,null,null,null,null,null,"Pontevedra","pontevedra",{"$f":"VLOOKUP(K39,Hoja3!$AD$4:$AE$55,2,FALSE)","v":48}]
[null,null,null,null,null,null,null,null,null,null,"La Rioja","la_rioja",{"$f":"VLOOKUP(K40,Hoja3!$AD$4:$AE$55,2,FALSE)","v":48}]
[null,null,null,null,null,null,null,null,null,null,"Salamanca","salamanca",{"$f":"VLOOKUP(K41,Hoja3!$AD$4:$AE$55,2,FALSE)","v":48}]
[null,null,null,null,null,null,null,null,null,null,"Segovia","segovia",{"$f":"VLOOKUP(K42,Hoja3!$AD$4:$AE$55,2,FALSE)","v":48}]
[null,null,null,null,null,null,null,null,null,null,"Sevilla","sevilla",{"$f":"VLOOKUP(K43,Hoja3!$AD$4:$AE$55,2,FALSE)","v":10}]
[null,null,null,null,null,null,null,null,null,null,"Soria","soria",{"$f":"VLOOKUP(K44,Hoja3!$AD$4:$AE$55,2,FALSE)","v":48}]
[null,null,null,null,null,null,null,null,null,null,"Tarragona","tarragona",{"$f":"VLOOKUP(K45,Hoja3!$AD$4:$AE$55,2,FALSE)","v":20}]
[null,null,null,null,null,null,null,null,null,null,"Santa Cruz de Tenerife","tenerife",{"$f":"VLOOKUP(K46,Hoja3!$AD$4:$AE$55,2,FALSE)","v":48}]
[null,null,null,null,null,null,null,null,null,null,"Teruel","teruel",{"$f":"VLOOKUP(K47,Hoja3!$AD$4:$AE$55,2,FALSE)","v":48}]
[null,null,null,null,null,null,null,null,null,null,"Toledo","toledo",{"$f":"VLOOKUP(K48,Hoja3!$AD$4:$AE$55,2,FALSE)","v":48}]
[null,null,null,null,null,null,null,null,null,null,"Valencia","valencia",{"$f":"VLOOKUP(K49,Hoja3!$AD$4:$AE$55,2,FALSE)","v":20}]
[null,null,null,null,null,null,null,null,null,null,"Valladolid","valladolid",{"$f":"VLOOKUP(K50,Hoja3!$AD$4:$AE$55,2,FALSE)","v":48}]
[null,null,null,null,null,null,null,null,null,null,"Vizcaya","vizcaya",{"$f":"VLOOKUP(K51,Hoja3!$AD$4:$AE$55,2,FALSE)","v":20}]
[null,null,null,null,null,null,null,null,null,null,"Zamora","zamora",{"$f":"VLOOKUP(K52,Hoja3!$AD$4:$AE$55,2,FALSE)","v":48}]
[null,null,null,null,null,null,null,null,null,null,"Zaragoza","zaragoza",{"$f":"VLOOKUP(K53,Hoja3!$AD$4:$AE$55,2,FALSE)","v":48}]
[null,null,null,null,null,null,null,null,null,null,"Melilla",null,{"$f":"VLOOKUP(K54,Hoja3!$AD$4:$AE$55,2,FALSE)","v":48}]
[null,null,null,null,null,null,null,null,null,null,"Ceuta",null,{"$f":"VLOOKUP(K55,Hoja3!$AD$4:$AE$55,2,FALSE)","v":48}]

{"sheet":"Hoja3","index":3,"n_rows":55,"n_cols":31,"rows_kept":55,"cut":false,"hidden":false,"merged":[]}
[null,5,null,null,null,"Cambiar este número por otro mayor que 0"]
[]
["CIRCUNSCRIPCIÓN","PP",null,null,null,"PSOE",null,null,null,"UP",null,null,null,"C's",null,null,null,"Terr1",null,null,null,"Terr2",null,null,null,"MAX","COLOR",null,"Autonom+AD+AC1:AE41","Provincia","color"]
["A Coruña",32.130000000000003,{"$f":"CONT_COL_COND(Hoja3!$B$1,B4)","v":1},48,{"$f":"C4*D4","v":48},{"$f":"Congreso!F7*100","v":20.142253521126761},{"$f":"CONT_COL_COND(Hoja3!$B$1,F4)","v":0},10,{"$f":"G4*H4","v":0},{"$f":"Congreso!H7*100","v":25.951573355128726},{"$f":"CONT_COL_COND(Hoja3!$B$1,J4)","v":0},20,{"$f":"K4*L4","v":0},{"$f":"Congreso!J7*100","v":10.528930366116294},{"$f":"CONT_COL_COND(Hoja3!$B$1,N4)","v":0},52,{"$f":"O4*P4","v":0},{"$f":"Congreso!L7*100","v":4.55},{"$f":"CONT_COL_COND(Hoja3!$B$1,R4)","v":0},55,{"$f":"S4*T4","v":0},{"$f":"Congreso!N7*100","v":0},{"$f":"CONT_COL_COND(Hoja3!$B$1,V4)","v":0},55,{"$f":"W4*X4","v":0},{"$f":"MAX(B4,F4,J4,N4,R4,V4)","v":32.130000000000003},{"$f":"E4+I4+M4+Q4+U4+Y4","v":48},null,"Galicia","La Coruña",{"$f":"AA4","v":48}]
["Albacete",{"$f":"Congreso!D8*100","v":36.824338440111418},{"$f":"CONT_COL_COND(Hoja3!$B$1,B5)","v":1},48,48,{"$f":"Congreso!F8*100","v":27.763380281690143},{"$f":"CONT_COL_COND(Hoja3!$B$1,F5)","v":0},10,0,{"$f":"Congreso!H8*100","v":17.658888434818142},{"$f":"CONT_COL_COND(Hoja3!$B$1,J5)","v":0},20,0,{"$f":"Congreso!J8*100","v":15.479971284996408},{"$f":"CONT_COL_COND(Hoja3!$B$1,N5)","v":0},52,0,{"$f":"Congreso!L8*100","v":0},{"$f":"CONT_COL_COND(Hoja3!$B$1,R5)","v":0},55,0,{"$f":"Congreso!N8*100","v":0},{"$f":"CONT_COL_COND(Hoja3!$B$1,V5)","v":0},55,0,36.824338440111418,48,null,"Castilla-La Mancha","Albacete",48]
["Alicante / Alacant",{"$f":"Congreso!D9*100","v":32.827123955431752},{"$f":"CONT_COL_COND(Hoja3!$B$1,B6)","v":1},48,48,{"$f":"Congreso!F9*100","v":20.566197183098591},{"$f":"CONT_COL_COND(Hoja3!$B$1,F6)","v":0},10,0,{"$f":"Congreso!H9*100","v":25.537923988557417},{"$f":"CONT_COL_COND(Hoja3!$B$1,J6)","v":0},20,0,{"$f":"Congreso!J9*100","v":18.1148600143575},{"$f":"CONT_COL_COND(Hoja3!$B$1,N6)","v":0},52,0,{"$f":"Congreso!L9*100","v":0},{"$f":"CONT_COL_COND(Hoja3!$B$1,R6)","v":0},55,0,{"$f":"Congreso!N9*100","v":0},{"$f":"CONT_COL_COND(Hoja3!$B$1,V6)","v":0},55,0,32.827123955431752,48,null,"Valencia","Alicante",48]
["Almería",{"$f":"Congreso!D10*100","v":38.013509749303623},{"$f":"CONT_COL_COND(Hoja3!$B$1,B7)","v":1},48,48,{"$f":"Congreso!F10*100","v":28.433802816901409},{"$f":"CONT_COL_COND(Hoja3!$B$1,F7)","v":0},10,0,{"$f":"Congreso!H10*100","v":16.033837351859422},{"$f":"CONT_COL_COND(Hoja3!$B$1,J7)","v":0},20,0,{"$f":"Congreso!J10*100","v":15.256855707106961},{"$f":"CONT_COL_COND(Hoja3!$B$1,N7)","v":0},52,0,{"$f":"Congreso!L10*100","v":0},{"$f":"CONT_COL_COND(Hoja3!$B$1,R7)","v":0},55,0,{"$f":"Congreso!N10*100","v":0},{"$f":"CONT_COL_COND(Hoja3!$B$1,V7)","v":0},55,0,38.013509749303623,48,null,"Andalucía","Almería",48]
["Araba - Álava",{"$f":"Congreso!D11*100","v":18.786908077994426},{"$f":"CONT_COL_COND(Hoja3!$B$1,B8)","v":0},48,0,{"$f":"Congreso!F11*100","v":13.950704225352112},{"$f":"CONT_COL_COND(Hoja3!$B$1,F8)","v":0},10,0,{"$f":"Congreso!H11*100","v":30.334286881896201},{"$f":"CONT_COL_COND(Hoja3!$B$1,J8)","v":1},20,20,{"$f":"Congreso!J11*100","v":6.2259870782483837},{"$f":"CONT_COL_COND(Hoja3!$B$1,N8)","v":0},52,0,{"$f":"Congreso!L11*100","v":15.472932330827069},{"$f":"CONT_COL_COND(Hoja3!$B$1,R8)","v":0},55,0,{"$f":"Congreso!N11*100","v":12.258620689655173},{"$f":"CONT_COL_COND(Hoja3!$B$1,V8)","v":0},55,0,30.334286881896201,20,null,"País Vasco","Álava",20]
["Asturias",{"$f":"Congreso!D12*100","v":30.129004178272979},{"$f":"CONT_COL_COND(Hoja3!$B$1,B9)","v":1},48,48,{"$f":"Congreso!F12*100","v":22.942253521126759},{"$f":"CONT_COL_COND(Hoja3!$B$1,F9)","v":0},10,0,{"$f":"Congreso!H12*100","v":29.329709848794444},{"$f":"CONT_COL_COND(Hoja3!$B$1,J9)","v":0},20,0,{"$f":"Congreso!J12*100","v":14.406891600861446},{"$f":"CONT_COL_COND(Hoja3!$B$1,N9)","v":0},52,0,{"$f":"Congreso!L12*100","v":0},{"$f":"CONT_COL_COND(Hoja3!$B$1,R9)","v":0},55,0,{"$f":"Congreso!N12*100","v":0},{"$f":"CONT_COL_COND(Hoja3!$B$1,V9)","v":0},55,0,30.129004178272979,48,null,"Asturias","Asturias",48]
["Ávila",{"$f":"Congreso!D13*100","v":46.207799442896928},{"$f":"CONT_COL_COND(Hoja3!$B$1,B10)","v":1},48,48,{"$f":"Congreso!F13*100","v":19.540845070422534},{"$f":"CONT_COL_COND(Hoja3!$B$1,F10)","v":0},10,0,{"$f":"Congreso!H13*100","v":15.26563138536984},{"$f":"CONT_COL_COND(Hoja3!$B$1,J10)","v":0},20,0,{"$f":"Congreso!J13*100","v":16.62742282842785},{"$f":"CONT_COL_COND(Hoja3!$B$1,N10)","v":0},52,0,{"$f":"Congreso!L13*100","v":0},{"$f":"CONT_COL_COND(Hoja3!$B$1,R10)","v":0},55,0,{"$f":"Congreso!N13*100","v":0},{"$f":"CONT_COL_COND(Hoja3!$B$1,V10)","v":0},55,0,46.207799442896928,48,null,"Castilla y León","Ávila",48]
["Badajoz",{"$f":"Congreso!D14*100","v":34.46598189415041},{"$f":"CONT_COL_COND(Hoja3!$B$1,B11)","v":0},48,0,{"$f":"Congreso!F14*100","v":36.685915492957747},{"$f":"CONT_COL_COND(Hoja3!$B$1,F11)","v":1},10,10,{"$f":"Congreso!H14*100","v":14.694401307723743},{"$f":"CONT_COL_COND(Hoja3!$B$1,J11)","v":0},20,0,{"$f":"Congreso!J14*100","v":12.058865757358218},{"$f":"CONT_COL_COND(Hoja3!$B$1,N11)","v":0},52,0,{"$f":"Congreso!L14*100","v":0},{"$f":"CONT_COL_COND(Hoja3!$B$1,R11)","v":0},55,0,{"$f":"Congreso!N14*100","v":0},{"$f":"CONT_COL_COND(Hoja3!$B$1,V11)","v":0},55,0,36.685915492957747,10,null,"Extremadura","Badajoz",10]
["Barcelona",{"$f":"Congreso!D15*100","v":11.262151810584957},{"$f":"CONT_COL_COND(Hoja3!$B$1,B12)","v":0},48,0,{"$f":"Congreso!F15*100","v":16.040845070422534},{"$f":"CONT_COL_COND(Hoja3!$B$1,F12)","v":0},10,0,{"$f":"Congreso!H15*100","v":26.503105843890477},{"$f":"CONT_COL_COND(Hoja3!$B$1,J12)","v":1},20,20,{"$f":"Congreso!J15*100","v":14.396267049533378},{"$f":"CONT_COL_COND(Hoja3!$B$1,N12)","v":0},52,0,{"$f":"Congreso!L15*100","v":14.722222222222223},{"$f":"CONT_COL_COND(Hoja3!$B$1,R12)","v":0},55,0,{"$f":"Congreso!N15*100","v":13.934728033472805},{"$f":"CONT_COL_COND(Hoja3!$B$1,V12)","v":0},55,0,26.503105843890477,20,null,"Cataluña","Barcelona",20]
["Bizkaia",{"$f":"Congreso!D16*100","v":11.372075208913648},{"$f":"CONT_COL_COND(Hoja3!$B$1,B13)","v":0},48,0,{"$f":"Congreso!F16*100","v":12.787323943661974},{"$f":"CONT_COL_COND(Hoja3!$B$1,F13)","v":0},10,0,{"$f":"Congreso!H16*100","v":28.482713526767473},{"$f":"CONT_COL_COND(Hoja3!$B$1,J13)","v":1},20,20,{"$f":"Congreso!J16*100","v":4.0692031586503941},{"$f":"CONT_COL_COND(Hoja3!$B$1,N13)","v":0},52,0,{"$f":"Congreso!L16*100","v":27.3},{"$f":"CONT_COL_COND(Hoja3!$B$1,R13)","v":0},55,0,{"$f":"Congreso!N16*100","v":12.931034482758621},{"$f":"CONT_COL_COND(Hoja3!$B$1,V13)","v":0},55,0,28.482713526767473,20,null,"País Vasco","Vizcaya",20]
["Burgos",{"$f":"Congreso!D17*100","v":38.053481894150416},{"$f":"CONT_COL_COND(Hoja3!$B$1,B14)","v":1},48,48,{"$f":"Congreso!F17*100","v":20.418309859154931},{"$f":"CONT_COL_COND(Hoja3!$B$1,F14)","v":0},10,0,{"$f":"Congreso!H17*100","v":21.421127911728647},{"$f":"CONT_COL_COND(Hoja3!$B$1,J14)","v":0},20,0,{"$f":"Congreso!J17*100","v":16.510552763819096},{"$f":"CONT_COL_COND(Hoja3!$B$1,N14)","v":0},52,0,{"$f":"Congreso!L17*100","v":0},{"$f":"CONT_COL_COND(Hoja3!$B$1,R14)","v":0},55,0,{"$f":"Congreso!N17*100","v":0},{"$f":"CONT_COL_COND(Hoja3!$B$1,V14)","v":0},55,0,38.053481894150416,48,null,"Castilla y León","Burgos",48]
["Cáceres",{"$f":"Congreso!D18*100","v":35.325383008356539},{"$f":"CONT_COL_COND(Hoja3!$B$1,B15)","v":1},48,48,{"$f":"Congreso!F18*100","v":33.580281690140843},{"$f":"CONT_COL_COND(Hoja3!$B$1,F15)","v":0},10,0,{"$f":"Congreso!H18*100","v":16.575521046178995},{"$f":"CONT_COL_COND(Hoja3!$B$1,J15)","v":0},20,0,{"$f":"Congreso!J18*100","v":12.111988513998563},{"$f":"CONT_COL_COND(Hoja3!$B$1,N15)","v":0},52,0,{"$f":"Congreso!L18*100","v":0},{"$f":"CONT_COL_COND(Hoja3!$B$1,R15)","v":0},55,0,{"$f":"Congreso!N18*100","v":0},{"$f":"CONT_COL_COND(Hoja3!$B$1,V15)","v":0},55,0,35.325383008356539,48,null,"Extremadura","Cáceres",48]
["Cádiz",{"$f":"Congreso!D19*100","v":27.730675487465177},{"$f":"CONT_COL_COND(Hoja3!$B$1,B16)","v":1},48,48,{"$f":"Congreso!F19*100","v":27.605633802816904},{"$f":"CONT_COL_COND(Hoja3!$B$1,F16)","v":0},10,0,{"$f":"Congreso!H19*100","v":25.793992644053944},{"$f":"CONT_COL_COND(Hoja3!$B$1,J16)","v":0},20,0,{"$f":"Congreso!J19*100","v":15.596841349605167},{"$f":"CONT_COL_COND(Hoja3!$B$1,N16)","v":0},52,0,{"$f":"Congreso!L19*100","v":0},{"$f":"CONT_COL_COND(Hoja3!$B$1,R16)","v":0},55,0,{"$f":"Congreso!N19*100","v":0},{"$f":"CONT_COL_COND(Hoja3!$B$1,V16)","v":0},55,0,27.730675487465177,48,null,"Andalucía","Cádiz",48]
["Cantabria",{"$f":"Congreso!D20*100","v":36.914275766016708},{"$f":"CONT_COL_COND(Hoja3!$B$1,B17)","v":1},48,48,{"$f":"Congreso!F20*100","v":22.104225352112678},{"$f":"CONT_COL_COND(Hoja3!$B$1,F17)","v":0},10,0,{"$f":"Congreso!H20*100","v":21.923416428279523},{"$f":"CONT_COL_COND(Hoja3!$B$1,J17)","v":0},20,0,{"$f":"Congreso!J20*100","v":16.202440775305092},{"$f":"CONT_COL_COND(Hoja3!$B$1,N17)","v":0},52,0,{"$f":"Congreso!L20*100","v":0},{"$f":"CONT_COL_COND(Hoja3!$B$1,R17)","v":0},55,0,{"$f":"Congreso!N20*100","v":0},{"$f":"CONT_COL_COND(Hoja3!$B$1,V17)","v":0},55,0,36.914275766016708,48,null,"Cantabria","Cantabria",48]
["Castellón / Castelló",{"$f":"Congreso!D21*100","v":31.827820334261837},{"$f":"CONT_COL_COND(Hoja3!$B$1,B18)","v":1},48,48,{"$f":"Congreso!F21*100","v":21.216901408450706},{"$f":"CONT_COL_COND(Hoja3!$B$1,F18)","v":0},10,0,{"$f":"Congreso!H21*100","v":26.808418471597872},{"$f":"CONT_COL_COND(Hoja3!$B$1,J18)","v":0},20,0,{"$f":"Congreso!J21*100","v":16.595549174443644},{"$f":"CONT_COL_COND(Hoja3!$B$1,N18)","v":0},52,0,{"$f":"Congreso!L21*100","v":0},{"$f":"CONT_COL_COND(Hoja3!$B$1,R18)","v":0},55,0,{"$f":"Congreso!N21*100","v":0},{"$f":"CONT_COL_COND(Hoja3!$B$1,V18)","v":0},55,0,31.827820334261837,48,null,"Valencia","Castellón",48]
["Ceuta",40,{"$f":"CONT_COL_COND(Hoja3!$B$1,B19)","v":1},48,48,{"$f":"Congreso!F22*100","v":22.74507042253521},{"$f":"CONT_COL_COND(Hoja3!$B$1,F19)","v":0},10,0,{"$f":"Congreso!H22*100","v":15.127748263179402},{"$f":"CONT_COL_COND(Hoja3!$B$1,J19)","v":0},20,0,{"$f":"Congreso!J22*100","v":14.120028715003585},{"$f":"CONT_COL_COND(Hoja3!$B$1,N19)","v":0},52,0,{"$f":"Congreso!L22*100","v":0},{"$f":"CONT_COL_COND(Hoja3!$B$1,R19)","v":0},55,0,{"$f":"Congreso!N22*100","v":0},{"$f":"CONT_COL_COND(Hoja3!$B$1,V19)","v":0},55,0,40,48,null,"Ceuta","Ceuta",48]
["Ciudad Real",{"$f":"Congreso!D23*100","v":38.393245125348187},{"$f":"CONT_COL_COND(Hoja3!$B$1,B20)","v":1},48,48,{"$f":"Congreso!F23*100","v":30.691549295774649},{"$f":"CONT_COL_COND(Hoja3!$B$1,F20)","v":0},10,0,{"$f":"Congreso!H23*100","v":15.531548835308543},{"$f":"CONT_COL_COND(Hoja3!$B$1,J20)","v":0},20,0,{"$f":"Congreso!J23*100","v":13.100071787508972},{"$f":"CONT_COL_COND(Hoja3!$B$1,N20)","v":0},52,0,{"$f":"Congreso!L23*100","v":0},{"$f":"CONT_COL_COND(Hoja3!$B$1,R20)","v":0},55,0,{"$f":"Congreso!N23*100","v":0},{"$f":"CONT_COL_COND(Hoja3!$B$1,V20)","v":0},55,0,38.393245125348187,48,null,"Castilla-La Mancha","Ciudad Real",48]
["Cordoba",{"$f":"Congreso!D24*100","v":30.388823119777154},{"$f":"CONT_COL_COND(Hoja3!$B$1,B21)","v":0},48,0,{"$f":"Congreso!F24*100","v":31.608450704225355},{"$f":"CONT_COL_COND(Hoja3!$B$1,F21)","v":1},10,10,{"$f":"Congreso!H24*100","v":22.376460972619537},{"$f":"CONT_COL_COND(Hoja3!$B$1,J21)","v":0},20,0,{"$f":"Congreso!J24*100","v":12.675089734386216},{"$f":"CONT_COL_COND(Hoja3!$B$1,N21)","v":0},52,0,{"$f":"Congreso!L24*100","v":0},{"$f":"CONT_COL_COND(Hoja3!$B$1,R21)","v":0},55,0,{"$f":"Congreso!N24*100","v":0},{"$f":"CONT_COL_COND(Hoja3!$B$1,V21)","v":0},55,0,31.608450704225355,10,null,"Andalucía","Córdoba",10]
["Cuenca",{"$f":"Congreso!D25*100","v":41.900800835654593},{"$f":"CONT_COL_COND(Hoja3!$B$1,B22)","v":1},48,48,{"$f":"Congreso!F25*100","v":30.149295774647889},{"$f":"CONT_COL_COND(Hoja3!$B$1,F22)","v":0},10,0,{"$f":"Congreso!H25*100","v":14.398937474458521},{"$f":"CONT_COL_COND(Hoja3!$B$1,J22)","v":0},20,0,{"$f":"Congreso!J25*100","v":11.44264178033022},{"$f":"CONT_COL_COND(Hoja3!$B$1,N22)","v":0},52,0,{"$f":"Congreso!L25*100","v":0},{"$f":"CONT_COL_COND(Hoja3!$B$1,R22)","v":0},55,0,{"$f":"Congreso!N25*100","v":0},{"$f":"CONT_COL_COND(Hoja3!$B$1,V22)","v":0},55,0,41.900800835654593,48,null,"Castilla-La Mancha","Cuenca",48]
["Gipuzkoa",{"$f":"Congreso!D26*100","v":8.683948467966573},{"$f":"CONT_COL_COND(Hoja3!$B$1,B23)","v":0},48,0,{"$f":"Congreso!F26*100","v":13.122535211267605},{"$f":"CONT_COL_COND(Hoja3!$B$1,F23)","v":0},10,0,{"$f":"Congreso!H26*100","v":27.596322026971805},{"$f":"CONT_COL_COND(Hoja3!$B$1,J23)","v":1},20,20,{"$f":"Congreso!J26*100","v":3.9523330940416357},{"$f":"CONT_COL_COND(Hoja3!$B$1,N23)","v":0},52,0,{"$f":"Congreso!L26*100","v":22.979699248120301},{"$f":"CONT_COL_COND(Hoja3!$B$1,R23)","v":0},55,0,{"$f":"Congreso!N26*100","v":21.610344827586207},{"$f":"CONT_COL_COND(Hoja3!$B$1,V23)","v":0},55,0,27.596322026971805,20,null,"País Vasco","Guipúzcoa",20]
["Girona",{"$f":"Congreso!D27*100","v":8.5240598885793872},{"$f":"CONT_COL_COND(Hoja3!$B$1,B24)","v":0},48,0,{"$f":"Congreso!F27*100","v":12.481690140845069},{"$f":"CONT_COL_COND(Hoja3!$B$1,F24)","v":0},10,0,{"$f":"Congreso!H27*100","v":16.01413976297507},{"$f":"CONT_COL_COND(Hoja3!$B$1,J24)","v":0},20,0,{"$f":"Congreso!J27*100","v":10.465183058147881},{"$f":"CONT_COL_COND(Hoja3!$B$1,N24)","v":0},52,0,{"$f":"Congreso!L27*100","v":27.811111111111114},{"$f":"CONT_COL_COND(Hoja3!$B$1,R24)","v":1},55,55,{"$f":"Congreso!N27*100","v":22.557322175732217},{"$f":"CONT_COL_COND(Hoja3!$B$1,V24)","v":0},55,0,27.811111111111114,55,null,"Cataluña","Gerona",55]
["Granada",{"$f":"Congreso!D28*100","v":31.118314763231197},{"$f":"CONT_COL_COND(Hoja3!$B$1,B25)","v":1},48,48,{"$f":"Congreso!F28*100","v":30.56338028169014},{"$f":"CONT_COL_COND(Hoja3!$B$1,F25)","v":0},10,0,{"$f":"Congreso!H28*100","v":21.105966489579075},{"$f":"CONT_COL_COND(Hoja3!$B$1,J25)","v":0},20,0,{"$f":"Congreso!J28*100","v":14.757501794687721},{"$f":"CONT_COL_COND(Hoja3!$B$1,N25)","v":0},52,0,{"$f":"Congreso!L28*100","v":0},{"$f":"CONT_COL_COND(Hoja3!$B$1,R25)","v":0},55,0,{"$f":"Congreso!N28*100","v":0},{"$f":"CONT_COL_COND(Hoja3!$B$1,V25)","v":0},55,0,31.118314763231197,48,null,"Andalucía","Granada",48]
["Guadalajara",{"$f":"Congreso!D29*100","v":34.765772980501389},{"$f":"CONT_COL_COND(Hoja3!$B$1,B26)","v":1},48,48,{"$f":"Congreso!F29*100","v":22.212676056338029},{"$f":"CONT_COL_COND(Hoja3!$B$1,F26)","v":0},10,0,{"$f":"Congreso!H29*100","v":21.253698406211686},{"$f":"CONT_COL_COND(Hoja3!$B$1,J26)","v":0},20,0,{"$f":"Congreso!J29*100","v":19.18793969849246},{"$f":"CONT_COL_COND(Hoja3!$B$1,N26)","v":0},52,0,{"$f":"Congreso!L29*100","v":0},{"$f":"CONT_COL_COND(Hoja3!$B$1,R26)","v":0},55,0,{"$f":"Congreso!N29*100","v":0},{"$f":"CONT_COL_COND(Hoja3!$B$1,V26)","v":0},55,0,34.765772980501389,48,null,"Castilla-La Mancha","Guadalajara",48]
["Huelva",{"$f":"Congreso!D30*100","v":28.759958217270192},{"$f":"CONT_COL_COND(Hoja3!$B$1,B27)","v":0},48,0,{"$f":"Congreso!F30*100","v":36.419718309859157},{"$f":"CONT_COL_COND(Hoja3!$B$1,F27)","v":1},10,10,{"$f":"Congreso!H30*100","v":19.372578667756439},{"$f":"CONT_COL_COND(Hoja3!$B$1,J27)","v":0},20,0,{"$f":"Congreso!J30*100","v":12.611342426417801},{"$f":"CONT_COL_COND(Hoja3!$B$1,N27)","v":0},52,0,{"$f":"Congreso!L30*100","v":0},{"$f":"CONT_COL_COND(Hoja3!$B$1,R27)","v":0},55,0,{"$f":"Congreso!N30*100","v":0},{"$f":"CONT_COL_COND(Hoja3!$B$1,V27)","v":0},55,0,36.419718309859157,10,null,"Andalucía","Huelva",10]
["Huesca",{"$f":"Congreso!D31*100","v":32.577298050139277},{"$f":"CONT_COL_COND(Hoja3!$B$1,B28)","v":1},48,48,{"$f":"Congreso!F31*100","v":24.361971830985915},{"$f":"CONT_COL_COND(Hoja3!$B$1,F28)","v":0},10,0,{"$f":"Congreso!H31*100","v":22.809807928075195},{"$f":"CONT_COL_COND(Hoja3!$B$1,J28)","v":0},20,0,{"$f":"Congreso!J31*100","v":17.222397702799711},{"$f":"CONT_COL_COND(Hoja3!$B$1,N28)","v":0},52,0,{"$f":"Congreso!L31*100","v":0},{"$f":"CONT_COL_COND(Hoja3!$B$1,R28)","v":0},55,0,{"$f":"Congreso!N31*100","v":0},{"$f":"CONT_COL_COND(Hoja3!$B$1,V28)","v":0},55,0,32.577298050139277,48,null,"Aragón","Huesca",48]
["Illes Balears",{"$f":"Congreso!D32*100","v":29.049756267409471},{"$f":"CONT_COL_COND(Hoja3!$B$1,B29)","v":0},48,0,{"$f":"Congreso!F32*100","v":18.052112676056339},{"$f":"CONT_COL_COND(Hoja3!$B$1,F29)","v":0},10,0,{"$f":"Congreso!H32*100","v":31.949489170412754},{"$f":"CONT_COL_COND(Hoja3!$B$1,J29)","v":1},20,20,{"$f":"Congreso!J32*100","v":15.703086862885854},{"$f":"CONT_COL_COND(Hoja3!$B$1,N29)","v":0},52,0,{"$f":"Congreso!L32*100","v":0},{"$f":"CONT_COL_COND(Hoja3!$B$1,R29)","v":0},55,0,{"$f":"Congreso!N32*100","v":0},{"$f":"CONT_COL_COND(Hoja3!$B$1,V29)","v":0},55,0,31.949489170412754,20,null,"Islas Baleares","Islas Baleares",20]
["Jaén",{"$f":"Congreso!D33*100","v":31.478064066852362},{"$f":"CONT_COL_COND(Hoja3!$B$1,B30)","v":0},48,0,{"$f":"Congreso!F33*100","v":37.819718309859155},{"$f":"CONT_COL_COND(Hoja3!$B$1,F30)","v":1},10,10,{"$f":"Congreso!H33*100","v":16.565672251736817},{"$f":"CONT_COL_COND(Hoja3!$B$1,J30)","v":0},20,0,{"$f":"Congreso!J33*100","v":11.347020818377601},{"$f":"CONT_COL_COND(Hoja3!$B$1,N30)","v":0},52,0,{"$f":"Congreso!L33*100","v":0},{"$f":"CONT_COL_COND(Hoja3!$B$1,R30)","v":0},55,0,{"$f":"Congreso!N33*100","v":0},{"$f":"CONT_COL_COND(Hoja3!$B$1,V30)","v":0},55,0,37.819718309859155,10,null,"Andalucía","Jaén",10]
["La Rioja",{"$f":"Congreso!D34*100","v":38.323293871866291},{"$f":"CONT_COL_COND(Hoja3!$B$1,B31)","v":1},48,48,{"$f":"Congreso!F34*100","v":23.376056338028171},{"$f":"CONT_COL_COND(Hoja3!$B$1,F31)","v":0},10,0,{"$f":"Congreso!H34*100","v":19.707437678790356},{"$f":"CONT_COL_COND(Hoja3!$B$1,J31)","v":0},20,0,{"$f":"Congreso!J34*100","v":16.074946159368267},{"$f":"CONT_COL_COND(Hoja3!$B$1,N31)","v":0},52,0,{"$f":"Congreso!L34*100","v":0},{"$f":"CONT_COL_COND(Hoja3!$B$1,R31)","v":0},55,0,{"$f":"Congreso!N34*100","v":0},{"$f":"CONT_COL_COND(Hoja3!$B$1,V31)","v":0},55,0,38.323293871866291,48,null,"La Rioja","La Rioja",48]
["Las Palmas",{"$f":"Congreso!D35*100","v":28.160376044568242},{"$f":"CONT_COL_COND(Hoja3!$B$1,B32)","v":0},48,0,{"$f":"Congreso!F35*100","v":22.084507042253524},{"$f":"CONT_COL_COND(Hoja3!$B$1,F32)","v":0},10,0,{"$f":"Congreso!H35*100","v":28.955455659991824},{"$f":"CONT_COL_COND(Hoja3!$B$1,J32)","v":1},20,20,{"$f":"Congreso!J35*100","v":13.036324479540559},{"$f":"CONT_COL_COND(Hoja3!$B$1,N32)","v":0},52,0,{"$f":"Congreso!L35*100","v":0},{"$f":"CONT_COL_COND(Hoja3!$B$1,R32)","v":0},55,0,{"$f":"Congreso!N35*100","v":0},{"$f":"CONT_COL_COND(Hoja3!$B$1,V32)","v":0},55,0,28.955455659991824,20,null,"Islas Canarias","Las Palmas",20]
["León",{"$f":"Congreso!D36*100","v":35.595194986072421},{"$f":"CONT_COL_COND(Hoja3!$B$1,B33)","v":1},48,48,{"$f":"Congreso!F36*100","v":25.01267605633803},{"$f":"CONT_COL_COND(Hoja3!$B$1,F33)","v":0},10,0,{"$f":"Congreso!H36*100","v":22.012055578259094},{"$f":"CONT_COL_COND(Hoja3!$B$1,J33)","v":0},20,0,{"$f":"Congreso!J36*100","v":13.780043072505382},{"$f":"CONT_COL_COND(Hoja3!$B$1,N33)","v":0},52,0,{"$f":"Congreso!L36*100","v":0},{"$f":"CONT_COL_COND(Hoja3!$B$1,R33)","v":0},55,0,{"$f":"Congreso!N36*100","v":0},{"$f":"CONT_COL_COND(Hoja3!$B$1,V33)","v":0},55,0,35.595194986072421,48,null,"Castilla y León","León",48]
["Lleida",{"$f":"Congreso!D37*100","v":11.252158774373259},{"$f":"CONT_COL_COND(Hoja3!$B$1,B34)","v":0},48,0,{"$f":"Congreso!F37*100","v":12.2943661971831},{"$f":"CONT_COL_COND(Hoja3!$B$1,F34)","v":0},10,0,{"$f":"Congreso!H37*100","v":15.108050674295056},{"$f":"CONT_COL_COND(Hoja3!$B$1,J34)","v":0},20,0,{"$f":"Congreso!J37*100","v":9.5514716439339544},{"$f":"CONT_COL_COND(Hoja3!$B$1,N34)","v":0},52,0,{"$f":"Congreso!L37*100","v":26.977777777777778},{"$f":"CONT_COL_COND(Hoja3!$B$1,R34)","v":1},55,55,{"$f":"Congreso!N37*100","v":21.421757322175729},{"$f":"CONT_COL_COND(Hoja3!$B$1,V34)","v":0},55,0,26.977777777777778,55,null,"Cataluña","Lérida",55]
["Lugo",{"$f":"Congreso!D38*100","v":42.480396935933143},{"$f":"CONT_COL_COND(Hoja3!$B$1,B35)","v":1},48,48,{"$f":"Congreso!F38*100","v":23.642253521126761},{"$f":"CONT_COL_COND(Hoja3!$B$1,F35)","v":0},10,0,{"$f":"Congreso!H38*100","v":18.968778095627297},{"$f":"CONT_COL_COND(Hoja3!$B$1,J35)","v":0},20,0,{"$f":"Congreso!J38*100","v":8.0746590093323753},{"$f":"CONT_COL_COND(Hoja3!$B$1,N35)","v":0},52,0,{"$f":"Congreso!L38*100","v":3.5700000000000003},{"$f":"CONT_COL_COND(Hoja3!$B$1,R35)","v":0},55,0,{"$f":"Congreso!N38*100","v":0},{"$f":"CONT_COL_COND(Hoja3!$B$1,V35)","v":0},55,0,42.480396935933143,48,null,"Galicia","Lugo",48]
["Madrid",{"$f":"Congreso!D39*100","v":33.436699164345399},{"$f":"CONT_COL_COND(Hoja3!$B$1,B36)","v":1},48,{"$f":"C36*D36","v":48},{"$f":"Congreso!F39*100","v":17.61830985915493},{"$f":"CONT_COL_COND(Hoja3!$B$1,F36)","v":0},10,{"$f":"G36*H36","v":0},{"$f":"Congreso!H39*100","v":25.725051082958721},{"$f":"CONT_COL_COND(Hoja3!$B$1,J36)","v":0},20,{"$f":"K36*L36","v":0},{"$f":"Congreso!J39*100","v":19.974156496769556},{"$f":"CONT_COL_COND(Hoja3!$B$1,N36)","v":0},52,{"$f":"O36*P36","v":0},{"$f":"Congreso!L39*100","v":0},{"$f":"CONT_COL_COND(Hoja3!$B$1,R36)","v":0},55,{"$f":"S36*T36","v":0},{"$f":"Congreso!N39*100","v":0},{"$f":"CONT_COL_COND(Hoja3!$B$1,V36)","v":0},55,{"$f":"W36*X36","v":0},{"$f":"MAX(B36,F36,J36,N36,R36,V36)","v":33.436699164345399},{"$f":"E36+I36+M36+Q36+U36+Y36","v":48},null,"Madrid","Madrid",{"$f":"AA36","v":48}]
["Málaga",{"$f":"Congreso!D40*100","v":28.949825905292474},{"$f":"CONT_COL_COND(Hoja3!$B$1,B37)","v":1},48,48,{"$f":"Congreso!F40*100","v":26.540845070422534},{"$f":"CONT_COL_COND(Hoja3!$B$1,F37)","v":0},10,0,{"$f":"Congreso!H40*100","v":23.528769922353902},{"$f":"CONT_COL_COND(Hoja3!$B$1,J37)","v":0},20,0,{"$f":"Congreso!J40*100","v":18.136109117013635},{"$f":"CONT_COL_COND(Hoja3!$B$1,N37)","v":0},52,0,{"$f":"Congreso!L40*100","v":0},{"$f":"CONT_COL_COND(Hoja3!$B$1,R37)","v":0},55,0,{"$f":"Congreso!N40*100","v":0},{"$f":"CONT_COL_COND(Hoja3!$B$1,V37)","v":0},55,0,28.949825905292474,48,null,"Andalucía","Málaga",48]
["Melilla",{"$f":"Congreso!D41*100","v":43.89940807799443},{"$f":"CONT_COL_COND(Hoja3!$B$1,B38)","v":1},48,48,{"$f":"Congreso!F41*100","v":24.243661971830988},{"$f":"CONT_COL_COND(Hoja3!$B$1,F38)","v":0},10,0,{"$f":"Congreso!H41*100","v":12.537515324887616},{"$f":"CONT_COL_COND(Hoja3!$B$1,J38)","v":0},20,0,{"$f":"Congreso!J41*100","v":16.521177315147163},{"$f":"CONT_COL_COND(Hoja3!$B$1,N38)","v":0},52,0,{"$f":"Congreso!L41*100","v":0},{"$f":"CONT_COL_COND(Hoja3!$B$1,R38)","v":0},55,0,{"$f":"Congreso!N41*100","v":0},{"$f":"CONT_COL_COND(Hoja3!$B$1,V38)","v":0},55,0,43.89940807799443,48,null,"Melilla","Melilla",48]
["Murcia",{"$f":"Congreso!D42*100","v":40.411838440111417},{"$f":"CONT_COL_COND(Hoja3!$B$1,B39)","v":1},48,48,{"$f":"Congreso!F42*100","v":20.033802816901407},{"$f":"CONT_COL_COND(Hoja3!$B$1,F39)","v":0},10,0,{"$f":"Congreso!H42*100","v":18.01344503473641},{"$f":"CONT_COL_COND(Hoja3!$B$1,J39)","v":0},20,0,{"$f":"Congreso!J42*100","v":18.77358219669777},{"$f":"CONT_COL_COND(Hoja3!$B$1,N39)","v":0},52,0,{"$f":"Congreso!L42*100","v":0},{"$f":"CONT_COL_COND(Hoja3!$B$1,R39)","v":0},55,0,{"$f":"Congreso!N42*100","v":0},{"$f":"CONT_COL_COND(Hoja3!$B$1,V39)","v":0},55,0,40.411838440111417,48,null,"Murcia","Murcia",48]
["Navarra",{"$f":"Congreso!D43*100","v":28.909853760445682},{"$f":"CONT_COL_COND(Hoja3!$B$1,B40)","v":1},48,48,{"$f":"Congreso!F43*100","v":15.311267605633802},{"$f":"CONT_COL_COND(Hoja3!$B$1,F40)","v":0},10,0,{"$f":"Congreso!H43*100","v":26.690232938291786},{"$f":"CONT_COL_COND(Hoja3!$B$1,J40)","v":0},20,0,{"$f":"Congreso!J43*100","v":7.4903086862885839},{"$f":"CONT_COL_COND(Hoja3!$B$1,N40)","v":0},52,0,{"$f":"Congreso!L43*100","v":8.68},{"$f":"CONT_COL_COND(Hoja3!$B$1,R40)","v":0},55,0,{"$f":"Congreso!N43*100","v":10.241379310344827},{"$f":"CONT_COL_COND(Hoja3!$B$1,V40)","v":0},55,0,28.909853760445682,48,null,"Navarra","Navarra",48]
["Ourense",{"$f":"Congreso!D44*100","v":44.878725626740945},{"$f":"CONT_COL_COND(Hoja3!$B$1,B41)","v":1},48,48,{"$f":"Congreso!F44*100","v":22.87323943661972},{"$f":"CONT_COL_COND(Hoja3!$B$1,F41)","v":0},10,0,{"$f":"Congreso!H44*100","v":17.570249284838578},{"$f":"CONT_COL_COND(Hoja3!$B$1,J41)","v":0},20,0,{"$f":"Congreso!J44*100","v":8.3615218951902346},{"$f":"CONT_COL_COND(Hoja3!$B$1,N41)","v":0},52,0,{"$f":"Congreso!L44*100","v":3.34},{"$f":"CONT_COL_COND(Hoja3!$B$1,R41)","v":0},55,0,{"$f":"Congreso!N44*100","v":0},{"$f":"CONT_COL_COND(Hoja3!$B$1,V41)","v":0},55,0,44.878725626740945,48,null,"Galicia","Orense",48]
["Palencia",{"$f":"Congreso!D45*100","v":40.311908077994424},{"$f":"CONT_COL_COND(Hoja3!$B$1,B42)","v":1},48,48,{"$f":"Congreso!F45*100","v":24.214084507042255},{"$f":"CONT_COL_COND(Hoja3!$B$1,F42)","v":0},10,0,{"$f":"Congreso!H45*100","v":17.629342051491619},{"$f":"CONT_COL_COND(Hoja3!$B$1,J42)","v":0},20,0,{"$f":"Congreso!J45*100","v":15.044364680545582},{"$f":"CONT_COL_COND(Hoja3!$B$1,N42)","v":0},52,0,{"$f":"Congreso!L45*100","v":0},{"$f":"CONT_COL_COND(Hoja3!$B$1,R42)","v":0},55,0,{"$f":"Congreso!N45*100","v":0},{"$f":"CONT_COL_COND(Hoja3!$B$1,V42)","v":0},55,0,40.311908077994424,48,null,"Castilla y León","Palencia",48]
["Pontevedra",{"$f":"Congreso!D46*100","v":34.436002785515321},{"$f":"CONT_COL_COND(Hoja3!$B$1,B43)","v":1},48,48,{"$f":"Congreso!F46*100","v":20.526760563380282},{"$f":"CONT_COL_COND(Hoja3!$B$1,F43)","v":0},10,0,{"$f":"Congreso!H46*100","v":27.527380465876583},{"$f":"CONT_COL_COND(Hoja3!$B$1,J43)","v":0},20,0,{"$f":"Congreso!J46*100","v":9.562096195262022},{"$f":"CONT_COL_COND(Hoja3!$B$1,N43)","v":0},52,0,{"$f":"Congreso!L46*100","v":4.6500000000000004},{"$f":"CONT_COL_COND(Hoja3!$B$1,R43)","v":0},55,0,{"$f":"Congreso!N46*100","v":0},{"$f":"CONT_COL_COND(Hoja3!$B$1,V43)","v":0},55,0,34.436002785515321,48,null,"Galicia","Pontevedra",48]
["Salamanca",{"$f":"Congreso!D47*100","v":42.710236768802226},{"$f":"CONT_COL_COND(Hoja3!$B$1,B44)","v":1},48,48,{"$f":"Congreso!F47*100","v":21.443661971830984},{"$f":"CONT_COL_COND(Hoja3!$B$1,F44)","v":0},10,0,{"$f":"Congreso!H47*100","v":15.354270535349407},{"$f":"CONT_COL_COND(Hoja3!$B$1,J44)","v":0},20,0,{"$f":"Congreso!J47*100","v":17.902368987796123},{"$f":"CONT_COL_COND(Hoja3!$B$1,N44)","v":0},52,0,{"$f":"Congreso!L47*100","v":0},{"$f":"CONT_COL_COND(Hoja3!$B$1,R44)","v":0},55,0,{"$f":"Congreso!N47*100","v":0},{"$f":"CONT_COL_COND(Hoja3!$B$1,V44)","v":0},55,0,42.710236768802226,48,null,"Castilla y León","Salamanca",48]
["Santa Cruz de Tenerife",{"$f":"Congreso!D48*100","v":28.909853760445682},{"$f":"CONT_COL_COND(Hoja3!$B$1,B45)","v":1},48,48,{"$f":"Congreso!F48*100","v":21.236619718309861},{"$f":"CONT_COL_COND(Hoja3!$B$1,F45)","v":0},10,0,{"$f":"Congreso!H48*100","v":22.799959133633017},{"$f":"CONT_COL_COND(Hoja3!$B$1,J45)","v":0},20,0,{"$f":"Congreso!J48*100","v":11.166403445800428},{"$f":"CONT_COL_COND(Hoja3!$B$1,N45)","v":0},52,0,{"$f":"Congreso!L48*100","v":15.236363636363636},{"$f":"CONT_COL_COND(Hoja3!$B$1,R45)","v":0},55,0,{"$f":"Congreso!N48*100","v":0},{"$f":"CONT_COL_COND(Hoja3!$B$1,V45)","v":0},55,0,28.909853760445682,48,null,"Islas Canarias","Santa Cruz de Tenerife",48]
["Segovia",{"$f":"Congreso!D49*100","v":39.412534818941495},{"$f":"CONT_COL_COND(Hoja3!$B$1,B46)","v":1},48,48,{"$f":"Congreso!F49*100","v":21.226760563380282},{"$f":"CONT_COL_COND(Hoja3!$B$1,F46)","v":0},10,0,{"$f":"Congreso!H49*100","v":18.052840212505107},{"$f":"CONT_COL_COND(Hoja3!$B$1,J46)","v":0},20,0,{"$f":"Congreso!J49*100","v":18.125484565685568},{"$f":"CONT_COL_COND(Hoja3!$B$1,N46)","v":0},52,0,{"$f":"Congreso!L49*100","v":0},{"$f":"CONT_COL_COND(Hoja3!$B$1,R46)","v":0},55,0,{"$f":"Congreso!N49*100","v":0},{"$f":"CONT_COL_COND(Hoja3!$B$1,V46)","v":0},55,0,39.412534818941495,48,null,"Castilla y León","Segovia",48]
["Sevilla",{"$f":"Congreso!D50*100","v":25.172458217270194},{"$f":"CONT_COL_COND(Hoja3!$B$1,B47)","v":0},48,0,{"$f":"Congreso!F50*100","v":33.481690140845075},{"$f":"CONT_COL_COND(Hoja3!$B$1,F47)","v":1},10,10,{"$f":"Congreso!H50*100","v":24.336371066612177},{"$f":"CONT_COL_COND(Hoja3!$B$1,J47)","v":0},20,0,{"$f":"Congreso!J50*100","v":13.833165829145727},{"$f":"CONT_COL_COND(Hoja3!$B$1,N47)","v":0},52,0,{"$f":"Congreso!L50*100","v":0},{"$f":"CONT_COL_COND(Hoja3!$B$1,R47)","v":0},55,0,{"$f":"Congreso!N50*100","v":0},{"$f":"CONT_COL_COND(Hoja3!$B$1,V47)","v":0},55,0,33.481690140845075,10,null,"Andalucía","Sevilla",10]
["Soria",{"$f":"Congreso!D51*100","v":38.633077994428966},{"$f":"CONT_COL_COND(Hoja3!$B$1,B48)","v":1},48,48,{"$f":"Congreso!F51*100","v":23.484507042253522},{"$f":"CONT_COL_COND(Hoja3!$B$1,F48)","v":0},10,0,{"$f":"Congreso!H51*100","v":19.283939517776869},{"$f":"CONT_COL_COND(Hoja3!$B$1,J48)","v":0},20,0,{"$f":"Congreso!J51*100","v":16.117444364680541},{"$f":"CONT_COL_COND(Hoja3!$B$1,N48)","v":0},52,0,{"$f":"Congreso!L51*100","v":0},{"$f":"CONT_COL_COND(Hoja3!$B$1,R48)","v":0},55,0,{"$f":"Congreso!N51*100","v":0},{"$f":"CONT_COL_COND(Hoja3!$B$1,V48)","v":0},55,0,38.633077994428966,48,null,"Castilla y León","Soria",48]
["Tarragona",{"$f":"Congreso!D52*100","v":12.211490250696377},{"$f":"CONT_COL_COND(Hoja3!$B$1,B49)","v":0},48,0,{"$f":"Congreso!F52*100","v":15.577464788732396},{"$f":"CONT_COL_COND(Hoja3!$B$1,F49)","v":0},10,0,{"$f":"Congreso!H52*100","v":20.337760523089496},{"$f":"CONT_COL_COND(Hoja3!$B$1,J49)","v":1},20,20,{"$f":"Congreso!J52*100","v":15.118736539842065},{"$f":"CONT_COL_COND(Hoja3!$B$1,N49)","v":0},52,0,{"$f":"Congreso!L52*100","v":17.011111111111113},{"$f":"CONT_COL_COND(Hoja3!$B$1,R49)","v":0},55,0,{"$f":"Congreso!N52*100","v":16.821757322175731},{"$f":"CONT_COL_COND(Hoja3!$B$1,V49)","v":0},55,0,20.337760523089496,20,null,"Cataluña","Tarragona",20]
["Teruel",{"$f":"Congreso!D53*100","v":36.434610027855143},{"$f":"CONT_COL_COND(Hoja3!$B$1,B50)","v":1},48,48,{"$f":"Congreso!F53*100","v":25.278873239436621},{"$f":"CONT_COL_COND(Hoja3!$B$1,F50)","v":0},10,0,{"$f":"Congreso!H53*100","v":19.943808745402531},{"$f":"CONT_COL_COND(Hoja3!$B$1,J50)","v":0},20,0,{"$f":"Congreso!J53*100","v":15.639339554917441},{"$f":"CONT_COL_COND(Hoja3!$B$1,N50)","v":0},52,0,{"$f":"Congreso!L53*100","v":0},{"$f":"CONT_COL_COND(Hoja3!$B$1,R50)","v":0},55,0,{"$f":"Congreso!N53*100","v":0},{"$f":"CONT_COL_COND(Hoja3!$B$1,V50)","v":0},55,0,36.434610027855143,48,null,"Aragón","Teruel",48]
["Toledo",{"$f":"Congreso!D54*100","v":38.762987465181062},{"$f":"CONT_COL_COND(Hoja3!$B$1,B51)","v":1},48,48,{"$f":"Congreso!F54*100","v":27.369014084507043},{"$f":"CONT_COL_COND(Hoja3!$B$1,F51)","v":0},10,0,{"$f":"Congreso!H54*100","v":16.880833673886393},{"$f":"CONT_COL_COND(Hoja3!$B$1,J51)","v":0},20,0,{"$f":"Congreso!J54*100","v":14.661880832735102},{"$f":"CONT_COL_COND(Hoja3!$B$1,N51)","v":0},52,0,{"$f":"Congreso!L54*100","v":0},{"$f":"CONT_COL_COND(Hoja3!$B$1,R51)","v":0},55,0,{"$f":"Congreso!N54*100","v":0},{"$f":"CONT_COL_COND(Hoja3!$B$1,V51)","v":0},55,0,38.762987465181062,48,null,"Castilla-La Mancha","Toledo",48]
["Valencia / València",{"$f":"Congreso!D55*100","v":30.198955431754875},{"$f":"CONT_COL_COND(Hoja3!$B$1,B52)","v":0},48,0,{"$f":"Congreso!F55*100","v":18.58450704225352},{"$f":"CONT_COL_COND(Hoja3!$B$1,F52)","v":0},10,0,{"$f":"Congreso!H55*100","v":31.27977114834491},{"$f":"CONT_COL_COND(Hoja3!$B$1,J52)","v":1},20,20,{"$f":"Congreso!J55*100","v":16.074946159368267},{"$f":"CONT_COL_COND(Hoja3!$B$1,N52)","v":0},52,0,{"$f":"Congreso!L55*100","v":0},{"$f":"CONT_COL_COND(Hoja3!$B$1,R52)","v":0},55,0,{"$f":"Congreso!N55*100","v":0},{"$f":"CONT_COL_COND(Hoja3!$B$1,V52)","v":0},55,0,31.27977114834491,20,null,"Valencia","Valencia",20]
["Valladolid",{"$f":"Congreso!D56*100","v":36.934261838440108},{"$f":"CONT_COL_COND(Hoja3!$B$1,B53)","v":1},48,48,{"$f":"Congreso!F56*100","v":21.285915492957745},{"$f":"CONT_COL_COND(Hoja3!$B$1,F53)","v":0},10,0,{"$f":"Congreso!H56*100","v":20.367306906416019},{"$f":"CONT_COL_COND(Hoja3!$B$1,J53)","v":0},20,0,{"$f":"Congreso!J56*100","v":18.178607322325913},{"$f":"CONT_COL_COND(Hoja3!$B$1,N53)","v":0},52,0,{"$f":"Congreso!L56*100","v":0},{"$f":"CONT_COL_COND(Hoja3!$B$1,R53)","v":0},55,0,{"$f":"Congreso!N56*100","v":0},{"$f":"CONT_COL_COND(Hoja3!$B$1,V53)","v":0},55,0,36.934261838440108,48,null,"Castilla y León","Valladolid",48]
["Zamora",{"$f":"Congreso!D57*100","v":42.55034818941504},{"$f":"CONT_COL_COND(Hoja3!$B$1,B54)","v":1},48,48,{"$f":"Congreso!F57*100","v":22.656338028169014},{"$f":"CONT_COL_COND(Hoja3!$B$1,F54)","v":0},10,0,{"$f":"Congreso!H57*100","v":18.584675112382509},{"$f":"CONT_COL_COND(Hoja3!$B$1,J54)","v":0},20,0,{"$f":"Congreso!J57*100","v":13.726920315865037},{"$f":"CONT_COL_COND(Hoja3!$B$1,N54)","v":0},52,0,{"$f":"Congreso!L57*100","v":0},{"$f":"CONT_COL_COND(Hoja3!$B$1,R54)","v":0},55,0,{"$f":"Congreso!N57*100","v":0},{"$f":"CONT_COL_COND(Hoja3!$B$1,V54)","v":0},55,0,42.55034818941504,48,null,"Castilla y León","Zamora",48]
["Zaragoza",{"$f":"Congreso!D58*100","v":30.288892757660165},{"$f":"CONT_COL_COND(Hoja3!$B$1,B55)","v":1},48,48,{"$f":"Congreso!F58*100","v":21.985915492957748},{"$f":"CONT_COL_COND(Hoja3!$B$1,F55)","v":0},10,0,{"$f":"Congreso!H58*100","v":25.340948099713934},{"$f":"CONT_COL_COND(Hoja3!$B$1,J55)","v":0},20,0,{"$f":"Congreso!J58*100","v":18.922325915290735},{"$f":"CONT_COL_COND(Hoja3!$B$1,N55)","v":0},52,0,{"$f":"Congreso!L58*100","v":0},{"$f":"CONT_COL_COND(Hoja3!$B$1,R55)","v":0},55,0,{"$f":"Congreso!N58*100","v":0},{"$f":"CONT_COL_COND(Hoja3!$B$1,V55)","v":0},55,0,30.288892757660165,48,null,"Aragón","Zaragoza",48]